PDS_VERSION_ID = PDS3
/* FILE DATA ELEMENTS */
RECORD_TYPE = UNDEFINED
/* POINTERS TO DATA OBJECTS */
^IMAGE = ("HM096_0000_IR4.TIF")
/* IDENTIFICATION DATA ELEMENTS */
DATA_SET_ID = "MEX-M-HRSC-4-REFDR-MAPPROJECT-EXT8-V4.0"
DATA_SET_NAME = "MARS EXPRESS HRSC MAP PROJECTED REFDR EXTENSION8 V4.0"
DETECTOR_ID = MEX_HRSC_IR
EVENT_TYPE = "MARS-LOCAL-CARTOGRAPHY-Im-Gl-Pf"
INSTRUMENT_HOST_ID = MEX
INSTRUMENT_HOST_NAME = "MARS EXPRESS"
INSTRUMENT_ID = HRSC
INSTRUMENT_NAME = "HIGH RESOLUTION STEREO CAMERA"
MISSION_NAME = "MARS EXPRESS"
MISSION_PHASE_NAME = ME_Phase_44
PROCESSING_LEVEL_ID = 4
PRODUCT_CREATION_TIME = 2023-01-25T08:48:24.000Z
PRODUCT_ID = "HM096_0000_IR4.TIF"
RELEASE_ID = 0001
REVISION_ID = 0000
/* QUALITY DATA ELEMENTS */
DATA_QUALITY_ID = 1
DATA_QUALITY_DESC = "Data calculated based on original SPICE kernels"
/* TIME DATA ELEMENTS */
SPACECRAFT_CLOCK_START_COUNT = "1/0572825659.25686"
SPACECRAFT_CLOCK_STOP_COUNT = "1/0572826016.39543"
START_TIME = 2021-06-26T22:15:01.481Z
STOP_TIME = 2021-06-26T22:19:43.532Z
/* ORBITAL DATA ELEMENTS */
ASCENDING_NODE_LONGITUDE = 161.48
MAXIMUM_RESOLUTION = 0.0648
FOOTPRINT_POINT_LATITUDE = (62.8313,62.8548,62.8611,62.8582,62.858 ,62.7584,62.3835,61.8278,61.4586, 60.9058,60.5432,60.1793,59.6356,59.2783 ,58.7414,58.3828,58.032,57.6798,57.3274 ,56.7995,56.4543,56.1082,55.7616, 55.4141,55.0689,54.7293,54.3893,54.0482 ,53.7067,53.3642,53.0258,52.3569, 51.6874,51.015,50.341,49.6654,49.3269, 48.9879,48.6487,48.3092,47.9694,47.6292 ,47.2883,46.9473,46.6058,46.2641, 45.9222,45.5797,45.4086,45.3783,45.3542 ,45.3312,45.294,45.2929,45.2936,45.808, 46.1506,46.4929,46.8349,47.1766,47.518, 47.8591,48.1998,48.5401,48.8801,49.2195 ,49.7281,50.0668,50.4053,51.0801, 51.5853,52.2572,52.9273,53.4383,53.7808 ,54.2938,54.6349,54.9757,55.3213, 55.6698,56.0177,56.3647,56.7115,57.2408 ,57.5946,57.948,58.3004,58.6594,59.0194 ,59.3783,59.7367,60.1029,60.4683, 60.8329,61.3877,61.7588,62.1287,62.5058 ,62.6942,62.8313)
FOOTPRINT_POINT_LONGITUDE = (204.251,202.796,201.721,200.673, 200.641,200.705,200.768,200.858,200.915 ,200.996,201.047,201.097,201.167, 201.211,201.275,201.315,201.353,201.391 ,201.427,201.478,201.51,201.541,201.571 ,201.601,201.628,201.655,201.68,201.705 ,201.73,201.753,201.775,201.817,201.855 ,201.891,201.924,201.955,201.97,201.984 ,201.998,202.01,202.023,202.034,202.046 ,202.057,202.067,202.077,202.086, 202.095,202.1,202.1,202.794,203.342, 204.103,204.122,204.129,204.138,204.144 ,204.15,204.156,204.162,204.168,204.174 ,204.18,204.186,204.192,204.198,204.208 ,204.214,204.219,204.232,204.242, 204.254,204.267,204.277,204.284,204.294 ,204.3,204.307,204.314,204.321,204.328, 204.336,204.343,204.354,204.361,204.369 ,204.376,204.384,204.392,204.4,204.409, 204.417,204.425,204.434,204.447,204.455 ,204.465,204.474,204.479,204.251)
ORBIT_NUMBER = 22096
ORBITAL_ECCENTRICITY = 0.572
ORBITAL_INCLINATION = 87.02
ORBITAL_SEMIMAJOR_AXIS = 8796.81
PERIAPSIS_ALTITUDE = 380.4
PERIAPSIS_ARGUMENT_ANGLE = 134.7
PERIAPSIS_TIME = 2021-06-26T22:20:14.000Z
SPACECRAFT_ORIENTATION = (0.0,-1.0,0.0)
^MEX_ORIENTATION_DESC = "MEX_ORIENTATION_DESC.TXT"
SPACECRAFT_POINTING_MODE = ACROSSTRACK
^MEX_POINTING_DESC = "MEX_POINTING_DESC.TXT"
RIGHT_ASCENSION = -1e+32
DECLINATION = -1e+32
OFFSET_ANGLE = 1.346
SPACECRAFT_SOLAR_DISTANCE = 2.49031e+08
TARGET_NAME = MARS
/* CAMERA DATA ELEMENTS */
DETECTOR_TEMPERATURE = 17.1471
FOCAL_PLANE_TEMPERATURE = 7.9716
INST_CMPRS_NAME = "DISCRETE COSINE TRANSFORMATION (DCT)"
INST_CMPRS_RATIO = 9.64488
INST_CMPRS_QUALITY = 0
INST_CMPRS_QUANTZ_TBL_ID = 0
INSTRUMENT_TEMPERATURE = 10.8262
LENS_TEMPERATURE = 8.5833
MACROPIXEL_SIZE = 4
MISSING_FRAMES = 0
PIXEL_SUBSAMPLING_FLAG = N
SIGNAL_CHAIN_ID = 2
/* RADIOMETRIC DATA ELEMENTS */
BANDWIDTH = 81.0
CENTER_FILTER_WAVELENGTH = 955.5
RADIANCE_OFFSET = 0.738075
RADIANCE_SCALING_FACTOR = 0.00523751
REFLECTANCE_SCALING_FACTOR = 0.000700744
MEX:REFLECTANCE_OFFSET = 0.0987496
/* IMAGE OBJECT DEFINITIONS */
OBJECT = IMAGE
  INTERCHANGE_FORMAT = BINARY
  LINES = 20673
  LINE_SAMPLES = 2147
  SAMPLE_TYPE = UNSIGNED_INTEGER
  SAMPLE_BITS = 8
  BANDS = 1
  BAND_STORAGE_TYPE = BAND_SEQUENTIAL
  MAXIMUM = 255
  MEAN = 130.376
  MINIMUM = 1
  STANDARD_DEVIATION = 64.0827
END_OBJECT = IMAGE
/* MAP OBJECT DEFINITIONS */
OBJECT = IMAGE_MAP_PROJECTION
  ^DATA_SET_MAP_PROJECTION_CATALOG= "DSMAP.CAT"
  A_AXIS_RADIUS = 3396.0
  B_AXIS_RADIUS = 3396.0
  C_AXIS_RADIUS = 3396.0
  CENTER_LATITUDE = 0.0
  CENTER_LONGITUDE = 203.0
  COORDINATE_SYSTEM_NAME = PLANETOGRAPHIC
  COORDINATE_SYSTEM_TYPE = "BODY-FIXED ROTATING"
  EASTERNMOST_LONGITUDE = 204.479
  FIRST_STANDARD_PARALLEL = "N/A"
  LINE_FIRST_PIXEL = 1
  LINE_LAST_PIXEL = 20673
  LINE_PROJECTION_OFFSET = 74440.875
  MAP_PROJECTION_ROTATION = 0.0
  MAP_PROJECTION_TYPE = SINUSOIDAL
  MAP_RESOLUTION = 1185.42760773333
  MAP_SCALE = 0.05
  MAXIMUM_LATITUDE = 62.8611
  MINIMUM_LATITUDE = 45.2929
  POSITIVE_LONGITUDE_DIRECTION = EAST
  REFERENCE_LATITUDE = "N/A"
  REFERENCE_LONGITUDE = "N/A"
  SAMPLE_FIRST_PIXEL = 1
  SAMPLE_LAST_PIXEL = 2147
  SAMPLE_PROJECTION_OFFSET = 1221.875
  SECOND_STANDARD_PARALLEL = "N/A"
  WESTERNMOST_LONGITUDE = 200.641
END_OBJECT = IMAGE_MAP_PROJECTION
END
