PDS_VERSION_ID = PDS3
/* FILE DATA ELEMENTS */
RECORD_TYPE = UNDEFINED
/* POINTERS TO DATA OBJECTS */
^IMAGE = ("HM096_0000_P24.TIF")
/* IDENTIFICATION DATA ELEMENTS */
DATA_SET_ID = "MEX-M-HRSC-4-REFDR-MAPPROJECT-EXT8-V4.0"
DATA_SET_NAME = "MARS EXPRESS HRSC MAP PROJECTED REFDR EXTENSION8 V4.0"
DETECTOR_ID = MEX_HRSC_P2
EVENT_TYPE = "MARS-LOCAL-CARTOGRAPHY-Im-Gl-Pf"
INSTRUMENT_HOST_ID = MEX
INSTRUMENT_HOST_NAME = "MARS EXPRESS"
INSTRUMENT_ID = HRSC
INSTRUMENT_NAME = "HIGH RESOLUTION STEREO CAMERA"
MISSION_NAME = "MARS EXPRESS"
MISSION_PHASE_NAME = ME_Phase_44
PROCESSING_LEVEL_ID = 4
PRODUCT_CREATION_TIME = 2023-01-25T08:48:24.000Z
PRODUCT_ID = "HM096_0000_P24.TIF"
RELEASE_ID = 0001
REVISION_ID = 0000
/* QUALITY DATA ELEMENTS */
DATA_QUALITY_ID = 1
DATA_QUALITY_DESC = "Data calculated based on original SPICE kernels"
/* TIME DATA ELEMENTS */
SPACECRAFT_CLOCK_START_COUNT = "1/0572825659.25686"
SPACECRAFT_CLOCK_STOP_COUNT = "1/0572826016.39543"
START_TIME = 2021-06-26T22:16:06.542Z
STOP_TIME = 2021-06-26T22:20:36.273Z
/* ORBITAL DATA ELEMENTS */
ASCENDING_NODE_LONGITUDE = 161.48
MAXIMUM_RESOLUTION = 0.0319
FOOTPRINT_POINT_LATITUDE = (62.7641,62.7235,62.6831,62.6374, 62.6359,62.7191,62.1592,61.7935,61.2454 ,60.8797,60.5156,59.9798,59.6223, 59.2649,58.7295,58.3808,58.0317,57.6828 ,57.3333,56.8092,56.4654,56.1251, 55.7845,55.2734,54.9328,54.592,54.0811, 53.7404,53.4002,53.0589,52.718,52.2071, 51.8663,51.3553,51.0148,50.5039,50.1636 ,49.6531,49.313,48.973,48.4631,48.1231, 47.7833,47.4438,47.1046,46.5959,45.9183 ,45.5351,45.3659,45.3386,45.3634, 45.3893,45.4197,45.4204,45.4212,45.9744 ,46.3138,46.6534,46.993,47.3328,47.6728 ,48.013,48.3534,48.6938,49.0345,49.3752 ,49.7161,50.0571,50.3978,50.7385, 51.0806,51.4218,51.7633,52.2756,52.6171 ,53.1295,53.471,53.9834,54.4961,55.0085 ,55.5209,55.8625,56.2041,56.7163, 57.2399,57.5905,57.9408,58.4663,58.8166 ,59.1733,59.5324,60.0708,60.609,60.9739 ,61.3412,61.8921,62.2593,62.6332, 62.8212,62.7641)
FOOTPRINT_POINT_LONGITUDE = (204.126,202.845,201.804,200.795, 200.763,200.808,200.895,200.949,201.026 ,201.076,201.123,201.19,201.233,201.274 ,201.332,201.369,201.404,201.439, 201.472,201.519,201.549,201.577,201.605 ,201.644,201.669,201.693,201.728,201.75 ,201.772,201.792,201.812,201.841, 201.859,201.884,201.901,201.924,201.939 ,201.96,201.973,201.986,202.004,202.015 ,202.026,202.036,202.046,202.06,202.076 ,202.085,202.089,202.089,202.638, 203.263,204.097,204.117,204.125,204.133 ,204.137,204.142,204.147,204.152, 204.156,204.161,204.166,204.17,204.175, 204.18,204.185,204.189,204.193,204.197, 204.203,204.208,204.213,204.22,204.225, 204.232,204.236,204.243,204.251,204.258 ,204.265,204.269,204.274,204.281, 204.288,204.293,204.297,204.304,204.309 ,204.314,204.319,204.326,204.333, 204.337,204.341,204.348,204.353,204.357 ,204.36,204.126)
ORBIT_NUMBER = 22096
ORBITAL_ECCENTRICITY = 0.572
ORBITAL_INCLINATION = 87.02
ORBITAL_SEMIMAJOR_AXIS = 8796.81
PERIAPSIS_ALTITUDE = 380.4
PERIAPSIS_ARGUMENT_ANGLE = 134.7
PERIAPSIS_TIME = 2021-06-26T22:20:14.000Z
SPACECRAFT_ORIENTATION = (0.0,-1.0,0.0)
^MEX_ORIENTATION_DESC = "MEX_ORIENTATION_DESC.TXT"
SPACECRAFT_POINTING_MODE = ACROSSTRACK
^MEX_POINTING_DESC = "MEX_POINTING_DESC.TXT"
RIGHT_ASCENSION = -1e+32
DECLINATION = -1e+32
OFFSET_ANGLE = 1.346
SPACECRAFT_SOLAR_DISTANCE = 2.49031e+08
TARGET_NAME = MARS
/* CAMERA DATA ELEMENTS */
DETECTOR_TEMPERATURE = 18.3705
FOCAL_PLANE_TEMPERATURE = 7.9716
INST_CMPRS_NAME = "DISCRETE COSINE TRANSFORMATION (DCT)"
INST_CMPRS_RATIO = 7.11582
INST_CMPRS_QUALITY = 0
INST_CMPRS_QUANTZ_TBL_ID = 0
INSTRUMENT_TEMPERATURE = 10.8262
LENS_TEMPERATURE = 8.5833
MACROPIXEL_SIZE = 2
PIXEL_SUBSAMPLING_FLAG = N
SIGNAL_CHAIN_ID = 3
/* RADIOMETRIC DATA ELEMENTS */
BANDWIDTH = 177.0
CENTER_FILTER_WAVELENGTH = 676.5
RADIANCE_OFFSET = 2.93638
RADIANCE_SCALING_FACTOR = 0.0172135
REFLECTANCE_SCALING_FACTOR = 0.000566021
MEX:REFLECTANCE_OFFSET = 0.0965553
/* IMAGE OBJECT DEFINITIONS */
OBJECT = IMAGE
  INTERCHANGE_FORMAT = BINARY
  LINES = 41346
  LINE_SAMPLES = 4294
  SAMPLE_TYPE = UNSIGNED_INTEGER
  SAMPLE_BITS = 8
  BANDS = 1
  BAND_STORAGE_TYPE = BAND_SEQUENTIAL
  MAXIMUM = 255
  MEAN = 143.212
  MINIMUM = 1
  STANDARD_DEVIATION = 54.6935
END_OBJECT = IMAGE
/* MAP OBJECT DEFINITIONS */
OBJECT = IMAGE_MAP_PROJECTION
  ^DATA_SET_MAP_PROJECTION_CATALOG= "DSMAP.CAT"
  A_AXIS_RADIUS = 3396.0
  B_AXIS_RADIUS = 3396.0
  C_AXIS_RADIUS = 3396.0
  CENTER_LATITUDE = 0.0
  CENTER_LONGITUDE = 203.0
  COORDINATE_SYSTEM_NAME = PLANETOGRAPHIC
  COORDINATE_SYSTEM_TYPE = "BODY-FIXED ROTATING"
  EASTERNMOST_LONGITUDE = 204.36
  FIRST_STANDARD_PARALLEL = "N/A"
  LINE_FIRST_PIXEL = 1
  LINE_LAST_PIXEL = 41346
  LINE_PROJECTION_OFFSET = 148882.25
  MAP_PROJECTION_ROTATION = 0.0
  MAP_PROJECTION_TYPE = SINUSOIDAL
  MAP_RESOLUTION = 2370.85521546667
  MAP_SCALE = 0.025
  MAXIMUM_LATITUDE = 62.8212
  MINIMUM_LATITUDE = 45.3386
  POSITIVE_LONGITUDE_DIRECTION = EAST
  REFERENCE_LATITUDE = "N/A"
  REFERENCE_LONGITUDE = "N/A"
  SAMPLE_FIRST_PIXEL = 1
  SAMPLE_LAST_PIXEL = 4294
  SAMPLE_PROJECTION_OFFSET = 2444.25
  SECOND_STANDARD_PARALLEL = "N/A"
  WESTERNMOST_LONGITUDE = 200.763
END_OBJECT = IMAGE_MAP_PROJECTION
END
