PDS_VERSION_ID = PDS3
/* FILE DATA ELEMENTS */
RECORD_TYPE = UNDEFINED
/* POINTERS TO DATA OBJECTS */
^IMAGE = ("HM102_0000_BL4.TIF")
/* IDENTIFICATION DATA ELEMENTS */
DATA_SET_ID = "MEX-M-HRSC-4-REFDR-MAPPROJECT-EXT8-V4.0"
DATA_SET_NAME = "MARS EXPRESS HRSC MAP PROJECTED REFDR EXTENSION8 V4.0"
DETECTOR_ID = MEX_HRSC_BLUE
EVENT_TYPE = "MARS-LOCAL-CARTOGRAPHY-Vo-Im-Fl"
INSTRUMENT_HOST_ID = MEX
INSTRUMENT_HOST_NAME = "MARS EXPRESS"
INSTRUMENT_ID = HRSC
INSTRUMENT_NAME = "HIGH RESOLUTION STEREO CAMERA"
MISSION_NAME = "MARS EXPRESS"
MISSION_PHASE_NAME = ME_Phase_44
PROCESSING_LEVEL_ID = 4
PRODUCT_CREATION_TIME = 2023-01-25T08:48:24.000Z
PRODUCT_ID = "HM102_0000_BL4.TIF"
RELEASE_ID = 0001
REVISION_ID = 0000
/* QUALITY DATA ELEMENTS */
DATA_QUALITY_ID = 1
DATA_QUALITY_DESC = "Data calculated based on original SPICE kernels"
/* TIME DATA ELEMENTS */
SPACECRAFT_CLOCK_START_COUNT = "1/0572977093.24920"
SPACECRAFT_CLOCK_STOP_COUNT = "1/0572977371.17140"
START_TIME = 2021-06-28T16:19:36.039Z
STOP_TIME = 2021-06-28T16:22:29.401Z
/* ORBITAL DATA ELEMENTS */
ASCENDING_NODE_LONGITUDE = 161.37
MAXIMUM_RESOLUTION = 0.0746
FOOTPRINT_POINT_LATITUDE = (26.4336,26.4365,26.4376,26.4383, 26.4386,26.4384,26.4378,26.4378,26.4459 ,26.1557,25.8652,25.4792,25.0871, 24.5955,24.1998,23.7992,23.4001,23.095, 22.8917,22.4859,22.1771,21.9705,21.7642 ,21.5582,21.3493,21.1394,20.9298, 20.7204,20.5113,20.3026,20.0942,19.886, 19.6781,19.4706,19.2632,19.0561,18.8493 ,18.6429,18.4369,18.2311,17.9225, 17.7174,17.5126,17.3081,17.1038,16.8999 ,16.6961,16.3907,16.2894,16.2408, 16.2372,16.2329,16.2266,16.2199,16.2146 ,16.2105,16.2101,16.2112,16.4146, 16.6184,16.8226,17.0271,17.3342,17.5392 ,17.746,17.9509,18.1571,18.3635,18.5703 ,18.7772,18.9846,19.1924,19.4003, 19.6082,19.8165,20.0253,20.2344,20.4436 ,20.6531,20.8628,21.0729,21.2833, 21.4938,21.7002,21.9071,22.1141,22.4246 ,22.8314,23.0352,23.4418,23.7422, 24.0429,24.5407,25.0335,25.4278,25.7173 ,26.0084,26.2987,26.3959,26.4336)
FOOTPRINT_POINT_LONGITUDE = (308.898,308.453,308.188,307.921, 307.653,307.384,307.13,307.113,307.08, 307.079,307.079,307.078,307.073,307.07, 307.067,307.064,307.06,307.056,307.053, 307.047,307.043,307.04,307.036,307.033, 307.029,307.026,307.022,307.018,307.014 ,307.01,307.006,307.001,306.997,306.992 ,306.987,306.983,306.978,306.973, 306.968,306.963,306.956,306.951,306.945 ,306.94,306.934,306.929,306.924,306.916 ,306.913,306.911,307.246,307.6,308.031, 308.461,308.752,308.984,309.004,309.01, 309.008,309.006,309.004,309.003,309.0, 308.998,308.997,308.994,308.993,308.991 ,308.989,308.987,308.985,308.983, 308.981,308.979,308.977,308.975,308.973 ,308.971,308.969,308.967,308.965, 308.962,308.96,308.958,308.956,308.954, 308.95,308.946,308.944,308.939,308.936, 308.932,308.927,308.921,308.916,308.912 ,308.909,308.905,308.904,308.898)
ORBIT_NUMBER = 22102
ORBITAL_ECCENTRICITY = 0.572
ORBITAL_INCLINATION = 87.02
ORBITAL_SEMIMAJOR_AXIS = 8795.87
PERIAPSIS_ALTITUDE = 381.24
PERIAPSIS_ARGUMENT_ANGLE = 133.69
PERIAPSIS_TIME = 2021-06-28T16:14:15.000Z
SPACECRAFT_ORIENTATION = (0.0,-1.0,0.0)
^MEX_ORIENTATION_DESC = "MEX_ORIENTATION_DESC.TXT"
SPACECRAFT_POINTING_MODE = ACROSSTRACK
^MEX_POINTING_DESC = "MEX_POINTING_DESC.TXT"
RIGHT_ASCENSION = -1e+32
DECLINATION = -1e+32
OFFSET_ANGLE = -0.539
SPACECRAFT_SOLAR_DISTANCE = 2.4907e+08
TARGET_NAME = MARS
/* CAMERA DATA ELEMENTS */
DETECTOR_TEMPERATURE = 18.3705
FOCAL_PLANE_TEMPERATURE = 8.3794
INST_CMPRS_NAME = "DISCRETE COSINE TRANSFORMATION (DCT)"
INST_CMPRS_RATIO = 7.72877
INST_CMPRS_QUALITY = 0
INST_CMPRS_QUANTZ_TBL_ID = 0
INSTRUMENT_TEMPERATURE = 11.4379
LENS_TEMPERATURE = 8.7872
MACROPIXEL_SIZE = 4
MISSING_FRAMES = 0
PIXEL_SUBSAMPLING_FLAG = N
SIGNAL_CHAIN_ID = 2
/* RADIOMETRIC DATA ELEMENTS */
BANDWIDTH = 76.0
CENTER_FILTER_WAVELENGTH = 444.0
RADIANCE_OFFSET = 0.462184
RADIANCE_SCALING_FACTOR = 0.0016217
REFLECTANCE_SCALING_FACTOR = 0.000103365
MEX:REFLECTANCE_OFFSET = 0.0294589
/* IMAGE OBJECT DEFINITIONS */
OBJECT = IMAGE
  INTERCHANGE_FORMAT = BINARY
  LINES = 12128
  LINE_SAMPLES = 2373
  SAMPLE_TYPE = UNSIGNED_INTEGER
  SAMPLE_BITS = 8
  BANDS = 1
  BAND_STORAGE_TYPE = BAND_SEQUENTIAL
  MAXIMUM = 255
  MEAN = 157.395
  MINIMUM = 1
  STANDARD_DEVIATION = 20.4088
END_OBJECT = IMAGE
/* MAP OBJECT DEFINITIONS */
OBJECT = IMAGE_MAP_PROJECTION
  ^DATA_SET_MAP_PROJECTION_CATALOG= "DSMAP.CAT"
  A_AXIS_RADIUS = 3396.0
  B_AXIS_RADIUS = 3396.0
  C_AXIS_RADIUS = 3396.0
  CENTER_LATITUDE = 0.0
  CENTER_LONGITUDE = 308.0
  COORDINATE_SYSTEM_NAME = PLANETOGRAPHIC
  COORDINATE_SYSTEM_TYPE = "BODY-FIXED ROTATING"
  EASTERNMOST_LONGITUDE = 309.01
  FIRST_STANDARD_PARALLEL = "N/A"
  LINE_FIRST_PIXEL = 1
  LINE_LAST_PIXEL = 12128
  LINE_PROJECTION_OFFSET = 31341.375
  MAP_PROJECTION_ROTATION = 0.0
  MAP_PROJECTION_TYPE = SINUSOIDAL
  MAP_RESOLUTION = 1185.42760773333
  MAP_SCALE = 0.05
  MAXIMUM_LATITUDE = 26.4459
  MINIMUM_LATITUDE = 16.2101
  POSITIVE_LONGITUDE_DIRECTION = EAST
  REFERENCE_LATITUDE = "N/A"
  REFERENCE_LONGITUDE = "N/A"
  SAMPLE_FIRST_PIXEL = 1
  SAMPLE_LAST_PIXEL = 2373
  SAMPLE_PROJECTION_OFFSET = 1238.625
  SECOND_STANDARD_PARALLEL = "N/A"
  WESTERNMOST_LONGITUDE = 306.911
END_OBJECT = IMAGE_MAP_PROJECTION
END
