PDS_VERSION_ID = PDS3
/* FILE DATA ELEMENTS */
RECORD_TYPE = UNDEFINED
/* POINTERS TO DATA OBJECTS */
^IMAGE = ("HM103_0000_GR4.TIF")
/* IDENTIFICATION DATA ELEMENTS */
DATA_SET_ID = "MEX-M-HRSC-4-REFDR-MAPPROJECT-EXT8-V4.0"
DATA_SET_NAME = "MARS EXPRESS HRSC MAP PROJECTED REFDR EXTENSION8 V4.0"
DETECTOR_ID = MEX_HRSC_GREEN
EVENT_TYPE = "MARS-LOCAL-CARTOGRAPHY-Im-Gl-Pf"
INSTRUMENT_HOST_ID = MEX
INSTRUMENT_HOST_NAME = "MARS EXPRESS"
INSTRUMENT_ID = HRSC
INSTRUMENT_NAME = "HIGH RESOLUTION STEREO CAMERA"
MISSION_NAME = "MARS EXPRESS"
MISSION_PHASE_NAME = ME_Phase_44
PROCESSING_LEVEL_ID = 4
PRODUCT_CREATION_TIME = 2023-01-25T08:48:24.000Z
PRODUCT_ID = "HM103_0000_GR4.TIF"
RELEASE_ID = 0001
REVISION_ID = 0000
/* QUALITY DATA ELEMENTS */
DATA_QUALITY_ID = 1
DATA_QUALITY_DESC = "Data calculated based on original SPICE kernels"
/* TIME DATA ELEMENTS */
SPACECRAFT_CLOCK_START_COUNT = "1/0573001651.25666"
SPACECRAFT_CLOCK_STOP_COUNT = "1/0573002006.63911"
START_TIME = 2021-06-28T23:08:42.268Z
STOP_TIME = 2021-06-28T23:13:17.589Z
/* ORBITAL DATA ELEMENTS */
ASCENDING_NODE_LONGITUDE = 161.35
MAXIMUM_RESOLUTION = 0.0615
FOOTPRINT_POINT_LATITUDE = (62.9337,62.8893,62.8372,62.7565, 62.7544,62.7232,62.3639,62.004,61.6447, 61.292,60.9386,60.5847,60.2305,59.8843, 59.5374,59.1902,58.8422,58.4971,58.1571 ,57.8167,57.4759,57.1346,56.6251,55.958 ,55.2892,54.6192,53.9478,53.275,52.6012 ,52.2638,51.9262,51.5883,51.2502, 50.9118,50.5733,49.9687,49.6295,49.2902 ,48.9506,48.611,48.2711,47.7611,47.4209 ,47.0806,46.7402,46.3997,46.0591, 45.7184,45.548,45.4573,45.4918,45.5127, 45.5276,45.5281,45.5293,46.0423,46.3842 ,46.7261,47.0678,47.4095,47.7512, 48.0927,48.4341,48.7754,49.1166,49.4576 ,49.7985,50.1392,50.7466,51.0868, 51.4269,51.7668,52.1064,52.4458,52.7851 ,53.124,53.4627,53.8012,54.1394,54.815, 55.4895,56.1627,56.8347,57.3502,57.6942 ,58.0378,58.381,58.7238,59.2497,59.6005 ,59.9508,60.3006,60.6562,61.0141, 61.3714,61.7282,62.272,62.6363,62.8182, 62.9337)
FOOTPRINT_POINT_LONGITUDE = (204.386,203.413,202.427,201.113, 201.082,200.913,201.033,201.149,201.261 ,201.367,201.469,201.57,201.667,201.759 ,201.849,201.937,202.022,202.104, 202.183,202.259,202.334,202.406,202.511 ,202.642,202.765,202.883,202.995, 203.101,203.202,203.25,203.298,203.344, 203.389,203.433,203.476,203.549,203.588 ,203.627,203.664,203.701,203.737, 203.789,203.822,203.855,203.886,203.917 ,203.947,203.976,203.99,203.998,204.828 ,205.424,205.922,205.939,205.945, 205.921,205.904,205.887,205.869,205.851 ,205.833,205.814,205.795,205.775, 205.755,205.735,205.714,205.692,205.653 ,205.63,205.607,205.584,205.559,205.535 ,205.509,205.483,205.457,205.43,205.402 ,205.345,205.285,205.223,205.157, 205.104,205.068,205.031,204.993,204.954 ,204.892,204.85,204.806,204.761,204.714 ,204.666,204.616,204.565,204.484, 204.428,204.399,204.386)
ORBIT_NUMBER = 22103
ORBITAL_ECCENTRICITY = 0.572
ORBITAL_INCLINATION = 87.02
ORBITAL_SEMIMAJOR_AXIS = 8795.35
PERIAPSIS_ALTITUDE = 380.98
PERIAPSIS_ARGUMENT_ANGLE = 133.49
PERIAPSIS_TIME = 2021-06-28T23:13:09.000Z
SPACECRAFT_ORIENTATION = (0.0,-1.0,0.0)
^MEX_ORIENTATION_DESC = "MEX_ORIENTATION_DESC.TXT"
SPACECRAFT_POINTING_MODE = ACROSSTRACK
^MEX_POINTING_DESC = "MEX_POINTING_DESC.TXT"
RIGHT_ASCENSION = -1e+32
DECLINATION = -1e+32
OFFSET_ANGLE = -0.808
SPACECRAFT_SOLAR_DISTANCE = 2.49077e+08
TARGET_NAME = MARS
/* CAMERA DATA ELEMENTS */
DETECTOR_TEMPERATURE = 18.5744
FOCAL_PLANE_TEMPERATURE = 7.7677
INST_CMPRS_NAME = "DISCRETE COSINE TRANSFORMATION (DCT)"
INST_CMPRS_RATIO = 20.2859
INST_CMPRS_QUALITY = 0
INST_CMPRS_QUANTZ_TBL_ID = 0
INSTRUMENT_TEMPERATURE = 9.8067
LENS_TEMPERATURE = 8.7872
MACROPIXEL_SIZE = 4
PIXEL_SUBSAMPLING_FLAG = N
SIGNAL_CHAIN_ID = 2
/* RADIOMETRIC DATA ELEMENTS */
BANDWIDTH = 88.0
CENTER_FILTER_WAVELENGTH = 538.0
RADIANCE_OFFSET = 0.865425
RADIANCE_SCALING_FACTOR = 0.00493647
REFLECTANCE_SCALING_FACTOR = 0.000263676
MEX:REFLECTANCE_OFFSET = 0.0462256
/* IMAGE OBJECT DEFINITIONS */
OBJECT = IMAGE
  INTERCHANGE_FORMAT = BINARY
  LINES = 20676
  LINE_SAMPLES = 3299
  SAMPLE_TYPE = UNSIGNED_INTEGER
  SAMPLE_BITS = 8
  BANDS = 1
  BAND_STORAGE_TYPE = BAND_SEQUENTIAL
  MAXIMUM = 255
  MEAN = 142.281
  MINIMUM = 1
  STANDARD_DEVIATION = 39.5251
END_OBJECT = IMAGE
/* MAP OBJECT DEFINITIONS */
OBJECT = IMAGE_MAP_PROJECTION
  ^DATA_SET_MAP_PROJECTION_CATALOG= "DSMAP.CAT"
  A_AXIS_RADIUS = 3396.0
  B_AXIS_RADIUS = 3396.0
  C_AXIS_RADIUS = 3396.0
  CENTER_LATITUDE = 0.0
  CENTER_LONGITUDE = 204.0
  COORDINATE_SYSTEM_NAME = PLANETOGRAPHIC
  COORDINATE_SYSTEM_TYPE = "BODY-FIXED ROTATING"
  EASTERNMOST_LONGITUDE = 205.945
  FIRST_STANDARD_PARALLEL = "N/A"
  LINE_FIRST_PIXEL = 1
  LINE_LAST_PIXEL = 20676
  LINE_PROJECTION_OFFSET = 74580.375
  MAP_PROJECTION_ROTATION = 0.0
  MAP_PROJECTION_TYPE = SINUSOIDAL
  MAP_RESOLUTION = 1185.42760773333
  MAP_SCALE = 0.05
  MAXIMUM_LATITUDE = 62.9337
  MINIMUM_LATITUDE = 45.4573
  POSITIVE_LONGITUDE_DIRECTION = EAST
  REFERENCE_LATITUDE = "N/A"
  REFERENCE_LONGITUDE = "N/A"
  SAMPLE_FIRST_PIXEL = 1
  SAMPLE_LAST_PIXEL = 3299
  SAMPLE_PROJECTION_OFFSET = 1681.875
  SECOND_STANDARD_PARALLEL = "N/A"
  WESTERNMOST_LONGITUDE = 200.913
END_OBJECT = IMAGE_MAP_PROJECTION
END
