PDS_VERSION_ID = PDS3
/* FILE DATA ELEMENTS */
RECORD_TYPE = UNDEFINED
/* POINTERS TO DATA OBJECTS */
^IMAGE = ("HM103_0000_IR4.TIF")
/* IDENTIFICATION DATA ELEMENTS */
DATA_SET_ID = "MEX-M-HRSC-4-REFDR-MAPPROJECT-EXT8-V4.0"
DATA_SET_NAME = "MARS EXPRESS HRSC MAP PROJECTED REFDR EXTENSION8 V4.0"
DETECTOR_ID = MEX_HRSC_IR
EVENT_TYPE = "MARS-LOCAL-CARTOGRAPHY-Im-Gl-Pf"
INSTRUMENT_HOST_ID = MEX
INSTRUMENT_HOST_NAME = "MARS EXPRESS"
INSTRUMENT_ID = HRSC
INSTRUMENT_NAME = "HIGH RESOLUTION STEREO CAMERA"
MISSION_NAME = "MARS EXPRESS"
MISSION_PHASE_NAME = ME_Phase_44
PROCESSING_LEVEL_ID = 4
PRODUCT_CREATION_TIME = 2023-01-25T08:48:24.000Z
PRODUCT_ID = "HM103_0000_IR4.TIF"
RELEASE_ID = 0001
REVISION_ID = 0000
/* QUALITY DATA ELEMENTS */
DATA_QUALITY_ID = 1
DATA_QUALITY_DESC = "Data calculated based on original SPICE kernels"
/* TIME DATA ELEMENTS */
SPACECRAFT_CLOCK_START_COUNT = "1/0573001651.25666"
SPACECRAFT_CLOCK_STOP_COUNT = "1/0573002006.63911"
START_TIME = 2021-06-28T23:08:13.029Z
STOP_TIME = 2021-06-28T23:12:54.350Z
/* ORBITAL DATA ELEMENTS */
ASCENDING_NODE_LONGITUDE = 161.35
MAXIMUM_RESOLUTION = 0.0643
FOOTPRINT_POINT_LATITUDE = (63.0292,62.9696,62.9007,62.7951, 62.7923,62.678,62.3148,61.9571,61.5977, 61.0604,60.7073,60.3532,59.8235,59.2935 ,58.9446,58.4228,58.0806,57.7378, 57.3942,56.88,56.543,56.2058,55.8673, 55.5286,55.0223,54.3596,53.6939,53.0264 ,52.6918,52.3566,52.021,51.685,51.3484, 51.0114,50.6739,50.3361,49.9977,49.6588 ,49.1494,48.5441,48.2036,47.8629, 47.3504,47.0086,46.6664,46.3239,45.981, 45.6379,45.4662,45.424,45.4832,45.5439, 45.5447,45.5461,46.0634,46.5793,46.9232 ,47.2667,47.61,47.9531,48.2958,48.638, 49.2462,49.5874,49.9282,50.2687,50.6086 ,50.9483,51.2875,51.6263,51.9647, 52.3026,52.6402,52.9771,53.3132,53.817, 54.487,55.155,55.6642,56.0056,56.3462, 56.6864,57.026,57.3705,57.7179,58.0646, 58.4105,58.7554,59.1089,59.4615,59.8216 ,60.1728,60.5313,61.0686,61.4261,61.79, 62.1542,62.6992,62.8844,63.0292)
FOOTPRINT_POINT_LONGITUDE = (204.429,203.419,202.397,201.038, 201.005,200.863,200.986,201.103,201.217 ,201.379,201.482,201.583,201.727, 201.865,201.953,202.079,202.159,202.237 ,202.313,202.424,202.493,202.56,202.626 ,202.69,202.783,202.899,203.009,203.115 ,203.165,203.215,203.263,203.31,203.356 ,203.4,203.444,203.487,203.528,203.569, 203.627,203.694,203.73,203.766,203.817, 203.85,203.882,203.914,203.944,203.974, 203.988,203.992,204.861,205.923,205.941 ,205.947,205.923,205.898,205.881, 205.864,205.846,205.828,205.81,205.791, 205.757,205.737,205.716,205.696,205.675 ,205.653,205.631,205.608,205.585, 205.562,205.538,205.513,205.488,205.45, 205.396,205.34,205.296,205.265,205.234, 205.202,205.169,205.135,205.1,205.064, 205.027,204.99,204.95,204.91,204.867, 204.824,204.779,204.71,204.662,204.612, 204.56,204.48,204.452,204.429)
ORBIT_NUMBER = 22103
ORBITAL_ECCENTRICITY = 0.572
ORBITAL_INCLINATION = 87.02
ORBITAL_SEMIMAJOR_AXIS = 8795.35
PERIAPSIS_ALTITUDE = 380.98
PERIAPSIS_ARGUMENT_ANGLE = 133.49
PERIAPSIS_TIME = 2021-06-28T23:13:09.000Z
SPACECRAFT_ORIENTATION = (0.0,-1.0,0.0)
^MEX_ORIENTATION_DESC = "MEX_ORIENTATION_DESC.TXT"
SPACECRAFT_POINTING_MODE = ACROSSTRACK
^MEX_POINTING_DESC = "MEX_POINTING_DESC.TXT"
RIGHT_ASCENSION = -1e+32
DECLINATION = -1e+32
OFFSET_ANGLE = -0.808
SPACECRAFT_SOLAR_DISTANCE = 2.49077e+08
TARGET_NAME = MARS
/* CAMERA DATA ELEMENTS */
DETECTOR_TEMPERATURE = 17.351
FOCAL_PLANE_TEMPERATURE = 7.7677
INST_CMPRS_NAME = "DISCRETE COSINE TRANSFORMATION (DCT)"
INST_CMPRS_RATIO = 15.744
INST_CMPRS_QUALITY = 0
INST_CMPRS_QUANTZ_TBL_ID = 0
INSTRUMENT_TEMPERATURE = 9.8067
LENS_TEMPERATURE = 8.7872
MACROPIXEL_SIZE = 4
PIXEL_SUBSAMPLING_FLAG = N
SIGNAL_CHAIN_ID = 2
/* RADIOMETRIC DATA ELEMENTS */
BANDWIDTH = 81.0
CENTER_FILTER_WAVELENGTH = 955.5
RADIANCE_OFFSET = 0.652127
RADIANCE_SCALING_FACTOR = 0.00591703
REFLECTANCE_SCALING_FACTOR = 0.000791951
MEX:REFLECTANCE_OFFSET = 0.0872824
/* IMAGE OBJECT DEFINITIONS */
OBJECT = IMAGE
  INTERCHANGE_FORMAT = BINARY
  LINES = 20676
  LINE_SAMPLES = 3299
  SAMPLE_TYPE = UNSIGNED_INTEGER
  SAMPLE_BITS = 8
  BANDS = 1
  BAND_STORAGE_TYPE = BAND_SEQUENTIAL
  MAXIMUM = 255
  MEAN = 123.053
  MINIMUM = 1
  STANDARD_DEVIATION = 59.0112
END_OBJECT = IMAGE
/* MAP OBJECT DEFINITIONS */
OBJECT = IMAGE_MAP_PROJECTION
  ^DATA_SET_MAP_PROJECTION_CATALOG= "DSMAP.CAT"
  A_AXIS_RADIUS = 3396.0
  B_AXIS_RADIUS = 3396.0
  C_AXIS_RADIUS = 3396.0
  CENTER_LATITUDE = 0.0
  CENTER_LONGITUDE = 204.0
  COORDINATE_SYSTEM_NAME = PLANETOGRAPHIC
  COORDINATE_SYSTEM_TYPE = "BODY-FIXED ROTATING"
  EASTERNMOST_LONGITUDE = 205.947
  FIRST_STANDARD_PARALLEL = "N/A"
  LINE_FIRST_PIXEL = 1
  LINE_LAST_PIXEL = 20676
  LINE_PROJECTION_OFFSET = 74580.375
  MAP_PROJECTION_ROTATION = 0.0
  MAP_PROJECTION_TYPE = SINUSOIDAL
  MAP_RESOLUTION = 1185.42760773333
  MAP_SCALE = 0.05
  MAXIMUM_LATITUDE = 63.0292
  MINIMUM_LATITUDE = 45.424
  POSITIVE_LONGITUDE_DIRECTION = EAST
  REFERENCE_LATITUDE = "N/A"
  REFERENCE_LONGITUDE = "N/A"
  SAMPLE_FIRST_PIXEL = 1
  SAMPLE_LAST_PIXEL = 3299
  SAMPLE_PROJECTION_OFFSET = 1681.875
  SECOND_STANDARD_PARALLEL = "N/A"
  WESTERNMOST_LONGITUDE = 200.863
END_OBJECT = IMAGE_MAP_PROJECTION
END
