PDS_VERSION_ID = PDS3
/* FILE DATA ELEMENTS */
RECORD_TYPE = UNDEFINED
/* POINTERS TO DATA OBJECTS */
^IMAGE = ("HM103_0000_P14.TIF")
/* IDENTIFICATION DATA ELEMENTS */
DATA_SET_ID = "MEX-M-HRSC-4-REFDR-MAPPROJECT-EXT8-V4.0"
DATA_SET_NAME = "MARS EXPRESS HRSC MAP PROJECTED REFDR EXTENSION8 V4.0"
DETECTOR_ID = MEX_HRSC_P1
EVENT_TYPE = "MARS-LOCAL-CARTOGRAPHY-Im-Gl-Pf"
INSTRUMENT_HOST_ID = MEX
INSTRUMENT_HOST_NAME = "MARS EXPRESS"
INSTRUMENT_ID = HRSC
INSTRUMENT_NAME = "HIGH RESOLUTION STEREO CAMERA"
MISSION_NAME = "MARS EXPRESS"
MISSION_PHASE_NAME = ME_Phase_44
PROCESSING_LEVEL_ID = 4
PRODUCT_CREATION_TIME = 2023-01-25T08:48:24.000Z
PRODUCT_ID = "HM103_0000_P14.TIF"
RELEASE_ID = 0001
REVISION_ID = 0000
/* QUALITY DATA ELEMENTS */
DATA_QUALITY_ID = 1
DATA_QUALITY_DESC = "Data calculated based on original SPICE kernels"
/* TIME DATA ELEMENTS */
SPACECRAFT_CLOCK_START_COUNT = "1/0573001651.25666"
SPACECRAFT_CLOCK_STOP_COUNT = "1/0573002006.63911"
START_TIME = 2021-06-28T23:08:20.949Z
STOP_TIME = 2021-06-28T23:13:00.424Z
/* ORBITAL DATA ELEMENTS */
ASCENDING_NODE_LONGITUDE = 161.35
MAXIMUM_RESOLUTION = 0.0316
FOOTPRINT_POINT_LATITUDE = (62.9991,62.9409,62.8731,62.7792, 62.7766,62.6844,62.323,61.961,61.5997, 61.2439,60.8871,60.3524,60.0021,59.6513 ,59.2998,58.9487,58.6044,58.2595, 57.9139,57.5676,57.0561,56.7172,56.3774 ,55.8667,55.5261,54.86,54.1923,53.5221, 52.8501,52.5136,52.1763,51.6698,51.3316 ,50.8195,50.4805,50.1406,49.6306, 49.2902,48.8932,48.5519,48.2104,47.8686 ,47.5263,47.1837,46.8408,46.4977, 46.1543,45.6388,45.4668,45.4316,45.4794 ,45.5093,45.5392,45.54,45.5408,46.059, 46.5758,46.9203,47.2646,47.6087,47.9527 ,48.2962,48.6396,48.9824,49.552,49.8942 ,50.2359,50.5773,50.9184,51.2631, 51.6035,51.9435,52.2831,52.6224,52.9611 ,53.2992,53.6371,54.3119,54.9844, 55.6554,55.9977,56.3409,56.6836,57.1965 ,57.538,57.887,58.4104,58.7586,59.1064, 59.4602,59.8153,60.1698,60.5236,61.0638 ,61.4249,61.785,62.3335,62.7004,62.8836 ,62.9991)
FOOTPRINT_POINT_LONGITUDE = (204.418,203.377,202.323,201.055, 201.022,200.87,200.991,201.109,201.223, 201.331,201.436,201.589,201.684,201.777 ,201.868,201.956,202.04,202.121,202.201 ,202.278,202.389,202.46,202.528,202.628 ,202.692,202.813,202.929,203.038, 203.142,203.192,203.241,203.312,203.358 ,203.425,203.468,203.51,203.571,203.61, 203.654,203.692,203.728,203.764,203.798 ,203.831,203.864,203.895,203.926, 203.971,203.986,203.989,204.76,205.308, 205.922,205.94,205.947,205.923,205.897, 205.88,205.863,205.845,205.827,205.808, 205.789,205.77,205.736,205.716,205.695, 205.674,205.652,205.629,205.606,205.583 ,205.559,205.535,205.51,205.484,205.458 ,205.405,205.348,205.29,205.259,205.227 ,205.194,205.144,205.11,205.073,205.017 ,204.979,204.939,204.898,204.856, 204.812,204.767,204.697,204.648,204.597 ,204.518,204.463,204.435,204.418)
ORBIT_NUMBER = 22103
ORBITAL_ECCENTRICITY = 0.572
ORBITAL_INCLINATION = 87.02
ORBITAL_SEMIMAJOR_AXIS = 8795.35
PERIAPSIS_ALTITUDE = 380.98
PERIAPSIS_ARGUMENT_ANGLE = 133.49
PERIAPSIS_TIME = 2021-06-28T23:13:09.000Z
SPACECRAFT_ORIENTATION = (0.0,-1.0,0.0)
^MEX_ORIENTATION_DESC = "MEX_ORIENTATION_DESC.TXT"
SPACECRAFT_POINTING_MODE = ACROSSTRACK
^MEX_POINTING_DESC = "MEX_POINTING_DESC.TXT"
RIGHT_ASCENSION = -1e+32
DECLINATION = -1e+32
OFFSET_ANGLE = -0.808
SPACECRAFT_SOLAR_DISTANCE = 2.49077e+08
TARGET_NAME = MARS
/* CAMERA DATA ELEMENTS */
DETECTOR_TEMPERATURE = 17.351
FOCAL_PLANE_TEMPERATURE = 7.7677
INST_CMPRS_NAME = "DISCRETE COSINE TRANSFORMATION (DCT)"
INST_CMPRS_RATIO = 10.814
INST_CMPRS_QUALITY = 0
INST_CMPRS_QUANTZ_TBL_ID = 0
INSTRUMENT_TEMPERATURE = 9.8067
LENS_TEMPERATURE = 8.7872
MACROPIXEL_SIZE = 2
PIXEL_SUBSAMPLING_FLAG = N
SIGNAL_CHAIN_ID = 3
/* RADIOMETRIC DATA ELEMENTS */
BANDWIDTH = 174.0
CENTER_FILTER_WAVELENGTH = 675.0
RADIANCE_OFFSET = 2.64913
RADIANCE_SCALING_FACTOR = 0.0199397
REFLECTANCE_SCALING_FACTOR = 0.000665378
MEX:REFLECTANCE_OFFSET = 0.0884002
/* IMAGE OBJECT DEFINITIONS */
OBJECT = IMAGE
  INTERCHANGE_FORMAT = BINARY
  LINES = 41352
  LINE_SAMPLES = 6597
  SAMPLE_TYPE = UNSIGNED_INTEGER
  SAMPLE_BITS = 8
  BANDS = 1
  BAND_STORAGE_TYPE = BAND_SEQUENTIAL
  MAXIMUM = 255
  MEAN = 129.062
  MINIMUM = 1
  STANDARD_DEVIATION = 51.5553
END_OBJECT = IMAGE
/* MAP OBJECT DEFINITIONS */
OBJECT = IMAGE_MAP_PROJECTION
  ^DATA_SET_MAP_PROJECTION_CATALOG= "DSMAP.CAT"
  A_AXIS_RADIUS = 3396.0
  B_AXIS_RADIUS = 3396.0
  C_AXIS_RADIUS = 3396.0
  CENTER_LATITUDE = 0.0
  CENTER_LONGITUDE = 204.0
  COORDINATE_SYSTEM_NAME = PLANETOGRAPHIC
  COORDINATE_SYSTEM_TYPE = "BODY-FIXED ROTATING"
  EASTERNMOST_LONGITUDE = 205.947
  FIRST_STANDARD_PARALLEL = "N/A"
  LINE_FIRST_PIXEL = 1
  LINE_LAST_PIXEL = 41352
  LINE_PROJECTION_OFFSET = 149161.25
  MAP_PROJECTION_ROTATION = 0.0
  MAP_PROJECTION_TYPE = SINUSOIDAL
  MAP_RESOLUTION = 2370.85521546667
  MAP_SCALE = 0.025
  MAXIMUM_LATITUDE = 62.9991
  MINIMUM_LATITUDE = 45.4316
  POSITIVE_LONGITUDE_DIRECTION = EAST
  REFERENCE_LATITUDE = "N/A"
  REFERENCE_LONGITUDE = "N/A"
  SAMPLE_FIRST_PIXEL = 1
  SAMPLE_LAST_PIXEL = 6597
  SAMPLE_PROJECTION_OFFSET = 3364.25
  SECOND_STANDARD_PARALLEL = "N/A"
  WESTERNMOST_LONGITUDE = 200.87
END_OBJECT = IMAGE_MAP_PROJECTION
END
