PDS_VERSION_ID = PDS3
/* FILE DATA ELEMENTS */
RECORD_TYPE = UNDEFINED
/* POINTERS TO DATA OBJECTS */
^IMAGE = ("HM104_0000_IR4.TIF")
/* IDENTIFICATION DATA ELEMENTS */
DATA_SET_ID = "MEX-M-HRSC-4-REFDR-MAPPROJECT-EXT8-V4.0"
DATA_SET_NAME = "MARS EXPRESS HRSC MAP PROJECTED REFDR EXTENSION8 V4.0"
DETECTOR_ID = MEX_HRSC_IR
EVENT_TYPE = "MARS-REGIONAL-MAPPING-Im-Pf"
INSTRUMENT_HOST_ID = MEX
INSTRUMENT_HOST_NAME = "MARS EXPRESS"
INSTRUMENT_ID = HRSC
INSTRUMENT_NAME = "HIGH RESOLUTION STEREO CAMERA"
MISSION_NAME = "MARS EXPRESS"
MISSION_PHASE_NAME = ME_Phase_44
PROCESSING_LEVEL_ID = 4
PRODUCT_CREATION_TIME = 2023-01-25T08:48:24.000Z
PRODUCT_ID = "HM104_0000_IR4.TIF"
RELEASE_ID = 0001
REVISION_ID = 0000
/* QUALITY DATA ELEMENTS */
DATA_QUALITY_ID = 1
DATA_QUALITY_DESC = "Data calculated based on original SPICE kernels"
/* TIME DATA ELEMENTS */
SPACECRAFT_CLOCK_START_COUNT = "1/0573026709.24930"
SPACECRAFT_CLOCK_STOP_COUNT = "1/0573026998.40357"
START_TIME = 2021-06-29T06:05:52.389Z
STOP_TIME = 2021-06-29T06:09:22.771Z
/* ORBITAL DATA ELEMENTS */
ASCENDING_NODE_LONGITUDE = 161.34
MAXIMUM_RESOLUTION = 0.0688
FOOTPRINT_POINT_LATITUDE = (68.0456,68.0139,67.9791,67.9411, 67.8997,67.855,67.7749,67.7717,67.6545, 67.3903,67.1259,66.7281,66.4665,66.2044 ,65.9413,65.6838,65.4252,65.166,64.909, 64.6547,64.3997,64.1443,63.7654,63.5139 ,63.262,62.8843,62.5132,62.2656,62.0166 ,61.7677,61.5242,61.2802,61.0358,60.791 ,60.4247,60.1847,59.9446,59.7041, 59.4629,59.1012,58.6287,58.2734,57.7987 ,57.5611,57.0967,56.6308,56.1642,55.813 ,55.4703,55.3559,55.2725,55.312,55.3667 ,55.4099,55.4109,55.4122,55.7573, 56.2239,56.6947,57.1644,57.6329,57.99, 58.2296,58.4689,58.7076,59.1843,59.4257 ,59.6696,59.9128,60.1557,60.3983, 60.6404,60.8875,61.135,61.382,61.6287, 61.8751,62.1253,62.3769,62.6278,62.8783 ,63.1287,63.3843,63.6396,63.8946, 64.1489,64.4069,64.666,64.9248,65.1832, 65.5768,65.8397,66.102,66.501,66.7679, 67.0342,67.4393,67.7098,67.845,68.0456)
FOOTPRINT_POINT_LONGITUDE = (102.098,101.423,100.748,100.072, 99.3951,98.7183,97.6159,97.5734,97.4523 ,97.5867,97.7183,97.9061,98.0263, 98.1438,98.2582,98.3682,98.4752,98.5799 ,98.6814,98.7795,98.8755,98.9694, 99.1045,99.191,99.2758,99.3996,99.5169, 99.5936,99.6678,99.7411,99.8113,99.8799 ,99.9472,100.013,100.11,100.171,100.231 ,100.291,100.348,100.433,100.54,100.617 ,100.718,100.766,100.859,100.948, 101.034,101.097,101.156,101.176,101.19, 101.811,102.785,103.701,103.725,103.732 ,103.707,103.671,103.634,103.596, 103.556,103.525,103.503,103.482,103.459 ,103.414,103.391,103.366,103.342, 103.316,103.291,103.265,103.238,103.21, 103.182,103.153,103.124,103.094,103.063 ,103.031,102.999,102.966,102.932, 102.897,102.861,102.825,102.787,102.748 ,102.708,102.668,102.604,102.561, 102.516,102.446,102.397,102.348,102.27, 102.217,102.189,102.098)
ORBIT_NUMBER = 22104
ORBITAL_ECCENTRICITY = 0.572
ORBITAL_INCLINATION = 87.01
ORBITAL_SEMIMAJOR_AXIS = 8803.43
PERIAPSIS_ALTITUDE = 380.68
PERIAPSIS_ARGUMENT_ANGLE = 133.31
PERIAPSIS_TIME = 2021-06-29T06:12:11.000Z
SPACECRAFT_ORIENTATION = (0.0,-1.0,0.0)
^MEX_ORIENTATION_DESC = "MEX_ORIENTATION_DESC.TXT"
SPACECRAFT_POINTING_MODE = ACROSSTRACK
^MEX_POINTING_DESC = "MEX_POINTING_DESC.TXT"
RIGHT_ASCENSION = -1e+32
DECLINATION = -1e+32
OFFSET_ANGLE = -0.499
SPACECRAFT_SOLAR_DISTANCE = 2.49083e+08
TARGET_NAME = MARS
/* CAMERA DATA ELEMENTS */
DETECTOR_TEMPERATURE = 17.1471
FOCAL_PLANE_TEMPERATURE = 7.7677
INST_CMPRS_NAME = "DISCRETE COSINE TRANSFORMATION (DCT)"
INST_CMPRS_RATIO = 8.63217
INST_CMPRS_QUALITY = 0
INST_CMPRS_QUANTZ_TBL_ID = 0
INSTRUMENT_TEMPERATURE = 11.0301
LENS_TEMPERATURE = 8.3794
MACROPIXEL_SIZE = 4
MISSING_FRAMES = 0
PIXEL_SUBSAMPLING_FLAG = N
SIGNAL_CHAIN_ID = 2
/* RADIOMETRIC DATA ELEMENTS */
BANDWIDTH = 81.0
CENTER_FILTER_WAVELENGTH = 955.5
RADIANCE_OFFSET = 0.831068
RADIANCE_SCALING_FACTOR = 0.00264467
REFLECTANCE_SCALING_FACTOR = 0.000353986
MEX:REFLECTANCE_OFFSET = 0.111237
/* IMAGE OBJECT DEFINITIONS */
OBJECT = IMAGE
  INTERCHANGE_FORMAT = BINARY
  LINES = 14977
  LINE_SAMPLES = 3158
  SAMPLE_TYPE = UNSIGNED_INTEGER
  SAMPLE_BITS = 8
  BANDS = 1
  BAND_STORAGE_TYPE = BAND_SEQUENTIAL
  MAXIMUM = 255
  MEAN = 95.2567
  MINIMUM = 1
  STANDARD_DEVIATION = 37.7917
END_OBJECT = IMAGE
/* MAP OBJECT DEFINITIONS */
OBJECT = IMAGE_MAP_PROJECTION
  ^DATA_SET_MAP_PROJECTION_CATALOG= "DSMAP.CAT"
  A_AXIS_RADIUS = 3396.0
  B_AXIS_RADIUS = 3396.0
  C_AXIS_RADIUS = 3396.0
  CENTER_LATITUDE = 0.0
  CENTER_LONGITUDE = 102.0
  COORDINATE_SYSTEM_NAME = PLANETOGRAPHIC
  COORDINATE_SYSTEM_TYPE = "BODY-FIXED ROTATING"
  EASTERNMOST_LONGITUDE = 103.732
  FIRST_STANDARD_PARALLEL = "N/A"
  LINE_FIRST_PIXEL = 1
  LINE_LAST_PIXEL = 14977
  LINE_PROJECTION_OFFSET = 80535.625
  MAP_PROJECTION_ROTATION = 0.0
  MAP_PROJECTION_TYPE = SINUSOIDAL
  MAP_RESOLUTION = 1185.42760773333
  MAP_SCALE = 0.05
  MAXIMUM_LATITUDE = 68.04559999999999
  MINIMUM_LATITUDE = 55.2725
  POSITIVE_LONGITUDE_DIRECTION = EAST
  REFERENCE_LATITUDE = "N/A"
  REFERENCE_LONGITUDE = "N/A"
  SAMPLE_FIRST_PIXEL = 1
  SAMPLE_LAST_PIXEL = 3158
  SAMPLE_PROJECTION_OFFSET = 2012.125
  SECOND_STANDARD_PARALLEL = "N/A"
  WESTERNMOST_LONGITUDE = 97.45229999999999
END_OBJECT = IMAGE_MAP_PROJECTION
END
