PDS_VERSION_ID = PDS3
/* FILE DATA ELEMENTS */
RECORD_TYPE = UNDEFINED
/* POINTERS TO DATA OBJECTS */
^IMAGE = ("HM114_0000_GR4.TIF")
/* IDENTIFICATION DATA ELEMENTS */
DATA_SET_ID = "MEX-M-HRSC-4-REFDR-MAPPROJECT-EXT8-V4.0"
DATA_SET_NAME = "MARS EXPRESS HRSC MAP PROJECTED REFDR EXTENSION8 V4.0"
DETECTOR_ID = MEX_HRSC_GREEN
EVENT_TYPE = "MARS-REGIONAL-MAPPING-Vo-Te-Im"
INSTRUMENT_HOST_ID = MEX
INSTRUMENT_HOST_NAME = "MARS EXPRESS"
INSTRUMENT_ID = HRSC
INSTRUMENT_NAME = "HIGH RESOLUTION STEREO CAMERA"
MISSION_NAME = "MARS EXPRESS"
MISSION_PHASE_NAME = ME_Phase_45
PROCESSING_LEVEL_ID = 4
PRODUCT_CREATION_TIME = 2023-01-26T14:38:01.000Z
PRODUCT_ID = "HM114_0000_GR4.TIF"
RELEASE_ID = 0002
REVISION_ID = 0000
/* QUALITY DATA ELEMENTS */
DATA_QUALITY_ID = 1
DATA_QUALITY_DESC = "Data calculated based on original SPICE kernels"
/* TIME DATA ELEMENTS */
SPACECRAFT_CLOCK_START_COUNT = "1/0573278495.25697"
SPACECRAFT_CLOCK_STOP_COUNT = "1/0573278762.07848"
START_TIME = 2021-07-02T04:02:39.385Z
STOP_TIME = 2021-07-02T04:05:44.617Z
/* ORBITAL DATA ELEMENTS */
ASCENDING_NODE_LONGITUDE = 161.15
MAXIMUM_RESOLUTION = 0.0627
FOOTPRINT_POINT_LATITUDE = (45.7092,45.6831,45.6528,45.606,45.6047 ,45.5825,45.2361,44.8897,44.6586, 44.4275,44.197,43.9644,43.5035,43.2724, 43.0417,42.8109,42.5798,42.3488,42.1179 ,41.8873,41.6564,41.31,41.0792,40.6184, 40.1571,39.6962,39.2355,38.8901,38.315, 37.9701,37.7359,37.5,37.2643,37.0285, 36.793,36.5574,36.3221,36.0868,35.8516, 35.6166,35.2569,35.0159,34.7751,34.5345 ,34.294,34.0536,33.9335,33.848,33.8733, 33.8897,33.8995,33.9142,33.9146,33.9158 ,34.2771,34.5182,34.7596,35.0011, 35.2427,35.4847,35.7239,35.96,36.1966, 36.4319,36.6678,36.9039,37.1404,37.4954 ,37.7318,38.0843,38.5458,38.7767, 39.0078,39.2389,39.47,39.7012,39.9327, 40.2797,40.511,40.7426,40.9743,41.2058, 41.4374,41.6695,41.901,42.133,42.3642, 42.7119,43.0598,43.2917,43.5237,43.7557 ,43.9876,44.3354,44.6834,45.0315, 45.2635,45.4956,45.6116,45.7092)
FOOTPRINT_POINT_LONGITUDE = (161.369,160.798,160.205,159.392, 159.372,159.234,159.271,159.308,159.331 ,159.354,159.38,159.392,159.443,159.463 ,159.485,159.507,159.525,159.545, 159.564,159.584,159.602,159.628,159.645 ,159.682,159.714,159.746,159.776, 159.797,159.833,159.853,159.867,159.88, 159.893,159.906,159.918,159.93,159.942, 159.954,159.965,159.976,159.993,160.004 ,160.014,160.024,160.034,160.043, 160.048,160.053,160.674,161.135,161.43, 161.921,161.938,161.944,161.929,161.919 ,161.91,161.9,161.891,161.881,161.872, 161.863,161.854,161.842,161.831,161.82, 161.81,161.794,161.782,161.766,161.744, 161.733,161.722,161.71,161.698,161.687, 161.676,161.657,161.645,161.632,161.62, 161.607,161.594,161.582,161.568,161.555 ,161.539,161.517,161.496,161.481, 161.466,161.452,161.436,161.412,161.388 ,161.363,161.347,161.33,161.321, 161.369)
ORBIT_NUMBER = 22114
ORBITAL_ECCENTRICITY = 0.571
ORBITAL_INCLINATION = 87.01
ORBITAL_SEMIMAJOR_AXIS = 8792.23
PERIAPSIS_ALTITUDE = 382.95
PERIAPSIS_ARGUMENT_ANGLE = 131.61
PERIAPSIS_TIME = 2021-07-02T04:02:05.000Z
SPACECRAFT_ORIENTATION = (0.0,-1.0,0.0)
^MEX_ORIENTATION_DESC = "MEX_ORIENTATION_DESC.TXT"
SPACECRAFT_POINTING_MODE = ACROSSTRACK
^MEX_POINTING_DESC = "MEX_POINTING_DESC.TXT"
RIGHT_ASCENSION = -1e+32
DECLINATION = -1e+32
OFFSET_ANGLE = -1.65
SPACECRAFT_SOLAR_DISTANCE = 2.49136e+08
TARGET_NAME = MARS
/* CAMERA DATA ELEMENTS */
DETECTOR_TEMPERATURE = 17.7588
FOCAL_PLANE_TEMPERATURE = 7.7677
INST_CMPRS_NAME = "DISCRETE COSINE TRANSFORMATION (DCT)"
INST_CMPRS_RATIO = 9.35891
INST_CMPRS_QUALITY = 0
INST_CMPRS_QUANTZ_TBL_ID = 0
INSTRUMENT_TEMPERATURE = 11.0301
LENS_TEMPERATURE = 7.7677
MACROPIXEL_SIZE = 4
MISSING_FRAMES = 0
PIXEL_SUBSAMPLING_FLAG = N
SIGNAL_CHAIN_ID = 2
/* RADIOMETRIC DATA ELEMENTS */
BANDWIDTH = 88.0
CENTER_FILTER_WAVELENGTH = 538.0
RADIANCE_OFFSET = 1.25718
RADIANCE_SCALING_FACTOR = 0.00596802
REFLECTANCE_SCALING_FACTOR = 0.000318927
MEX:REFLECTANCE_OFFSET = 0.0671827
/* IMAGE OBJECT DEFINITIONS */
OBJECT = IMAGE
  INTERCHANGE_FORMAT = BINARY
  LINES = 14024
  LINE_SAMPLES = 2411
  SAMPLE_TYPE = UNSIGNED_INTEGER
  SAMPLE_BITS = 8
  BANDS = 1
  BAND_STORAGE_TYPE = BAND_SEQUENTIAL
  MAXIMUM = 255
  MEAN = 127.255
  MINIMUM = 1
  STANDARD_DEVIATION = 20.8781
END_OBJECT = IMAGE
/* MAP OBJECT DEFINITIONS */
OBJECT = IMAGE_MAP_PROJECTION
  ^DATA_SET_MAP_PROJECTION_CATALOG= "DSMAP.CAT"
  A_AXIS_RADIUS = 3396.0
  B_AXIS_RADIUS = 3396.0
  C_AXIS_RADIUS = 3396.0
  CENTER_LATITUDE = 0.0
  CENTER_LONGITUDE = 161.0
  COORDINATE_SYSTEM_NAME = PLANETOGRAPHIC
  COORDINATE_SYSTEM_TYPE = "BODY-FIXED ROTATING"
  EASTERNMOST_LONGITUDE = 161.944
  FIRST_STANDARD_PARALLEL = "N/A"
  LINE_FIRST_PIXEL = 1
  LINE_LAST_PIXEL = 14024
  LINE_PROJECTION_OFFSET = 54166.375
  MAP_PROJECTION_ROTATION = 0.0
  MAP_PROJECTION_TYPE = SINUSOIDAL
  MAP_RESOLUTION = 1185.42760773333
  MAP_SCALE = 0.05
  MAXIMUM_LATITUDE = 45.7092
  MINIMUM_LATITUDE = 33.848
  POSITIVE_LONGITUDE_DIRECTION = EAST
  REFERENCE_LATITUDE = "N/A"
  REFERENCE_LONGITUDE = "N/A"
  SAMPLE_FIRST_PIXEL = 1
  SAMPLE_LAST_PIXEL = 2411
  SAMPLE_PROJECTION_OFFSET = 1476.625
  SECOND_STANDARD_PARALLEL = "N/A"
  WESTERNMOST_LONGITUDE = 159.234
END_OBJECT = IMAGE_MAP_PROJECTION
END
