PDS_VERSION_ID = PDS3
/* FILE DATA ELEMENTS */
RECORD_TYPE = UNDEFINED
/* POINTERS TO DATA OBJECTS */
^IMAGE = ("HM114_0000_IR4.TIF")
/* IDENTIFICATION DATA ELEMENTS */
DATA_SET_ID = "MEX-M-HRSC-4-REFDR-MAPPROJECT-EXT8-V4.0"
DATA_SET_NAME = "MARS EXPRESS HRSC MAP PROJECTED REFDR EXTENSION8 V4.0"
DETECTOR_ID = MEX_HRSC_IR
EVENT_TYPE = "MARS-REGIONAL-MAPPING-Vo-Te-Im"
INSTRUMENT_HOST_ID = MEX
INSTRUMENT_HOST_NAME = "MARS EXPRESS"
INSTRUMENT_ID = HRSC
INSTRUMENT_NAME = "HIGH RESOLUTION STEREO CAMERA"
MISSION_NAME = "MARS EXPRESS"
MISSION_PHASE_NAME = ME_Phase_45
PROCESSING_LEVEL_ID = 4
PRODUCT_CREATION_TIME = 2023-01-26T14:38:01.000Z
PRODUCT_ID = "HM114_0000_IR4.TIF"
RELEASE_ID = 0002
REVISION_ID = 0000
/* QUALITY DATA ELEMENTS */
DATA_QUALITY_ID = 1
DATA_QUALITY_DESC = "Data calculated based on original SPICE kernels"
/* TIME DATA ELEMENTS */
SPACECRAFT_CLOCK_START_COUNT = "1/0573278495.25697"
SPACECRAFT_CLOCK_STOP_COUNT = "1/0573278762.07848"
START_TIME = 2021-07-02T04:02:15.389Z
STOP_TIME = 2021-07-02T04:05:18.657Z
/* ORBITAL DATA ELEMENTS */
ASCENDING_NODE_LONGITUDE = 161.15
MAXIMUM_RESOLUTION = 0.0653
FOOTPRINT_POINT_LATITUDE = (45.8057,45.7527,45.6939,45.6067, 45.6044,45.5203,44.944,44.7121,44.4807, 44.1331,43.6733,43.4393,43.2074,42.745, 42.5121,42.2798,41.8165,41.5834,41.3505 ,41.0018,40.7704,40.4214,40.1886, 39.9553,39.7227,39.4895,39.257,39.0237, 38.7911,38.5579,38.2085,37.9755,37.7422 ,37.5093,37.2765,37.0434,36.8105, 36.5774,36.3445,35.9881,35.7487,35.5097 ,35.2702,35.0311,34.7919,34.5526, 34.3133,33.9558,33.8354,33.7894,33.8485 ,33.8846,33.9162,33.9562,33.9575, 33.9578,34.3189,34.5581,34.7983,35.0381 ,35.2784,35.5195,35.7597,36.0026, 36.2458,36.4792,36.711,36.9443,37.1785, 37.5294,37.8796,38.1133,38.4642,38.6982 ,38.9326,39.284,39.5178,39.8695,40.104, 40.3374,40.5705,40.805,41.1553,41.3888, 41.6271,42.0896,42.4376,42.787,43.0201, 43.2526,43.4856,43.8348,44.1824,44.4144 ,44.7626,44.995,45.3431,45.575,45.6908, 45.8057)
FOOTPRINT_POINT_LONGITUDE = (161.358,160.786,160.192,159.38,159.36, 159.227,159.29,159.313,159.336,159.37, 159.419,159.438,159.459,159.503,159.522 ,159.541,159.582,159.6,159.617,159.645, 159.664,159.69,159.706,159.722,159.739, 159.754,159.77,159.785,159.8,159.815, 159.836,159.85,159.864,159.877,159.891, 159.903,159.916,159.929,159.941,159.959 ,159.971,159.982,159.993,160.004, 160.015,160.026,160.036,160.052,160.056 ,160.057,160.67,161.072,161.432,161.899 ,161.915,161.92,161.907,161.897,161.888 ,161.879,161.87,161.861,161.851,161.843 ,161.835,161.822,161.811,161.801, 161.791,161.775,161.759,161.748,161.732 ,161.721,161.71,161.694,161.682,161.665 ,161.654,161.641,161.629,161.617, 161.598,161.585,161.575,161.546,161.524 ,161.503,161.489,161.474,161.46,161.438 ,161.414,161.399,161.375,161.359, 161.335,161.318,161.31,161.358)
ORBIT_NUMBER = 22114
ORBITAL_ECCENTRICITY = 0.571
ORBITAL_INCLINATION = 87.01
ORBITAL_SEMIMAJOR_AXIS = 8792.23
PERIAPSIS_ALTITUDE = 382.95
PERIAPSIS_ARGUMENT_ANGLE = 131.61
PERIAPSIS_TIME = 2021-07-02T04:02:05.000Z
SPACECRAFT_ORIENTATION = (0.0,-1.0,0.0)
^MEX_ORIENTATION_DESC = "MEX_ORIENTATION_DESC.TXT"
SPACECRAFT_POINTING_MODE = ACROSSTRACK
^MEX_POINTING_DESC = "MEX_POINTING_DESC.TXT"
RIGHT_ASCENSION = -1e+32
DECLINATION = -1e+32
OFFSET_ANGLE = -1.65
SPACECRAFT_SOLAR_DISTANCE = 2.49136e+08
TARGET_NAME = MARS
/* CAMERA DATA ELEMENTS */
DETECTOR_TEMPERATURE = 17.5549
FOCAL_PLANE_TEMPERATURE = 7.7677
INST_CMPRS_NAME = "DISCRETE COSINE TRANSFORMATION (DCT)"
INST_CMPRS_RATIO = 8.22935
INST_CMPRS_QUALITY = 0
INST_CMPRS_QUANTZ_TBL_ID = 0
INSTRUMENT_TEMPERATURE = 11.0301
LENS_TEMPERATURE = 7.7677
MACROPIXEL_SIZE = 4
MISSING_FRAMES = 0
PIXEL_SUBSAMPLING_FLAG = N
SIGNAL_CHAIN_ID = 2
/* RADIOMETRIC DATA ELEMENTS */
BANDWIDTH = 81.0
CENTER_FILTER_WAVELENGTH = 955.5
RADIANCE_OFFSET = 0.986874
RADIANCE_SCALING_FACTOR = 0.00691088
REFLECTANCE_SCALING_FACTOR = 0.000925407
MEX:REFLECTANCE_OFFSET = 0.132148
/* IMAGE OBJECT DEFINITIONS */
OBJECT = IMAGE
  INTERCHANGE_FORMAT = BINARY
  LINES = 14024
  LINE_SAMPLES = 2411
  SAMPLE_TYPE = UNSIGNED_INTEGER
  SAMPLE_BITS = 8
  BANDS = 1
  BAND_STORAGE_TYPE = BAND_SEQUENTIAL
  MAXIMUM = 255
  MEAN = 146.395
  MINIMUM = 1
  STANDARD_DEVIATION = 19.9276
END_OBJECT = IMAGE
/* MAP OBJECT DEFINITIONS */
OBJECT = IMAGE_MAP_PROJECTION
  ^DATA_SET_MAP_PROJECTION_CATALOG= "DSMAP.CAT"
  A_AXIS_RADIUS = 3396.0
  B_AXIS_RADIUS = 3396.0
  C_AXIS_RADIUS = 3396.0
  CENTER_LATITUDE = 0.0
  CENTER_LONGITUDE = 161.0
  COORDINATE_SYSTEM_NAME = PLANETOGRAPHIC
  COORDINATE_SYSTEM_TYPE = "BODY-FIXED ROTATING"
  EASTERNMOST_LONGITUDE = 161.92
  FIRST_STANDARD_PARALLEL = "N/A"
  LINE_FIRST_PIXEL = 1
  LINE_LAST_PIXEL = 14024
  LINE_PROJECTION_OFFSET = 54166.375
  MAP_PROJECTION_ROTATION = 0.0
  MAP_PROJECTION_TYPE = SINUSOIDAL
  MAP_RESOLUTION = 1185.42760773333
  MAP_SCALE = 0.05
  MAXIMUM_LATITUDE = 45.8057
  MINIMUM_LATITUDE = 33.7894
  POSITIVE_LONGITUDE_DIRECTION = EAST
  REFERENCE_LATITUDE = "N/A"
  REFERENCE_LONGITUDE = "N/A"
  SAMPLE_FIRST_PIXEL = 1
  SAMPLE_LAST_PIXEL = 2411
  SAMPLE_PROJECTION_OFFSET = 1476.625
  SECOND_STANDARD_PARALLEL = "N/A"
  WESTERNMOST_LONGITUDE = 159.227
END_OBJECT = IMAGE_MAP_PROJECTION
END
