PDS_VERSION_ID = PDS3
/* FILE DATA ELEMENTS */
RECORD_TYPE = UNDEFINED
/* POINTERS TO DATA OBJECTS */
^IMAGE = ("HM117_0000_RE4.TIF")
/* IDENTIFICATION DATA ELEMENTS */
DATA_SET_ID = "MEX-M-HRSC-4-REFDR-MAPPROJECT-EXT8-V4.0"
DATA_SET_NAME = "MARS EXPRESS HRSC MAP PROJECTED REFDR EXTENSION8 V4.0"
DETECTOR_ID = MEX_HRSC_RED
EVENT_TYPE = "MARS-LOCAL-CARTOGRAPHY-Vo-Mw-Ls"
INSTRUMENT_HOST_ID = MEX
INSTRUMENT_HOST_NAME = "MARS EXPRESS"
INSTRUMENT_ID = HRSC
INSTRUMENT_NAME = "HIGH RESOLUTION STEREO CAMERA"
MISSION_NAME = "MARS EXPRESS"
MISSION_PHASE_NAME = ME_Phase_45
PROCESSING_LEVEL_ID = 4
PRODUCT_CREATION_TIME = 2023-01-26T14:38:01.000Z
PRODUCT_ID = "HM117_0000_RE4.TIF"
RELEASE_ID = 0002
REVISION_ID = 0000
/* QUALITY DATA ELEMENTS */
DATA_QUALITY_ID = 1
DATA_QUALITY_DESC = "Data calculated based on original SPICE kernels"
/* TIME DATA ELEMENTS */
SPACECRAFT_CLOCK_START_COUNT = "1/0573354018.23970"
SPACECRAFT_CLOCK_STOP_COUNT = "1/0573354388.49179"
START_TIME = 2021-07-03T01:01:59.657Z
STOP_TIME = 2021-07-03T01:06:49.743Z
/* ORBITAL DATA ELEMENTS */
ASCENDING_NODE_LONGITUDE = 161.1
MAXIMUM_RESOLUTION = 0.0691
FOOTPRINT_POINT_LATITUDE = (38.9508,38.929,38.9111,38.8919,38.8913 ,38.9514,38.3154,37.9926,37.67,37.3481, 36.7062,36.3782,35.8866,35.5595,35.233, 34.7359,34.4026,33.904,33.397,33.0566, 32.7188,32.3815,32.037,31.6942,31.3509, 31.0022,30.6526,30.1293,29.5982,29.2425 ,28.8876,28.5386,28.1879,27.6639, 27.3149,26.7952,26.4477,26.1045,25.589, 25.2458,24.904,24.3939,24.0552,23.7173, 23.3813,22.8784,22.544,22.2119,22.0451, 22.0062,22.0157,22.022,22.0287,22.0321, 22.0322,22.0333,22.3682,22.8706,23.2048 ,23.5411,24.045,24.3845,24.7253,25.0673 ,25.4103,25.9266,26.2709,26.6175, 27.1379,27.4853,28.0111,28.3624,28.7165 ,29.0653,29.5976,29.9537,30.3074, 30.6585,31.1854,31.5282,31.8715,32.2139 ,32.7248,33.0647,33.4019,33.7387, 34.0691,34.3989,34.7303,35.064,35.3984, 35.892,36.2206,36.5505,37.0382,37.6819, 38.1713,38.817,38.9751,38.9508)
FOOTPRINT_POINT_LONGITUDE = (218.643,217.91,217.364,216.827,216.81, 216.809,216.813,216.815,216.816,216.817 ,216.818,216.818,216.818,216.817, 216.816,216.814,216.812,216.809,216.805 ,216.802,216.799,216.796,216.792, 216.788,216.784,216.779,216.774,216.766 ,216.757,216.751,216.744,216.738, 216.731,216.72,216.712,216.7,216.692, 216.684,216.671,216.662,216.652,216.638 ,216.629,216.619,216.608,216.593, 216.582,216.571,216.566,216.565,217.079 ,217.901,218.329,218.698,218.719, 218.725,218.726,218.725,218.723,218.722 ,218.718,218.717,218.716,218.716, 218.716,218.715,218.714,218.713,218.712 ,218.71,218.71,218.71,218.711,218.707, 218.707,218.707,218.709,218.71,218.711, 218.71,218.709,218.706,218.706,218.707, 218.705,218.702,218.7,218.697,218.694, 218.693,218.698,218.7,218.7,218.7,218.7 ,218.699,218.702,218.704,218.704, 218.643)
ORBIT_NUMBER = 22117
ORBITAL_ECCENTRICITY = 0.572
ORBITAL_INCLINATION = 87.03
ORBITAL_SEMIMAJOR_AXIS = 8792.67
PERIAPSIS_ALTITUDE = 382.03
PERIAPSIS_ARGUMENT_ANGLE = 131.07
PERIAPSIS_TIME = 2021-07-03T00:58:53.000Z
SPACECRAFT_ORIENTATION = (0.0,-1.0,0.0)
^MEX_ORIENTATION_DESC = "MEX_ORIENTATION_DESC.TXT"
SPACECRAFT_POINTING_MODE = ACROSSTRACK
^MEX_POINTING_DESC = "MEX_POINTING_DESC.TXT"
RIGHT_ASCENSION = -1e+32
DECLINATION = -1e+32
OFFSET_ANGLE = 0.808
SPACECRAFT_SOLAR_DISTANCE = 2.49149e+08
TARGET_NAME = MARS
/* CAMERA DATA ELEMENTS */
DETECTOR_TEMPERATURE = 17.9627
FOCAL_PLANE_TEMPERATURE = 7.7677
INST_CMPRS_NAME = "DISCRETE COSINE TRANSFORMATION (DCT)"
INST_CMPRS_RATIO = 8.87547
INST_CMPRS_QUALITY = 0
INST_CMPRS_QUANTZ_TBL_ID = 0
INSTRUMENT_TEMPERATURE = 10.8262
LENS_TEMPERATURE = 8.1755
MACROPIXEL_SIZE = 4
MISSING_FRAMES = 0
PIXEL_SUBSAMPLING_FLAG = N
SIGNAL_CHAIN_ID = 2
/* RADIOMETRIC DATA ELEMENTS */
BANDWIDTH = 48.0
CENTER_FILTER_WAVELENGTH = 748.0
RADIANCE_OFFSET = 1.40421
RADIANCE_SCALING_FACTOR = 0.00556017
REFLECTANCE_SCALING_FACTOR = 0.000787647
MEX:REFLECTANCE_OFFSET = 0.198919
/* IMAGE OBJECT DEFINITIONS */
OBJECT = IMAGE
  INTERCHANGE_FORMAT = BINARY
  LINES = 20121
  LINE_SAMPLES = 2222
  SAMPLE_TYPE = UNSIGNED_INTEGER
  SAMPLE_BITS = 8
  BANDS = 1
  BAND_STORAGE_TYPE = BAND_SEQUENTIAL
  MAXIMUM = 255
  MEAN = 127.382
  MINIMUM = 1
  STANDARD_DEVIATION = 27.7295
END_OBJECT = IMAGE
/* MAP OBJECT DEFINITIONS */
OBJECT = IMAGE_MAP_PROJECTION
  ^DATA_SET_MAP_PROJECTION_CATALOG= "DSMAP.CAT"
  A_AXIS_RADIUS = 3396.0
  B_AXIS_RADIUS = 3396.0
  C_AXIS_RADIUS = 3396.0
  CENTER_LATITUDE = 0.0
  CENTER_LONGITUDE = 218.0
  COORDINATE_SYSTEM_NAME = PLANETOGRAPHIC
  COORDINATE_SYSTEM_TYPE = "BODY-FIXED ROTATING"
  EASTERNMOST_LONGITUDE = 218.726
  FIRST_STANDARD_PARALLEL = "N/A"
  LINE_FIRST_PIXEL = 1
  LINE_LAST_PIXEL = 20121
  LINE_PROJECTION_OFFSET = 46192.125
  MAP_PROJECTION_ROTATION = 0.0
  MAP_PROJECTION_TYPE = SINUSOIDAL
  MAP_RESOLUTION = 1185.42760773333
  MAP_SCALE = 0.05
  MAXIMUM_LATITUDE = 38.9751
  MINIMUM_LATITUDE = 22.0062
  POSITIVE_LONGITUDE_DIRECTION = EAST
  REFERENCE_LATITUDE = "N/A"
  REFERENCE_LONGITUDE = "N/A"
  SAMPLE_FIRST_PIXEL = 1
  SAMPLE_LAST_PIXEL = 2222
  SAMPLE_PROJECTION_OFFSET = 1513.625
  SECOND_STANDARD_PARALLEL = "N/A"
  WESTERNMOST_LONGITUDE = 216.565
END_OBJECT = IMAGE_MAP_PROJECTION
END
