PDS_VERSION_ID = PDS3
/* FILE DATA ELEMENTS */
RECORD_TYPE = UNDEFINED
/* POINTERS TO DATA OBJECTS */
^IMAGE = ("HM121_0009_IR4.TIF")
/* IDENTIFICATION DATA ELEMENTS */
DATA_SET_ID = "MEX-M-HRSC-4-REFDR-MAPPROJECT-EXT8-V4.0"
DATA_SET_NAME = "MARS EXPRESS HRSC MAP PROJECTED REFDR EXTENSION8 V4.0"
DETECTOR_ID = MEX_HRSC_IR
EVENT_TYPE = "MARS-REGIONAL-MAPPING-Vo-Te-Im"
INSTRUMENT_HOST_ID = MEX
INSTRUMENT_HOST_NAME = "MARS EXPRESS"
INSTRUMENT_ID = HRSC
INSTRUMENT_NAME = "HIGH RESOLUTION STEREO CAMERA"
MISSION_NAME = "MARS EXPRESS"
MISSION_PHASE_NAME = ME_Phase_45
PROCESSING_LEVEL_ID = 4
PRODUCT_CREATION_TIME = 2023-01-26T14:38:01.000Z
PRODUCT_ID = "HM121_0009_IR4.TIF"
RELEASE_ID = 0002
REVISION_ID = 0000
/* QUALITY DATA ELEMENTS */
DATA_QUALITY_ID = 1
DATA_QUALITY_DESC = "Data calculated based on original SPICE kernels"
/* TIME DATA ELEMENTS */
SPACECRAFT_CLOCK_START_COUNT = "1/0573454255.25696"
SPACECRAFT_CLOCK_STOP_COUNT = "1/0573454550.15003"
START_TIME = 2021-07-04T04:51:36.161Z
STOP_TIME = 2021-07-04T04:55:17.556Z
/* ORBITAL DATA ELEMENTS */
ASCENDING_NODE_LONGITUDE = 161.03
MAXIMUM_RESOLUTION = 0.0645
FOOTPRINT_POINT_LATITUDE = (60.4146,60.4022,60.3853,60.3622, 60.3613,60.2646,59.8494,59.4361,59.1605 ,58.8839,58.6076,58.1941,57.6523, 57.1098,56.8378,56.5656,56.1569,55.884, 55.6112,55.3368,55.0628,54.7887,54.3764 ,54.1015,53.8258,53.55,53.2741,52.8594, 52.4443,52.0288,51.6124,51.3346,50.9172 ,50.6388,50.3603,50.0814,49.6626, 49.3833,48.964,48.5442,48.2642,47.9836, 47.5629,47.2822,46.861,46.5799,46.4393, 46.3724,46.3763,46.3766,46.3711,46.3708 ,46.3718,46.6551,46.9368,47.3583, 47.6397,47.9205,48.202,48.4825,48.7633, 49.044,49.3242,49.6046,49.8847,50.1646, 50.4443,50.7238,51.0031,51.4216,51.701, 51.9789,52.396,52.8124,53.0897,53.5055, 53.7826,54.0589,54.4732,54.7492,55.0248 ,55.3004,55.5752,55.8496,56.1238, 56.3981,56.6717,56.9452,57.2186,57.4913 ,57.7638,58.3078,58.7253,59.0036, 59.2814,59.559,59.8361,60.1131,60.2525, 60.4146)
FOOTPRINT_POINT_LONGITUDE = (169.14,167.993,167.131,166.279,166.252 ,166.241,166.315,166.386,166.431, 166.476,166.519,166.582,166.661,166.737 ,166.773,166.809,166.86,166.894,166.927 ,166.958,166.99,167.02,167.064,167.093, 167.121,167.148,167.175,167.214,167.251 ,167.287,167.322,167.344,167.377, 167.398,167.418,167.438,167.467,167.486 ,167.513,167.539,167.556,167.572, 167.596,167.611,167.633,167.647,167.654 ,167.657,168.201,168.882,169.611, 169.629,169.636,169.631,169.627,169.622 ,169.618,169.615,169.61,169.606,169.602 ,169.597,169.592,169.587,169.582, 169.577,169.572,169.567,169.561,169.552 ,169.546,169.54,169.531,169.522,169.516 ,169.505,169.498,169.491,169.48,169.472 ,169.465,169.456,169.448,169.441, 169.432,169.423,169.415,169.405,169.396 ,169.386,169.377,169.356,169.34,169.329 ,169.317,169.306,169.293,169.281, 169.275,169.14)
ORBIT_NUMBER = 22121
ORBITAL_ECCENTRICITY = 0.571
ORBITAL_INCLINATION = 87.02
ORBITAL_SEMIMAJOR_AXIS = 8789.75
PERIAPSIS_ALTITUDE = 383.47
PERIAPSIS_ARGUMENT_ANGLE = 130.4
PERIAPSIS_TIME = 2021-07-04T04:54:57.000Z
SPACECRAFT_ORIENTATION = (0.0,-1.0,0.0)
^MEX_ORIENTATION_DESC = "MEX_ORIENTATION_DESC.TXT"
SPACECRAFT_POINTING_MODE = ACROSSTRACK
^MEX_POINTING_DESC = "MEX_POINTING_DESC.TXT"
RIGHT_ASCENSION = -1e+32
DECLINATION = -1e+32
OFFSET_ANGLE = 0.5
SPACECRAFT_SOLAR_DISTANCE = 2.49166e+08
TARGET_NAME = MARS
/* CAMERA DATA ELEMENTS */
DETECTOR_TEMPERATURE = 17.1471
FOCAL_PLANE_TEMPERATURE = 8.3794
INST_CMPRS_NAME = "DISCRETE COSINE TRANSFORMATION (DCT)"
INST_CMPRS_RATIO = 9.34995
INST_CMPRS_QUALITY = 0
INST_CMPRS_QUANTZ_TBL_ID = 0
INSTRUMENT_TEMPERATURE = 11.6418
LENS_TEMPERATURE = 8.7872
MACROPIXEL_SIZE = 4
MISSING_FRAMES = 0
PIXEL_SUBSAMPLING_FLAG = N
SIGNAL_CHAIN_ID = 2
/* RADIOMETRIC DATA ELEMENTS */
BANDWIDTH = 81.0
CENTER_FILTER_WAVELENGTH = 955.5
RADIANCE_OFFSET = 0.624518
RADIANCE_SCALING_FACTOR = 0.00625879
REFLECTANCE_SCALING_FACTOR = 0.000838292
MEX:REFLECTANCE_OFFSET = 0.083647
/* IMAGE OBJECT DEFINITIONS */
OBJECT = IMAGE
  INTERCHANGE_FORMAT = BINARY
  LINES = 16576
  LINE_SAMPLES = 2355
  SAMPLE_TYPE = UNSIGNED_INTEGER
  SAMPLE_BITS = 8
  BANDS = 1
  BAND_STORAGE_TYPE = BAND_SEQUENTIAL
  MAXIMUM = 255
  MEAN = 108.134
  MINIMUM = 1
  STANDARD_DEVIATION = 53.1979
END_OBJECT = IMAGE
/* MAP OBJECT DEFINITIONS */
OBJECT = IMAGE_MAP_PROJECTION
  ^DATA_SET_MAP_PROJECTION_CATALOG= "DSMAP.CAT"
  A_AXIS_RADIUS = 3396.0
  B_AXIS_RADIUS = 3396.0
  C_AXIS_RADIUS = 3396.0
  CENTER_LATITUDE = 0.0
  CENTER_LONGITUDE = 168.0
  COORDINATE_SYSTEM_NAME = PLANETOGRAPHIC
  COORDINATE_SYSTEM_TYPE = "BODY-FIXED ROTATING"
  EASTERNMOST_LONGITUDE = 169.636
  FIRST_STANDARD_PARALLEL = "N/A"
  LINE_FIRST_PIXEL = 1
  LINE_LAST_PIXEL = 16576
  LINE_PROJECTION_OFFSET = 71550.125
  MAP_PROJECTION_ROTATION = 0.0
  MAP_PROJECTION_TYPE = SINUSOIDAL
  MAP_RESOLUTION = 1185.42760773333
  MAP_SCALE = 0.05
  MAXIMUM_LATITUDE = 60.4146
  MINIMUM_LATITUDE = 46.3708
  POSITIVE_LONGITUDE_DIRECTION = EAST
  REFERENCE_LATITUDE = "N/A"
  REFERENCE_LONGITUDE = "N/A"
  SAMPLE_FIRST_PIXEL = 1
  SAMPLE_LAST_PIXEL = 2355
  SAMPLE_PROJECTION_OFFSET = 1022.875
  SECOND_STANDARD_PARALLEL = "N/A"
  WESTERNMOST_LONGITUDE = 166.241
END_OBJECT = IMAGE_MAP_PROJECTION
END
