PDS_VERSION_ID = PDS3
/* FILE DATA ELEMENTS */
RECORD_TYPE = UNDEFINED
/* POINTERS TO DATA OBJECTS */
^IMAGE = ("HM128_0000_BL4.TIF")
/* IDENTIFICATION DATA ELEMENTS */
DATA_SET_ID = "MEX-M-HRSC-4-REFDR-MAPPROJECT-EXT8-V4.0"
DATA_SET_NAME = "MARS EXPRESS HRSC MAP PROJECTED REFDR EXTENSION8 V4.0"
DETECTOR_ID = MEX_HRSC_BLUE
EVENT_TYPE = "MARS-REGIONAL-MAPPING-Vo-Te-Im"
INSTRUMENT_HOST_ID = MEX
INSTRUMENT_HOST_NAME = "MARS EXPRESS"
INSTRUMENT_ID = HRSC
INSTRUMENT_NAME = "HIGH RESOLUTION STEREO CAMERA"
MISSION_NAME = "MARS EXPRESS"
MISSION_PHASE_NAME = ME_Phase_45
PROCESSING_LEVEL_ID = 4
PRODUCT_CREATION_TIME = 2023-01-26T14:38:01.000Z
PRODUCT_ID = "HM128_0000_BL4.TIF"
RELEASE_ID = 0002
REVISION_ID = 0000
/* QUALITY DATA ELEMENTS */
DATA_QUALITY_ID = 1
DATA_QUALITY_DESC = "Data calculated based on original SPICE kernels"
/* TIME DATA ELEMENTS */
SPACECRAFT_CLOCK_START_COUNT = "1/0573630691.25682"
SPACECRAFT_CLOCK_STOP_COUNT = "1/0573631034.32567"
START_TIME = 2021-07-06T05:52:53.988Z
STOP_TIME = 2021-07-06T05:56:47.334Z
/* ORBITAL DATA ELEMENTS */
ASCENDING_NODE_LONGITUDE = 160.9
MAXIMUM_RESOLUTION = 0.0737
FOOTPRINT_POINT_LATITUDE = (32.0438,32.0436,32.0411,32.0342, 32.0339,32.0434,31.6762,31.1811,30.6888 ,30.4377,30.0611,29.5594,29.3034, 29.0478,28.7926,28.5375,28.148,27.8884, 27.6292,27.2346,26.9707,26.7072,26.307, 26.0391,25.7716,25.5004,25.2282,24.9565 ,24.6821,24.406,24.1302,23.8516,23.5715 ,23.2919,23.0082,22.5825,22.2957, 22.0079,21.7202,21.428,21.1364,20.6944, 20.399,19.9503,19.651,19.3473,18.8911, 18.5846,18.4306,18.4058,18.4008,18.3952 ,18.3876,18.3829,18.3716,18.3714, 18.3726,18.8351,19.4452,19.7484,20.0485 ,20.3484,20.645,21.0888,21.3813,21.8206 ,22.109,22.5421,22.969,23.2539,23.5342, 23.8155,24.0953,24.372,24.6491,24.9247, 25.1972,25.4702,25.7426,26.0109,26.2797 ,26.6816,26.9458,27.2104,27.6066, 27.8667,28.1271,28.3879,28.774,29.03, 29.2862,29.6691,29.9207,30.1725,30.4247 ,30.6771,31.4192,31.9138,32.0352, 32.0438)
FOOTPRINT_POINT_LONGITUDE = (172.843,172.291,171.727,170.965, 170.946,170.886,170.893,170.906,170.91, 170.912,170.915,170.921,170.923,170.926 ,170.928,170.93,170.932,170.933,170.934 ,170.935,170.935,170.936,170.936, 170.935,170.934,170.933,170.933,170.931 ,170.93,170.928,170.926,170.923,170.921 ,170.918,170.915,170.909,170.906, 170.901,170.897,170.892,170.887,170.879 ,170.874,170.865,170.858,170.852, 170.841,170.832,170.831,170.83,171.331, 171.742,172.191,172.508,173.093,173.113 ,173.12,173.113,173.104,173.099,173.094 ,173.09,173.085,173.078,173.073,173.065 ,173.06,173.052,173.044,173.039,173.034 ,173.028,173.023,173.018,173.012, 173.006,173.001,172.995,172.99,172.984, 172.978,172.969,172.963,172.957,172.948 ,172.942,172.936,172.93,172.92,172.914, 172.907,172.898,172.891,172.884,172.878 ,172.871,172.85,172.836,172.833, 172.843)
ORBIT_NUMBER = 22128
ORBITAL_ECCENTRICITY = 0.571
ORBITAL_INCLINATION = 87.02
ORBITAL_SEMIMAJOR_AXIS = 8787.5
PERIAPSIS_ALTITUDE = 384.0
PERIAPSIS_ARGUMENT_ANGLE = 129.2
PERIAPSIS_TIME = 2021-07-06T05:47:51.000Z
SPACECRAFT_ORIENTATION = (0.0,-1.0,0.0)
^MEX_ORIENTATION_DESC = "MEX_ORIENTATION_DESC.TXT"
SPACECRAFT_POINTING_MODE = ACROSSTRACK
^MEX_POINTING_DESC = "MEX_POINTING_DESC.TXT"
RIGHT_ASCENSION = -1e+32
DECLINATION = -1e+32
OFFSET_ANGLE = -1.2
SPACECRAFT_SOLAR_DISTANCE = 2.49189e+08
TARGET_NAME = MARS
/* CAMERA DATA ELEMENTS */
DETECTOR_TEMPERATURE = 18.1666
FOCAL_PLANE_TEMPERATURE = 8.3794
INST_CMPRS_NAME = "DISCRETE COSINE TRANSFORMATION (DCT)"
INST_CMPRS_RATIO = 14.0973
INST_CMPRS_QUALITY = 0
INST_CMPRS_QUANTZ_TBL_ID = 0
INSTRUMENT_TEMPERATURE = 10.8262
LENS_TEMPERATURE = 8.7872
MACROPIXEL_SIZE = 4
MISSING_FRAMES = 0
PIXEL_SUBSAMPLING_FLAG = N
SIGNAL_CHAIN_ID = 2
/* RADIOMETRIC DATA ELEMENTS */
BANDWIDTH = 76.0
CENTER_FILTER_WAVELENGTH = 444.0
RADIANCE_OFFSET = 0.492986
RADIANCE_SCALING_FACTOR = 0.00200111
REFLECTANCE_SCALING_FACTOR = 0.000127669
MEX:REFLECTANCE_OFFSET = 0.031452
/* IMAGE OBJECT DEFINITIONS */
OBJECT = IMAGE
  INTERCHANGE_FORMAT = BINARY
  LINES = 16217
  LINE_SAMPLES = 2556
  SAMPLE_TYPE = UNSIGNED_INTEGER
  SAMPLE_BITS = 8
  BANDS = 1
  BAND_STORAGE_TYPE = BAND_SEQUENTIAL
  MAXIMUM = 255
  MEAN = 130.724
  MINIMUM = 1
  STANDARD_DEVIATION = 21.1227
END_OBJECT = IMAGE
/* MAP OBJECT DEFINITIONS */
OBJECT = IMAGE_MAP_PROJECTION
  ^DATA_SET_MAP_PROJECTION_CATALOG= "DSMAP.CAT"
  A_AXIS_RADIUS = 3396.0
  B_AXIS_RADIUS = 3396.0
  C_AXIS_RADIUS = 3396.0
  CENTER_LATITUDE = 0.0
  CENTER_LONGITUDE = 172.0
  COORDINATE_SYSTEM_NAME = PLANETOGRAPHIC
  COORDINATE_SYSTEM_TYPE = "BODY-FIXED ROTATING"
  EASTERNMOST_LONGITUDE = 173.12
  FIRST_STANDARD_PARALLEL = "N/A"
  LINE_FIRST_PIXEL = 1
  LINE_LAST_PIXEL = 16217
  LINE_PROJECTION_OFFSET = 38006.125
  MAP_PROJECTION_ROTATION = 0.0
  MAP_PROJECTION_TYPE = SINUSOIDAL
  MAP_RESOLUTION = 1185.42760773333
  MAP_SCALE = 0.05
  MAXIMUM_LATITUDE = 32.0438
  MINIMUM_LATITUDE = 18.3714
  POSITIVE_LONGITUDE_DIRECTION = EAST
  REFERENCE_LATITUDE = "N/A"
  REFERENCE_LONGITUDE = "N/A"
  SAMPLE_FIRST_PIXEL = 1
  SAMPLE_LAST_PIXEL = 2556
  SAMPLE_PROJECTION_OFFSET = 1313.625
  SECOND_STANDARD_PARALLEL = "N/A"
  WESTERNMOST_LONGITUDE = 170.83
END_OBJECT = IMAGE_MAP_PROJECTION
END
