PDS_VERSION_ID = PDS3
/* FILE DATA ELEMENTS */
RECORD_TYPE = UNDEFINED
/* POINTERS TO DATA OBJECTS */
^IMAGE = ("HM128_0000_IR4.TIF")
/* IDENTIFICATION DATA ELEMENTS */
DATA_SET_ID = "MEX-M-HRSC-4-REFDR-MAPPROJECT-EXT8-V4.0"
DATA_SET_NAME = "MARS EXPRESS HRSC MAP PROJECTED REFDR EXTENSION8 V4.0"
DETECTOR_ID = MEX_HRSC_IR
EVENT_TYPE = "MARS-REGIONAL-MAPPING-Vo-Te-Im"
INSTRUMENT_HOST_ID = MEX
INSTRUMENT_HOST_NAME = "MARS EXPRESS"
INSTRUMENT_ID = HRSC
INSTRUMENT_NAME = "HIGH RESOLUTION STEREO CAMERA"
MISSION_NAME = "MARS EXPRESS"
MISSION_PHASE_NAME = ME_Phase_45
PROCESSING_LEVEL_ID = 4
PRODUCT_CREATION_TIME = 2023-01-26T14:38:01.000Z
PRODUCT_ID = "HM128_0000_IR4.TIF"
RELEASE_ID = 0002
REVISION_ID = 0000
/* QUALITY DATA ELEMENTS */
DATA_QUALITY_ID = 1
DATA_QUALITY_DESC = "Data calculated based on original SPICE kernels"
/* TIME DATA ELEMENTS */
SPACECRAFT_CLOCK_START_COUNT = "1/0573630691.25682"
SPACECRAFT_CLOCK_STOP_COUNT = "1/0573631034.32567"
START_TIME = 2021-07-06T05:52:12.024Z
STOP_TIME = 2021-07-06T05:55:48.743Z
/* ORBITAL DATA ELEMENTS */
ASCENDING_NODE_LONGITUDE = 160.9
MAXIMUM_RESOLUTION = 0.0736
FOOTPRINT_POINT_LATITUDE = (32.1255,32.096,32.0625,32.0118,32.0105 ,31.9566,31.3465,30.9748,30.6071, 30.1065,29.8552,29.6042,29.1024,28.7177 ,28.4611,28.2049,27.9488,27.5582, 27.2966,27.0348,26.7737,26.5086,26.2416 ,25.9747,25.7081,25.3025,25.031,24.7598 ,24.4861,24.2087,23.9315,23.6548, 23.3748,23.0924,22.8104,22.5273,22.2406 ,21.9528,21.5196,21.2274,20.9354, 20.6407,20.3437,20.0468,19.7465,19.4447 ,19.1428,18.8369,18.5294,18.377,18.3229 ,18.3508,18.3667,18.3818,18.4025, 18.4026,18.4042,18.7119,19.0257,19.3284 ,19.7821,20.0853,20.3837,20.6805, 21.1252,21.4192,21.7086,21.9972,22.4271 ,22.7146,22.9974,23.2804,23.7035, 23.9812,24.259,24.6758,24.948,25.2207, 25.4935,25.8984,26.1658,26.4336,26.8343 ,27.0965,27.4902,27.7526,28.0132,28.27, 28.5269,28.784,29.0414,29.297,29.675, 30.0516,30.3035,30.5551,31.0476,31.9131 ,32.0356,32.1255)
FOOTPRINT_POINT_LONGITUDE = (172.802,172.271,171.727,170.992, 170.974,170.915,170.93,170.934,170.941, 170.946,170.95,170.953,170.959,170.963, 170.966,170.968,170.97,170.972,170.974, 170.975,170.976,170.977,170.978,170.978 ,170.978,170.978,170.978,170.978, 170.976,170.975,170.973,170.972,170.97, 170.968,170.965,170.963,170.961,170.957 ,170.952,170.948,170.944,170.94,170.935 ,170.93,170.925,170.92,170.914,170.909, 170.902,170.9,170.898,171.529,171.911, 172.269,173.01,173.03,173.036,173.033, 173.03,173.026,173.021,173.017,173.014, 173.01,173.004,173.0,172.996,172.992, 172.985,172.981,172.977,172.973,172.966 ,172.962,172.957,172.95,172.946,172.941 ,172.936,172.929,172.924,172.919, 172.911,172.906,172.898,172.893,172.887 ,172.882,172.876,172.87,172.865,172.859 ,172.85,172.841,172.835,172.829,172.817 ,172.795,172.791,172.802)
ORBIT_NUMBER = 22128
ORBITAL_ECCENTRICITY = 0.571
ORBITAL_INCLINATION = 87.02
ORBITAL_SEMIMAJOR_AXIS = 8787.5
PERIAPSIS_ALTITUDE = 384.0
PERIAPSIS_ARGUMENT_ANGLE = 129.2
PERIAPSIS_TIME = 2021-07-06T05:47:51.000Z
SPACECRAFT_ORIENTATION = (0.0,-1.0,0.0)
^MEX_ORIENTATION_DESC = "MEX_ORIENTATION_DESC.TXT"
SPACECRAFT_POINTING_MODE = ACROSSTRACK
^MEX_POINTING_DESC = "MEX_POINTING_DESC.TXT"
RIGHT_ASCENSION = -1e+32
DECLINATION = -1e+32
OFFSET_ANGLE = -1.2
SPACECRAFT_SOLAR_DISTANCE = 2.49189e+08
TARGET_NAME = MARS
/* CAMERA DATA ELEMENTS */
DETECTOR_TEMPERATURE = 17.5549
FOCAL_PLANE_TEMPERATURE = 8.3794
INST_CMPRS_NAME = "DISCRETE COSINE TRANSFORMATION (DCT)"
INST_CMPRS_RATIO = 11.3605
INST_CMPRS_QUALITY = 0
INST_CMPRS_QUANTZ_TBL_ID = 0
INSTRUMENT_TEMPERATURE = 10.8262
LENS_TEMPERATURE = 8.7872
MACROPIXEL_SIZE = 4
MISSING_FRAMES = 0
PIXEL_SUBSAMPLING_FLAG = N
SIGNAL_CHAIN_ID = 2
/* RADIOMETRIC DATA ELEMENTS */
BANDWIDTH = 81.0
CENTER_FILTER_WAVELENGTH = 955.5
RADIANCE_OFFSET = 1.06006
RADIANCE_SCALING_FACTOR = 0.00671531
REFLECTANCE_SCALING_FACTOR = 0.000899603
MEX:REFLECTANCE_OFFSET = 0.142009
/* IMAGE OBJECT DEFINITIONS */
OBJECT = IMAGE
  INTERCHANGE_FORMAT = BINARY
  LINES = 16217
  LINE_SAMPLES = 2556
  SAMPLE_TYPE = UNSIGNED_INTEGER
  SAMPLE_BITS = 8
  BANDS = 1
  BAND_STORAGE_TYPE = BAND_SEQUENTIAL
  MAXIMUM = 255
  MEAN = 128.681
  MINIMUM = 1
  STANDARD_DEVIATION = 22.6139
END_OBJECT = IMAGE
/* MAP OBJECT DEFINITIONS */
OBJECT = IMAGE_MAP_PROJECTION
  ^DATA_SET_MAP_PROJECTION_CATALOG= "DSMAP.CAT"
  A_AXIS_RADIUS = 3396.0
  B_AXIS_RADIUS = 3396.0
  C_AXIS_RADIUS = 3396.0
  CENTER_LATITUDE = 0.0
  CENTER_LONGITUDE = 172.0
  COORDINATE_SYSTEM_NAME = PLANETOGRAPHIC
  COORDINATE_SYSTEM_TYPE = "BODY-FIXED ROTATING"
  EASTERNMOST_LONGITUDE = 173.036
  FIRST_STANDARD_PARALLEL = "N/A"
  LINE_FIRST_PIXEL = 1
  LINE_LAST_PIXEL = 16217
  LINE_PROJECTION_OFFSET = 38006.125
  MAP_PROJECTION_ROTATION = 0.0
  MAP_PROJECTION_TYPE = SINUSOIDAL
  MAP_RESOLUTION = 1185.42760773333
  MAP_SCALE = 0.05
  MAXIMUM_LATITUDE = 32.1255
  MINIMUM_LATITUDE = 18.3229
  POSITIVE_LONGITUDE_DIRECTION = EAST
  REFERENCE_LATITUDE = "N/A"
  REFERENCE_LONGITUDE = "N/A"
  SAMPLE_FIRST_PIXEL = 1
  SAMPLE_LAST_PIXEL = 2556
  SAMPLE_PROJECTION_OFFSET = 1313.625
  SECOND_STANDARD_PARALLEL = "N/A"
  WESTERNMOST_LONGITUDE = 170.898
END_OBJECT = IMAGE_MAP_PROJECTION
END
