PDS_VERSION_ID = PDS3
/* FILE DATA ELEMENTS */
RECORD_TYPE = UNDEFINED
/* POINTERS TO DATA OBJECTS */
^IMAGE = ("HM153_0000_P14.TIF")
/* IDENTIFICATION DATA ELEMENTS */
DATA_SET_ID = "MEX-M-HRSC-4-REFDR-MAPPROJECT-EXT8-V4.0"
DATA_SET_NAME = "MARS EXPRESS HRSC MAP PROJECTED REFDR EXTENSION8 V4.0"
DETECTOR_ID = MEX_HRSC_P1
EVENT_TYPE = "MARS-REGIONAL-MAPPING-Vo-Gl-Pf"
INSTRUMENT_HOST_ID = MEX
INSTRUMENT_HOST_NAME = "MARS EXPRESS"
INSTRUMENT_ID = HRSC
INSTRUMENT_NAME = "HIGH RESOLUTION STEREO CAMERA"
MISSION_NAME = "MARS EXPRESS"
MISSION_PHASE_NAME = ME_Phase_45
PROCESSING_LEVEL_ID = 4
PRODUCT_CREATION_TIME = 2023-01-26T14:38:01.000Z
PRODUCT_ID = "HM153_0000_P14.TIF"
RELEASE_ID = 0002
REVISION_ID = 0000
/* QUALITY DATA ELEMENTS */
DATA_QUALITY_ID = 1
DATA_QUALITY_DESC = "Data calculated based on original SPICE kernels"
/* TIME DATA ELEMENTS */
SPACECRAFT_CLOCK_START_COUNT = "1/0574258874.23993"
SPACECRAFT_CLOCK_STOP_COUNT = "1/0574259143.49198"
START_TIME = 2021-07-13T12:22:00.546Z
STOP_TIME = 2021-07-13T12:25:10.048Z
/* ORBITAL DATA ELEMENTS */
ASCENDING_NODE_LONGITUDE = 160.45
MAXIMUM_RESOLUTION = 0.0321
FOOTPRINT_POINT_LATITUDE = (55.2216,55.2364,55.2429,55.2442, 55.2442,55.1769,54.9352,54.4514,54.0881 ,53.8459,53.6032,53.3606,52.9967,52.754 ,52.5111,52.2683,51.9038,51.539,51.1741 ,50.809,50.5656,50.3225,49.957,49.7137, 49.3496,48.9837,48.7427,48.4938,48.1248 ,47.8826,47.5196,47.1545,46.9094, 46.6661,46.4213,46.1768,45.9328,45.6888 ,45.4448,45.2009,44.9569,44.7131, 44.4695,44.225,43.981,43.7371,43.4934, 43.1277,43.0058,43.0028,42.9914,42.9789 ,42.9695,42.9506,42.9498,42.95,43.1943, 43.5607,43.9277,44.1719,44.4164,44.6608 ,44.905,45.1495,45.3938,45.6382,46.0048 ,46.2495,46.6161,46.8606,47.2272, 47.4717,47.7162,47.9605,48.2053,48.4493 ,48.8159,49.1822,49.4266,49.6707, 50.0368,50.4026,50.6467,51.0128,51.2568 ,51.5005,51.7443,51.9878,52.3534, 52.7185,53.0836,53.4485,53.6917,53.9345 ,54.1774,54.4204,54.7844,55.027,55.1483 ,55.2216)
FOOTPRINT_POINT_LONGITUDE = (142.514,141.612,140.876,140.158, 140.136,140.176,140.194,140.228,140.253 ,140.269,140.285,140.3,140.322,140.336, 140.349,140.363,140.382,140.4,140.418, 140.435,140.446,140.456,140.472,140.481 ,140.494,140.508,140.515,140.526,140.54 ,140.546,140.555,140.565,140.572, 140.578,140.585,140.59,140.596,140.601, 140.606,140.611,140.615,140.62,140.624, 140.628,140.631,140.635,140.638,140.643 ,140.644,140.644,141.255,141.763, 142.082,142.649,142.67,142.677,142.678, 142.679,142.679,142.68,142.681,142.681, 142.682,142.683,142.684,142.684,142.685 ,142.686,142.687,142.687,142.688, 142.688,142.688,142.689,142.688,142.689 ,142.689,142.689,142.689,142.689,142.69 ,142.69,142.689,142.689,142.688,142.688 ,142.688,142.687,142.686,142.685, 142.684,142.683,142.681,142.681,142.68, 142.678,142.677,142.675,142.674, 142.514)
ORBIT_NUMBER = 22153
ORBITAL_ECCENTRICITY = 0.571
ORBITAL_INCLINATION = 87.01
ORBITAL_SEMIMAJOR_AXIS = 8785.2
PERIAPSIS_ALTITUDE = 386.16
PERIAPSIS_ARGUMENT_ANGLE = 124.89
PERIAPSIS_TIME = 2021-07-13T12:22:26.000Z
SPACECRAFT_ORIENTATION = (0.0,-1.0,0.0)
^MEX_ORIENTATION_DESC = "MEX_ORIENTATION_DESC.TXT"
SPACECRAFT_POINTING_MODE = ACROSSTRACK
^MEX_POINTING_DESC = "MEX_POINTING_DESC.TXT"
RIGHT_ASCENSION = -1e+32
DECLINATION = -1e+32
OFFSET_ANGLE = 1.145
SPACECRAFT_SOLAR_DISTANCE = 2.49223e+08
TARGET_NAME = MARS
/* CAMERA DATA ELEMENTS */
DETECTOR_TEMPERATURE = 17.1471
FOCAL_PLANE_TEMPERATURE = 7.9716
INST_CMPRS_NAME = "DISCRETE COSINE TRANSFORMATION (DCT)"
INST_CMPRS_RATIO = 9.57967
INST_CMPRS_QUALITY = 0
INST_CMPRS_QUANTZ_TBL_ID = 0
INSTRUMENT_TEMPERATURE = 11.234
LENS_TEMPERATURE = 7.156
MACROPIXEL_SIZE = 2
MISSING_FRAMES = 0
PIXEL_SUBSAMPLING_FLAG = N
SIGNAL_CHAIN_ID = 3
/* RADIOMETRIC DATA ELEMENTS */
BANDWIDTH = 174.0
CENTER_FILTER_WAVELENGTH = 675.0
RADIANCE_OFFSET = 4.46212
RADIANCE_SCALING_FACTOR = 0.0167377
REFLECTANCE_SCALING_FACTOR = 0.000559187
MEX:REFLECTANCE_OFFSET = 0.149074
/* IMAGE OBJECT DEFINITIONS */
OBJECT = IMAGE
  INTERCHANGE_FORMAT = BINARY
  LINES = 28958
  LINE_SAMPLES = 3663
  SAMPLE_TYPE = UNSIGNED_INTEGER
  SAMPLE_BITS = 8
  BANDS = 1
  BAND_STORAGE_TYPE = BAND_SEQUENTIAL
  MAXIMUM = 255
  MEAN = 120.635
  MINIMUM = 1
  STANDARD_DEVIATION = 58.7805
END_OBJECT = IMAGE
/* MAP OBJECT DEFINITIONS */
OBJECT = IMAGE_MAP_PROJECTION
  ^DATA_SET_MAP_PROJECTION_CATALOG= "DSMAP.CAT"
  A_AXIS_RADIUS = 3396.0
  B_AXIS_RADIUS = 3396.0
  C_AXIS_RADIUS = 3396.0
  CENTER_LATITUDE = 0.0
  CENTER_LONGITUDE = 142.0
  COORDINATE_SYSTEM_NAME = PLANETOGRAPHIC
  COORDINATE_SYSTEM_TYPE = "BODY-FIXED ROTATING"
  EASTERNMOST_LONGITUDE = 142.69
  FIRST_STANDARD_PARALLEL = "N/A"
  LINE_FIRST_PIXEL = 1
  LINE_LAST_PIXEL = 28958
  LINE_PROJECTION_OFFSET = 130875.75
  MAP_PROJECTION_ROTATION = 0.0
  MAP_PROJECTION_TYPE = SINUSOIDAL
  MAP_RESOLUTION = 2370.85521546667
  MAP_SCALE = 0.025
  MAXIMUM_LATITUDE = 55.2442
  MINIMUM_LATITUDE = 42.9498
  POSITIVE_LONGITUDE_DIRECTION = EAST
  REFERENCE_LATITUDE = "N/A"
  REFERENCE_LONGITUDE = "N/A"
  SAMPLE_FIRST_PIXEL = 1
  SAMPLE_LAST_PIXEL = 3663
  SAMPLE_PROJECTION_OFFSET = 2479.25
  SECOND_STANDARD_PARALLEL = "N/A"
  WESTERNMOST_LONGITUDE = 140.136
END_OBJECT = IMAGE_MAP_PROJECTION
END
