PDS_VERSION_ID = PDS3
/* FILE DATA ELEMENTS */
RECORD_TYPE = UNDEFINED
/* POINTERS TO DATA OBJECTS */
^IMAGE = ("HM160_0000_P24.TIF")
/* IDENTIFICATION DATA ELEMENTS */
DATA_SET_ID = "MEX-M-HRSC-4-REFDR-MAPPROJECT-EXT8-V4.0"
DATA_SET_NAME = "MARS EXPRESS HRSC MAP PROJECTED REFDR EXTENSION8 V4.0"
DETECTOR_ID = MEX_HRSC_P2
EVENT_TYPE = "MARS-REGIONAL-MAPPING-Vo-Gl-Pf"
INSTRUMENT_HOST_ID = MEX
INSTRUMENT_HOST_NAME = "MARS EXPRESS"
INSTRUMENT_ID = HRSC
INSTRUMENT_NAME = "HIGH RESOLUTION STEREO CAMERA"
MISSION_NAME = "MARS EXPRESS"
MISSION_PHASE_NAME = ME_Phase_45
PROCESSING_LEVEL_ID = 4
PRODUCT_CREATION_TIME = 2023-01-26T14:38:01.000Z
PRODUCT_ID = "HM160_0000_P24.TIF"
RELEASE_ID = 0002
REVISION_ID = 0000
/* QUALITY DATA ELEMENTS */
DATA_QUALITY_ID = 1
DATA_QUALITY_DESC = "Data calculated based on original SPICE kernels"
/* TIME DATA ELEMENTS */
SPACECRAFT_CLOCK_START_COUNT = "1/0574434783.25668"
SPACECRAFT_CLOCK_STOP_COUNT = "1/0574435104.01229"
START_TIME = 2021-07-15T13:14:37.234Z
STOP_TIME = 2021-07-15T13:18:42.234Z
/* ORBITAL DATA ELEMENTS */
ASCENDING_NODE_LONGITUDE = 160.32
MAXIMUM_RESOLUTION = 0.0322
FOOTPRINT_POINT_LATITUDE = (60.5133,60.4929,60.4656,60.4228, 60.4217,60.4948,60.1832,59.8716,59.4043 ,58.9371,58.6256,58.3145,57.8477, 57.3812,57.0703,56.7595,56.4486,56.1384 ,55.6728,55.2076,54.8977,54.5882, 54.2787,53.9695,53.6605,53.3515,53.043, 52.5804,52.2722,51.9645,51.6569,51.3497 ,51.0425,50.7358,50.4293,50.1231, 49.8173,49.5118,49.0536,48.749,48.4445, 48.1403,47.8366,47.2299,46.6248,46.0213 ,45.7147,45.2513,45.0971,45.0522, 45.0656,45.0782,45.0838,45.084,45.0845, 45.3941,45.7039,46.0124,46.6178,47.2248 ,47.6812,47.9855,48.2903,48.7484, 49.2071,49.5134,49.8202,50.1272,50.4344 ,50.7421,51.0499,51.3579,51.8207, 52.1294,52.4385,52.7481,53.2124,53.6776 ,53.9878,54.2981,54.609,54.9202,55.2315 ,55.543,55.8546,56.1663,56.6343,57.1026 ,57.4151,57.7278,58.0406,58.3536, 58.6666,58.9798,59.2931,59.6065,59.92, 60.3902,60.5471,60.5133)
FOOTPRINT_POINT_LONGITUDE = (144.666,143.946,143.122,142.035, 142.009,141.892,141.958,142.022,142.115 ,142.205,142.262,142.318,142.399, 142.476,142.526,142.575,142.623,142.668 ,142.735,142.8,142.841,142.881,142.92, 142.958,142.994,143.03,143.065,143.115, 143.148,143.18,143.21,143.24,143.269, 143.297,143.324,143.351,143.377,143.402 ,143.438,143.461,143.484,143.505, 143.527,143.567,143.605,143.64,143.657, 143.682,143.69,143.692,144.366,145.219, 145.766,145.786,145.793,145.781,145.768 ,145.755,145.729,145.702,145.681, 145.666,145.651,145.628,145.605,145.589 ,145.573,145.556,145.539,145.521, 145.503,145.485,145.457,145.438,145.418 ,145.398,145.367,145.335,145.313,145.29 ,145.267,145.244,145.22,145.196,145.17, 145.145,145.105,145.064,145.035,145.006 ,144.977,144.946,144.915,144.883, 144.851,144.817,144.783,144.73,144.712, 144.666)
ORBIT_NUMBER = 22160
ORBITAL_ECCENTRICITY = 0.571
ORBITAL_INCLINATION = 87.01
ORBITAL_SEMIMAJOR_AXIS = 8782.64
PERIAPSIS_ALTITUDE = 386.92
PERIAPSIS_ARGUMENT_ANGLE = 123.68
PERIAPSIS_TIME = 2021-07-15T13:15:21.000Z
SPACECRAFT_ORIENTATION = (0.0,-1.0,0.0)
^MEX_ORIENTATION_DESC = "MEX_ORIENTATION_DESC.TXT"
SPACECRAFT_POINTING_MODE = ACROSSTRACK
^MEX_POINTING_DESC = "MEX_POINTING_DESC.TXT"
RIGHT_ASCENSION = -1e+32
DECLINATION = -1e+32
OFFSET_ANGLE = -0.2
SPACECRAFT_SOLAR_DISTANCE = 2.49219e+08
TARGET_NAME = MARS
/* CAMERA DATA ELEMENTS */
DETECTOR_TEMPERATURE = 18.1666
FOCAL_PLANE_TEMPERATURE = 7.9716
INST_CMPRS_NAME = "DISCRETE COSINE TRANSFORMATION (DCT)"
INST_CMPRS_RATIO = 6.84335
INST_CMPRS_QUALITY = 0
INST_CMPRS_QUANTZ_TBL_ID = 0
INSTRUMENT_TEMPERATURE = 10.8262
LENS_TEMPERATURE = 6.9521
MACROPIXEL_SIZE = 2
MISSING_FRAMES = 0
PIXEL_SUBSAMPLING_FLAG = N
SIGNAL_CHAIN_ID = 3
/* RADIOMETRIC DATA ELEMENTS */
BANDWIDTH = 177.0
CENTER_FILTER_WAVELENGTH = 676.5
RADIANCE_OFFSET = 3.82141
RADIANCE_SCALING_FACTOR = 0.0174195
REFLECTANCE_SCALING_FACTOR = 0.000573659
MEX:REFLECTANCE_OFFSET = 0.125846
/* IMAGE OBJECT DEFINITIONS */
OBJECT = IMAGE
  INTERCHANGE_FORMAT = BINARY
  LINES = 36885
  LINE_SAMPLES = 5422
  SAMPLE_TYPE = UNSIGNED_INTEGER
  SAMPLE_BITS = 8
  BANDS = 1
  BAND_STORAGE_TYPE = BAND_SEQUENTIAL
  MAXIMUM = 255
  MEAN = 104.109
  MINIMUM = 1
  STANDARD_DEVIATION = 65.6752
END_OBJECT = IMAGE
/* MAP OBJECT DEFINITIONS */
OBJECT = IMAGE_MAP_PROJECTION
  ^DATA_SET_MAP_PROJECTION_CATALOG= "DSMAP.CAT"
  A_AXIS_RADIUS = 3396.0
  B_AXIS_RADIUS = 3396.0
  C_AXIS_RADIUS = 3396.0
  CENTER_LATITUDE = 0.0
  CENTER_LONGITUDE = 144.0
  COORDINATE_SYSTEM_NAME = PLANETOGRAPHIC
  COORDINATE_SYSTEM_TYPE = "BODY-FIXED ROTATING"
  EASTERNMOST_LONGITUDE = 145.793
  FIRST_STANDARD_PARALLEL = "N/A"
  LINE_FIRST_PIXEL = 1
  LINE_LAST_PIXEL = 36885
  LINE_PROJECTION_OFFSET = 143649.25
  MAP_PROJECTION_ROTATION = 0.0
  MAP_PROJECTION_TYPE = SINUSOIDAL
  MAP_RESOLUTION = 2370.85521546667
  MAP_SCALE = 0.025
  MAXIMUM_LATITUDE = 60.5471
  MINIMUM_LATITUDE = 45.0522
  POSITIVE_LONGITUDE_DIRECTION = EAST
  REFERENCE_LATITUDE = "N/A"
  REFERENCE_LONGITUDE = "N/A"
  SAMPLE_FIRST_PIXEL = 1
  SAMPLE_LAST_PIXEL = 5422
  SAMPLE_PROJECTION_OFFSET = 2461.75
  SECOND_STANDARD_PARALLEL = "N/A"
  WESTERNMOST_LONGITUDE = 141.892
END_OBJECT = IMAGE_MAP_PROJECTION
END
