PDS_VERSION_ID = PDS3
/* FILE DATA ELEMENTS */
RECORD_TYPE = UNDEFINED
/* POINTERS TO DATA OBJECTS */
^IMAGE = ("HM160_0000_S24.TIF")
/* IDENTIFICATION DATA ELEMENTS */
DATA_SET_ID = "MEX-M-HRSC-4-REFDR-MAPPROJECT-EXT8-V4.0"
DATA_SET_NAME = "MARS EXPRESS HRSC MAP PROJECTED REFDR EXTENSION8 V4.0"
DETECTOR_ID = MEX_HRSC_S2
EVENT_TYPE = "MARS-REGIONAL-MAPPING-Vo-Gl-Pf"
INSTRUMENT_HOST_ID = MEX
INSTRUMENT_HOST_NAME = "MARS EXPRESS"
INSTRUMENT_ID = HRSC
INSTRUMENT_NAME = "HIGH RESOLUTION STEREO CAMERA"
MISSION_NAME = "MARS EXPRESS"
MISSION_PHASE_NAME = ME_Phase_45
PROCESSING_LEVEL_ID = 4
PRODUCT_CREATION_TIME = 2023-01-26T14:38:01.000Z
PRODUCT_ID = "HM160_0000_S24.TIF"
RELEASE_ID = 0002
REVISION_ID = 0000
/* QUALITY DATA ELEMENTS */
DATA_QUALITY_ID = 1
DATA_QUALITY_DESC = "Data calculated based on original SPICE kernels"
/* TIME DATA ELEMENTS */
SPACECRAFT_CLOCK_START_COUNT = "1/0574434783.25668"
SPACECRAFT_CLOCK_STOP_COUNT = "1/0574435104.01229"
START_TIME = 2021-07-15T13:14:49.359Z
STOP_TIME = 2021-07-15T13:18:55.853Z
/* ORBITAL DATA ELEMENTS */
ASCENDING_NODE_LONGITUDE = 160.32
MAXIMUM_RESOLUTION = 0.0333
FOOTPRINT_POINT_LATITUDE = (60.4823,60.4608,60.4354,60.3999, 60.3989,60.5128,60.1988,59.7278,59.4142 ,59.1002,58.787,58.3174,58.0042,57.6916 ,57.2228,56.9106,56.5982,56.2868, 55.9751,55.664,55.1973,54.8867,54.5766, 54.2667,53.9572,53.6478,53.3386,53.0301 ,52.5676,52.2595,51.9521,51.4914, 51.1848,50.8785,50.5727,50.2671,49.9622 ,49.6576,49.3532,49.0491,48.7458, 48.2916,47.5366,46.9347,46.4766,46.1694 ,45.7088,45.2493,45.0966,45.0799, 45.0925,45.099,45.103,45.1031,45.1036, 45.4106,45.7179,46.0255,46.4882,46.797, 47.4005,47.7029,48.0056,48.3088,48.7646 ,49.2209,49.5265,49.985,50.2914,50.7514 ,51.0585,51.3661,51.8283,52.1367, 52.4454,52.7551,53.2193,53.6848,53.9954 ,54.3059,54.7733,55.0853,55.5537, 55.8662,56.1788,56.4918,56.8053,57.119, 57.4327,57.7471,58.0617,58.3763,58.6911 ,59.1641,59.4795,59.795,60.1109,60.4268 ,60.585,60.4823)
FOOTPRINT_POINT_LONGITUDE = (144.675,143.852,143.026,142.041, 142.015,141.889,141.955,142.051,142.113 ,142.173,142.231,142.316,142.37,142.423 ,142.499,142.548,142.597,142.643, 142.688,142.732,142.796,142.837,142.877 ,142.915,142.953,142.989,143.025, 143.059,143.109,143.142,143.173,143.218 ,143.247,143.275,143.303,143.329, 143.355,143.38,143.404,143.428,143.451, 143.483,143.535,143.573,143.601,143.618 ,143.644,143.668,143.676,143.677, 144.569,145.188,145.784,145.805,145.812 ,145.799,145.786,145.773,145.753, 145.739,145.711,145.697,145.682,145.667 ,145.644,145.62,145.604,145.579,145.562 ,145.535,145.517,145.499,145.47,145.451 ,145.431,145.41,145.379,145.347,145.324 ,145.301,145.266,145.242,145.205,145.18 ,145.154,145.127,145.099,145.071, 145.043,145.013,144.983,144.952,144.921 ,144.872,144.838,144.804,144.768, 144.732,144.713,144.675)
ORBIT_NUMBER = 22160
ORBITAL_ECCENTRICITY = 0.571
ORBITAL_INCLINATION = 87.01
ORBITAL_SEMIMAJOR_AXIS = 8782.64
PERIAPSIS_ALTITUDE = 386.92
PERIAPSIS_ARGUMENT_ANGLE = 123.68
PERIAPSIS_TIME = 2021-07-15T13:15:21.000Z
SPACECRAFT_ORIENTATION = (0.0,-1.0,0.0)
^MEX_ORIENTATION_DESC = "MEX_ORIENTATION_DESC.TXT"
SPACECRAFT_POINTING_MODE = ACROSSTRACK
^MEX_POINTING_DESC = "MEX_POINTING_DESC.TXT"
RIGHT_ASCENSION = -1e+32
DECLINATION = -1e+32
OFFSET_ANGLE = -0.2
SPACECRAFT_SOLAR_DISTANCE = 2.49219e+08
TARGET_NAME = MARS
/* CAMERA DATA ELEMENTS */
DETECTOR_TEMPERATURE = 18.1666
FOCAL_PLANE_TEMPERATURE = 7.9716
INST_CMPRS_NAME = "DISCRETE COSINE TRANSFORMATION (DCT)"
INST_CMPRS_RATIO = 11.1782
INST_CMPRS_QUALITY = 0
INST_CMPRS_QUANTZ_TBL_ID = 0
INSTRUMENT_TEMPERATURE = 10.8262
LENS_TEMPERATURE = 6.9521
MACROPIXEL_SIZE = 2
MISSING_FRAMES = 0
PIXEL_SUBSAMPLING_FLAG = N
SIGNAL_CHAIN_ID = 1
/* RADIOMETRIC DATA ELEMENTS */
BANDWIDTH = 178.0
CENTER_FILTER_WAVELENGTH = 679.0
RADIANCE_OFFSET = 4.07994
RADIANCE_SCALING_FACTOR = 0.0183298
REFLECTANCE_SCALING_FACTOR = 0.000602906
MEX:REFLECTANCE_OFFSET = 0.134198
/* IMAGE OBJECT DEFINITIONS */
OBJECT = IMAGE
  INTERCHANGE_FORMAT = BINARY
  LINES = 36885
  LINE_SAMPLES = 5422
  SAMPLE_TYPE = UNSIGNED_INTEGER
  SAMPLE_BITS = 8
  BANDS = 1
  BAND_STORAGE_TYPE = BAND_SEQUENTIAL
  MAXIMUM = 255
  MEAN = 104.432
  MINIMUM = 1
  STANDARD_DEVIATION = 65.6295
END_OBJECT = IMAGE
/* MAP OBJECT DEFINITIONS */
OBJECT = IMAGE_MAP_PROJECTION
  ^DATA_SET_MAP_PROJECTION_CATALOG= "DSMAP.CAT"
  A_AXIS_RADIUS = 3396.0
  B_AXIS_RADIUS = 3396.0
  C_AXIS_RADIUS = 3396.0
  CENTER_LATITUDE = 0.0
  CENTER_LONGITUDE = 144.0
  COORDINATE_SYSTEM_NAME = PLANETOGRAPHIC
  COORDINATE_SYSTEM_TYPE = "BODY-FIXED ROTATING"
  EASTERNMOST_LONGITUDE = 145.812
  FIRST_STANDARD_PARALLEL = "N/A"
  LINE_FIRST_PIXEL = 1
  LINE_LAST_PIXEL = 36885
  LINE_PROJECTION_OFFSET = 143649.25
  MAP_PROJECTION_ROTATION = 0.0
  MAP_PROJECTION_TYPE = SINUSOIDAL
  MAP_RESOLUTION = 2370.85521546667
  MAP_SCALE = 0.025
  MAXIMUM_LATITUDE = 60.585
  MINIMUM_LATITUDE = 45.0799
  POSITIVE_LONGITUDE_DIRECTION = EAST
  REFERENCE_LATITUDE = "N/A"
  REFERENCE_LONGITUDE = "N/A"
  SAMPLE_FIRST_PIXEL = 1
  SAMPLE_LAST_PIXEL = 5422
  SAMPLE_PROJECTION_OFFSET = 2461.75
  SECOND_STANDARD_PARALLEL = "N/A"
  WESTERNMOST_LONGITUDE = 141.889
END_OBJECT = IMAGE_MAP_PROJECTION
END
