PDS_VERSION_ID = PDS3
/* FILE DATA ELEMENTS */
RECORD_TYPE = UNDEFINED
/* POINTERS TO DATA OBJECTS */
^IMAGE = ("HM161_0000_GR4.TIF")
/* IDENTIFICATION DATA ELEMENTS */
DATA_SET_ID = "MEX-M-HRSC-4-REFDR-MAPPROJECT-EXT8-V4.0"
DATA_SET_NAME = "MARS EXPRESS HRSC MAP PROJECTED REFDR EXTENSION8 V4.0"
DETECTOR_ID = MEX_HRSC_GREEN
EVENT_TYPE = "MARS-REGIONAL-MAPPING-Im-Pf-Mw"
INSTRUMENT_HOST_ID = MEX
INSTRUMENT_HOST_NAME = "MARS EXPRESS"
INSTRUMENT_ID = HRSC
INSTRUMENT_NAME = "HIGH RESOLUTION STEREO CAMERA"
MISSION_NAME = "MARS EXPRESS"
MISSION_PHASE_NAME = ME_Phase_45
PROCESSING_LEVEL_ID = 4
PRODUCT_CREATION_TIME = 2023-01-26T14:38:01.000Z
PRODUCT_ID = "HM161_0000_GR4.TIF"
RELEASE_ID = 0002
REVISION_ID = 0000
/* QUALITY DATA ELEMENTS */
DATA_QUALITY_ID = 1
DATA_QUALITY_DESC = "Data calculated based on original SPICE kernels"
/* TIME DATA ELEMENTS */
SPACECRAFT_CLOCK_START_COUNT = "1/0574459823.25686"
SPACECRAFT_CLOCK_STOP_COUNT = "1/0574460109.58480"
START_TIME = 2021-07-15T20:11:30.424Z
STOP_TIME = 2021-07-15T20:14:59.783Z
/* ORBITAL DATA ELEMENTS */
ASCENDING_NODE_LONGITUDE = 160.3
MAXIMUM_RESOLUTION = 0.0622
FOOTPRINT_POINT_LATITUDE = (66.7655,66.7203,66.6693,66.5867, 66.5846,66.5536,66.2885,66.0231,65.5054 ,64.9865,64.4666,63.9457,63.6849, 63.4239,63.024,62.7625,62.5006,62.2387, 61.9765,61.7141,61.4515,61.1887,60.9258 ,60.6627,60.3995,60.136,59.8726,59.6089 ,59.345,59.081,58.8169,58.5527,58.2884, 58.0239,57.7593,57.4947,57.2299,56.7002 ,56.3026,55.9049,55.5071,55.2418, 54.9764,54.5782,54.3128,53.9146,53.5162 ,53.3834,53.3452,53.3736,53.4075, 53.4349,53.4355,53.4367,53.7035,54.1037 ,54.5039,54.7707,55.0374,55.4374, 55.7041,55.9707,56.3706,56.6372,56.9036 ,57.1701,57.4362,57.7027,57.9691, 58.2352,58.5012,58.9002,59.1661,59.4319 ,59.6976,59.9632,60.2287,60.494,60.7593 ,61.0244,61.2894,61.6868,61.9515,62.216 ,62.6126,62.8768,63.1408,63.5445, 63.8082,64.0716,64.3349,64.5979,64.8608 ,65.1235,65.3861,65.6484,66.1725, 66.5745,66.7087,66.7655)
FOOTPRINT_POINT_LONGITUDE = (40.839,39.8084,38.8034,37.3988,37.3659 ,37.2043,37.3139,37.4208,37.6214, 37.8123,37.9947,38.1684,38.2523,38.3341 ,38.456,38.5335,38.6085,38.6825,38.7545 ,38.8249,38.8937,38.9607,39.0264, 39.0907,39.1536,39.215,39.2754,39.3344, 39.3915,39.4475,39.5025,39.5564,39.6091 ,39.6603,39.7106,39.7598,39.8078,39.901 ,39.968,40.0331,40.0959,40.1368,40.1764 ,40.2345,40.2724,40.3274,40.3805, 40.3977,40.4027,41.0074,41.8415,42.6655 ,42.6866,42.6935,42.672,42.6391,42.6053 ,42.5822,42.5587,42.5226,42.498,42.4728 ,42.4343,42.4079,42.3812,42.3538, 42.3261,42.2975,42.2685,42.239,42.2089, 42.1626,42.131,42.0987,42.0658,42.0322, 41.9979,41.9629,41.9272,41.8908,41.8536 ,41.7962,41.757,41.7171,41.6554,41.6132 ,41.5702,41.5023,41.4567,41.4102, 41.3626,41.314,41.2642,41.2132,41.1611, 41.1078,40.9973,40.909,40.8788,40.839)
ORBIT_NUMBER = 22161
ORBITAL_ECCENTRICITY = 0.571
ORBITAL_INCLINATION = 87.02
ORBITAL_SEMIMAJOR_AXIS = 8784.53
PERIAPSIS_ALTITUDE = 386.47
PERIAPSIS_ARGUMENT_ANGLE = 123.51
PERIAPSIS_TIME = 2021-07-15T20:14:19.000Z
SPACECRAFT_ORIENTATION = (0.0,-1.0,0.0)
^MEX_ORIENTATION_DESC = "MEX_ORIENTATION_DESC.TXT"
SPACECRAFT_POINTING_MODE = ACROSSTRACK
^MEX_POINTING_DESC = "MEX_POINTING_DESC.TXT"
RIGHT_ASCENSION = -1e+32
DECLINATION = -1e+32
OFFSET_ANGLE = -0.499
SPACECRAFT_SOLAR_DISTANCE = 2.49217e+08
TARGET_NAME = MARS
/* CAMERA DATA ELEMENTS */
DETECTOR_TEMPERATURE = 18.3705
FOCAL_PLANE_TEMPERATURE = 7.9716
INST_CMPRS_NAME = "DISCRETE COSINE TRANSFORMATION (DCT)"
INST_CMPRS_RATIO = 12.7186
INST_CMPRS_QUALITY = 0
INST_CMPRS_QUANTZ_TBL_ID = 0
INSTRUMENT_TEMPERATURE = 10.6223
LENS_TEMPERATURE = 8.7872
MACROPIXEL_SIZE = 4
MISSING_FRAMES = 1
PIXEL_SUBSAMPLING_FLAG = N
SIGNAL_CHAIN_ID = 2
/* RADIOMETRIC DATA ELEMENTS */
BANDWIDTH = 88.0
CENTER_FILTER_WAVELENGTH = 538.0
RADIANCE_OFFSET = 1.03605
RADIANCE_SCALING_FACTOR = 0.00756546
REFLECTANCE_SCALING_FACTOR = 0.000404558
MEX:REFLECTANCE_OFFSET = 0.055402
/* IMAGE OBJECT DEFINITIONS */
OBJECT = IMAGE
  INTERCHANGE_FORMAT = BINARY
  LINES = 15892
  LINE_SAMPLES = 2995
  SAMPLE_TYPE = UNSIGNED_INTEGER
  SAMPLE_BITS = 8
  BANDS = 1
  BAND_STORAGE_TYPE = BAND_SEQUENTIAL
  MAXIMUM = 255
  MEAN = 60.0722
  MINIMUM = 1
  STANDARD_DEVIATION = 11.4287
END_OBJECT = IMAGE
/* MAP OBJECT DEFINITIONS */
OBJECT = IMAGE_MAP_PROJECTION
  ^DATA_SET_MAP_PROJECTION_CATALOG= "DSMAP.CAT"
  A_AXIS_RADIUS = 3396.0
  B_AXIS_RADIUS = 3396.0
  C_AXIS_RADIUS = 3396.0
  CENTER_LATITUDE = 0.0
  CENTER_LONGITUDE = 41.0
  COORDINATE_SYSTEM_NAME = PLANETOGRAPHIC
  COORDINATE_SYSTEM_TYPE = "BODY-FIXED ROTATING"
  EASTERNMOST_LONGITUDE = 42.6935
  FIRST_STANDARD_PARALLEL = "N/A"
  LINE_FIRST_PIXEL = 1
  LINE_LAST_PIXEL = 15892
  LINE_PROJECTION_OFFSET = 79131.375
  MAP_PROJECTION_ROTATION = 0.0
  MAP_PROJECTION_TYPE = SINUSOIDAL
  MAP_RESOLUTION = 1185.42760773333
  MAP_SCALE = 0.05
  MAXIMUM_LATITUDE = 66.7655
  MINIMUM_LATITUDE = 53.3452
  POSITIVE_LONGITUDE_DIRECTION = EAST
  REFERENCE_LATITUDE = "N/A"
  REFERENCE_LONGITUDE = "N/A"
  SAMPLE_FIRST_PIXEL = 1
  SAMPLE_LAST_PIXEL = 2995
  SAMPLE_PROJECTION_OFFSET = 1797.125
  SECOND_STANDARD_PARALLEL = "N/A"
  WESTERNMOST_LONGITUDE = 37.2043
END_OBJECT = IMAGE_MAP_PROJECTION
END
