PDS_VERSION_ID = PDS3
/* FILE DATA ELEMENTS */
RECORD_TYPE = UNDEFINED
/* POINTERS TO DATA OBJECTS */
^IMAGE = ("HM173_0000_BL4.TIF")
/* IDENTIFICATION DATA ELEMENTS */
DATA_SET_ID = "MEX-M-HRSC-4-REFDR-MAPPROJECT-EXT8-V4.0"
DATA_SET_NAME = "MARS EXPRESS HRSC MAP PROJECTED REFDR EXTENSION8 V4.0"
DETECTOR_ID = MEX_HRSC_BLUE
EVENT_TYPE = "MARS-LOCAL-CARTOGRAPHY-Vo-Te-Gl"
INSTRUMENT_HOST_ID = MEX
INSTRUMENT_HOST_NAME = "MARS EXPRESS"
INSTRUMENT_ID = HRSC
INSTRUMENT_NAME = "HIGH RESOLUTION STEREO CAMERA"
MISSION_NAME = "MARS EXPRESS"
MISSION_PHASE_NAME = ME_Phase_45
PROCESSING_LEVEL_ID = 4
PRODUCT_CREATION_TIME = 2023-01-26T14:38:01.000Z
PRODUCT_ID = "HM173_0000_BL4.TIF"
RELEASE_ID = 0002
REVISION_ID = 0000
/* QUALITY DATA ELEMENTS */
DATA_QUALITY_ID = 1
DATA_QUALITY_DESC = "Data calculated based on original SPICE kernels"
/* TIME DATA ELEMENTS */
SPACECRAFT_CLOCK_START_COUNT = "1/0574761531.25667"
SPACECRAFT_CLOCK_STOP_COUNT = "1/0574762009.31806"
START_TIME = 2021-07-19T08:00:09.884Z
STOP_TIME = 2021-07-19T08:06:44.782Z
/* ORBITAL DATA ELEMENTS */
ASCENDING_NODE_LONGITUDE = 160.1
MAXIMUM_RESOLUTION = 0.0621
FOOTPRINT_POINT_LATITUDE = (66.6973,66.6159,66.5483,66.5465, 66.5603,66.0689,65.5768,65.0841,64.5908 ,64.0971,63.6029,63.1084,62.6134, 62.1181,61.6226,60.8787,60.3825,59.8862 ,59.1415,58.3966,57.6517,57.1551, 56.6586,56.1622,55.666,55.1699,54.4261, 53.9306,53.4354,52.9405,52.4458,51.9516 ,51.4578,50.4718,49.4876,48.5054, 47.5255,46.7861,46.285,45.7844,45.2846, 44.5229,44.0124,43.5031,42.9843,42.4637 ,41.9445,41.6809,41.6443,41.6675, 41.6787,41.6788,41.6799,42.4662,42.988, 43.5085,44.0199,44.5312,45.2955,45.7962 ,46.2979,46.8005,47.2977,48.2797, 49.2642,50.2512,50.7456,51.2405,51.7358 ,52.2317,52.7279,53.2246,53.7217, 54.2192,54.7171,55.2152,55.7136,56.2122 ,56.7112,57.2102,57.7094,58.2085, 58.7082,59.2077,59.7072,60.2068,60.7063 ,61.4555,61.9548,62.454,62.953,63.4518, 63.9505,64.4488,64.9469,65.4447,65.9422 ,66.4393,66.6877,66.6973)
FOOTPRINT_POINT_LONGITUDE = (255.871,253.869,252.55,252.519,252.374 ,252.56,252.736,252.905,253.066,253.219 ,253.365,253.505,253.639,253.766, 253.889,254.062,254.172,254.276,254.425 ,254.564,254.695,254.778,254.857, 254.932,255.004,255.073,255.172,255.234 ,255.293,255.35,255.405,255.457,255.507 ,255.599,255.683,255.761,255.831, 255.881,255.912,255.943,255.972,256.013 ,256.038,256.061,256.085,256.106, 256.126,256.135,256.136,257.246,258.161 ,258.18,258.186,258.16,258.141,258.122, 258.103,258.082,258.05,258.029,258.007, 257.984,257.96,257.911,257.859,257.803, 257.773,257.743,257.711,257.678,257.645 ,257.61,257.573,257.536,257.497,257.457 ,257.415,257.372,257.327,257.28,257.232 ,257.181,257.129,257.075,257.018,256.96 ,256.899,256.803,256.735,256.665, 256.592,256.515,256.436,256.352,256.265 ,256.175,256.08,255.98,255.929,255.871)
ORBIT_NUMBER = 22173
ORBITAL_ECCENTRICITY = 0.571
ORBITAL_INCLINATION = 87.01
ORBITAL_SEMIMAJOR_AXIS = 8780.27
PERIAPSIS_ALTITUDE = 386.95
PERIAPSIS_ARGUMENT_ANGLE = 121.42
PERIAPSIS_TIME = 2021-07-19T08:02:12.000Z
SPACECRAFT_ORIENTATION = (0.0,-1.0,0.0)
^MEX_ORIENTATION_DESC = "MEX_ORIENTATION_DESC.TXT"
SPACECRAFT_POINTING_MODE = ACROSSTRACK
^MEX_POINTING_DESC = "MEX_POINTING_DESC.TXT"
RIGHT_ASCENSION = -1e+32
DECLINATION = -1e+32
OFFSET_ANGLE = -0.269
SPACECRAFT_SOLAR_DISTANCE = 2.49194e+08
TARGET_NAME = MARS
/* CAMERA DATA ELEMENTS */
DETECTOR_TEMPERATURE = 18.3705
FOCAL_PLANE_TEMPERATURE = 7.7677
INST_CMPRS_NAME = "DISCRETE COSINE TRANSFORMATION (DCT)"
INST_CMPRS_RATIO = 8.32698
INST_CMPRS_QUALITY = 0
INST_CMPRS_QUANTZ_TBL_ID = 0
INSTRUMENT_TEMPERATURE = 11.0301
LENS_TEMPERATURE = 8.3794
MACROPIXEL_SIZE = 4
MISSING_FRAMES = 0
PIXEL_SUBSAMPLING_FLAG = N
SIGNAL_CHAIN_ID = 2
/* RADIOMETRIC DATA ELEMENTS */
BANDWIDTH = 76.0
CENTER_FILTER_WAVELENGTH = 444.0
RADIANCE_OFFSET = 0.48413
RADIANCE_SCALING_FACTOR = 0.00231735
REFLECTANCE_SCALING_FACTOR = 0.00014785
MEX:REFLECTANCE_OFFSET = 0.0308882
/* IMAGE OBJECT DEFINITIONS */
OBJECT = IMAGE
  INTERCHANGE_FORMAT = BINARY
  LINES = 29714
  LINE_SAMPLES = 3651
  SAMPLE_TYPE = UNSIGNED_INTEGER
  SAMPLE_BITS = 8
  BANDS = 1
  BAND_STORAGE_TYPE = BAND_SEQUENTIAL
  MAXIMUM = 255
  MEAN = 91.4662
  MINIMUM = 1
  STANDARD_DEVIATION = 29.031
END_OBJECT = IMAGE
/* MAP OBJECT DEFINITIONS */
OBJECT = IMAGE_MAP_PROJECTION
  ^DATA_SET_MAP_PROJECTION_CATALOG= "DSMAP.CAT"
  A_AXIS_RADIUS = 3396.0
  B_AXIS_RADIUS = 3396.0
  C_AXIS_RADIUS = 3396.0
  CENTER_LATITUDE = 0.0
  CENTER_LONGITUDE = 256.0
  COORDINATE_SYSTEM_NAME = PLANETOGRAPHIC
  COORDINATE_SYSTEM_TYPE = "BODY-FIXED ROTATING"
  EASTERNMOST_LONGITUDE = 258.186
  FIRST_STANDARD_PARALLEL = "N/A"
  LINE_FIRST_PIXEL = 1
  LINE_LAST_PIXEL = 29714
  LINE_PROJECTION_OFFSET = 79105.875
  MAP_PROJECTION_ROTATION = 0.0
  MAP_PROJECTION_TYPE = SINUSOIDAL
  MAP_RESOLUTION = 1185.42760773333
  MAP_SCALE = 0.05
  MAXIMUM_LATITUDE = 66.6973
  MINIMUM_LATITUDE = 41.6443
  POSITIVE_LONGITUDE_DIRECTION = EAST
  REFERENCE_LATITUDE = "N/A"
  REFERENCE_LONGITUDE = "N/A"
  SAMPLE_FIRST_PIXEL = 1
  SAMPLE_LAST_PIXEL = 3651
  SAMPLE_PROJECTION_OFFSET = 1723.125
  SECOND_STANDARD_PARALLEL = "N/A"
  WESTERNMOST_LONGITUDE = 252.374
END_OBJECT = IMAGE_MAP_PROJECTION
END
