PDS_VERSION_ID = PDS3
/* FILE DATA ELEMENTS */
RECORD_TYPE = UNDEFINED
/* POINTERS TO DATA OBJECTS */
^IMAGE = ("HM173_0000_S14.TIF")
/* IDENTIFICATION DATA ELEMENTS */
DATA_SET_ID = "MEX-M-HRSC-4-REFDR-MAPPROJECT-EXT8-V4.0"
DATA_SET_NAME = "MARS EXPRESS HRSC MAP PROJECTED REFDR EXTENSION8 V4.0"
DETECTOR_ID = MEX_HRSC_S1
EVENT_TYPE = "MARS-LOCAL-CARTOGRAPHY-Vo-Te-Gl"
INSTRUMENT_HOST_ID = MEX
INSTRUMENT_HOST_NAME = "MARS EXPRESS"
INSTRUMENT_ID = HRSC
INSTRUMENT_NAME = "HIGH RESOLUTION STEREO CAMERA"
MISSION_NAME = "MARS EXPRESS"
MISSION_PHASE_NAME = ME_Phase_45
PROCESSING_LEVEL_ID = 4
PRODUCT_CREATION_TIME = 2023-01-26T14:38:01.000Z
PRODUCT_ID = "HM173_0000_S14.TIF"
RELEASE_ID = 0002
REVISION_ID = 0000
/* QUALITY DATA ELEMENTS */
DATA_QUALITY_ID = 1
DATA_QUALITY_DESC = "Data calculated based on original SPICE kernels"
/* TIME DATA ELEMENTS */
SPACECRAFT_CLOCK_START_COUNT = "1/0574761531.25667"
SPACECRAFT_CLOCK_STOP_COUNT = "1/0574762009.31806"
START_TIME = 2021-07-19T07:59:25.219Z
STOP_TIME = 2021-07-19T08:05:57.684Z
/* ORBITAL DATA ELEMENTS */
ASCENDING_NODE_LONGITUDE = 160.1
MAXIMUM_RESOLUTION = 0.0329
FOOTPRINT_POINT_LATITUDE = (66.8546,66.747,66.6662,66.6639,66.5328 ,66.0502,65.0982,64.1407,63.1783,62.695 ,62.2105,61.725,61.2384,60.7512,60.2508 ,59.7613,59.2705,58.5332,58.0411, 57.5473,57.0532,56.558,56.0616,55.5647, 55.068,54.3206,53.8217,53.322,52.8223, 52.3219,51.8216,51.068,50.565,49.8112, 49.3084,48.8054,48.0513,47.5488,46.7941 ,46.0401,45.2878,44.7855,44.2832, 43.7674,43.2495,42.7365,41.9546,41.6891 ,41.6794,41.7118,41.7328,41.7334, 41.7341,42.264,43.0418,43.5609,44.0763, 44.5898,45.0944,45.6015,46.1069,46.6116 ,47.3686,48.1276,48.6327,49.1381, 49.6429,50.1475,50.6517,51.1558,51.6594 ,52.1624,52.6656,53.1681,53.6701, 54.1713,54.6717,55.422,55.9214,56.42, 56.918,57.4153,57.9125,58.4094,58.9036, 59.3981,59.8921,60.3847,60.8885,61.3797 ,61.87,62.3596,62.8481,63.3356,63.822, 64.7916,65.7567,66.4799,66.726,66.8546)
FOOTPRINT_POINT_LONGITUDE = (255.902,253.734,252.444,252.41,252.316 ,252.502,252.843,253.156,253.442, 253.577,253.705,253.829,253.947,254.061 ,254.173,254.277,254.377,254.52,254.611 ,254.698,254.781,254.861,254.937, 255.011,255.082,255.182,255.246,255.307 ,255.365,255.421,255.475,255.551, 255.598,255.666,255.71,255.751,255.809, 255.847,255.899,255.948,255.995,256.023 ,256.051,256.077,256.101,256.126, 256.158,256.168,256.168,257.166,258.122 ,258.141,258.148,258.132,258.106, 258.088,258.071,258.051,258.032,258.011 ,257.99,257.969,257.935,257.9,257.875, 257.849,257.822,257.795,257.767,257.737 ,257.707,257.675,257.643,257.609, 257.574,257.538,257.501,257.443,257.402 ,257.36,257.316,257.271,257.224,257.175 ,257.126,257.073,257.019,256.963, 256.903,256.843,256.78,256.714,256.646, 256.575,256.502,256.346,256.176,256.039 ,255.99,255.902)
ORBIT_NUMBER = 22173
ORBITAL_ECCENTRICITY = 0.571
ORBITAL_INCLINATION = 87.01
ORBITAL_SEMIMAJOR_AXIS = 8780.27
PERIAPSIS_ALTITUDE = 386.95
PERIAPSIS_ARGUMENT_ANGLE = 121.42
PERIAPSIS_TIME = 2021-07-19T08:02:12.000Z
SPACECRAFT_ORIENTATION = (0.0,-1.0,0.0)
^MEX_ORIENTATION_DESC = "MEX_ORIENTATION_DESC.TXT"
SPACECRAFT_POINTING_MODE = ACROSSTRACK
^MEX_POINTING_DESC = "MEX_POINTING_DESC.TXT"
RIGHT_ASCENSION = -1e+32
DECLINATION = -1e+32
OFFSET_ANGLE = -0.269
SPACECRAFT_SOLAR_DISTANCE = 2.49194e+08
TARGET_NAME = MARS
/* CAMERA DATA ELEMENTS */
DETECTOR_TEMPERATURE = 16.9432
FOCAL_PLANE_TEMPERATURE = 7.7677
INST_CMPRS_NAME = "DISCRETE COSINE TRANSFORMATION (DCT)"
INST_CMPRS_RATIO = 8.34942
INST_CMPRS_QUALITY = 0
INST_CMPRS_QUANTZ_TBL_ID = 0
INSTRUMENT_TEMPERATURE = 11.0301
LENS_TEMPERATURE = 8.3794
MACROPIXEL_SIZE = 2
MISSING_FRAMES = 3
PIXEL_SUBSAMPLING_FLAG = N
SIGNAL_CHAIN_ID = 1
/* RADIOMETRIC DATA ELEMENTS */
BANDWIDTH = 180.0
CENTER_FILTER_WAVELENGTH = 677.0
RADIANCE_OFFSET = 3.65899
RADIANCE_SCALING_FACTOR = 0.0324412
REFLECTANCE_SCALING_FACTOR = 0.00105102
MEX:REFLECTANCE_OFFSET = 0.118543
/* IMAGE OBJECT DEFINITIONS */
OBJECT = IMAGE
  INTERCHANGE_FORMAT = BINARY
  LINES = 59427
  LINE_SAMPLES = 7302
  SAMPLE_TYPE = UNSIGNED_INTEGER
  SAMPLE_BITS = 8
  BANDS = 1
  BAND_STORAGE_TYPE = BAND_SEQUENTIAL
  MAXIMUM = 255
  MEAN = 96.397
  MINIMUM = 1
  STANDARD_DEVIATION = 35.1419
END_OBJECT = IMAGE
/* MAP OBJECT DEFINITIONS */
OBJECT = IMAGE_MAP_PROJECTION
  ^DATA_SET_MAP_PROJECTION_CATALOG= "DSMAP.CAT"
  A_AXIS_RADIUS = 3396.0
  B_AXIS_RADIUS = 3396.0
  C_AXIS_RADIUS = 3396.0
  CENTER_LATITUDE = 0.0
  CENTER_LONGITUDE = 256.0
  COORDINATE_SYSTEM_NAME = PLANETOGRAPHIC
  COORDINATE_SYSTEM_TYPE = "BODY-FIXED ROTATING"
  EASTERNMOST_LONGITUDE = 258.148
  FIRST_STANDARD_PARALLEL = "N/A"
  LINE_FIRST_PIXEL = 1
  LINE_LAST_PIXEL = 59427
  LINE_PROJECTION_OFFSET = 158212.25
  MAP_PROJECTION_ROTATION = 0.0
  MAP_PROJECTION_TYPE = SINUSOIDAL
  MAP_RESOLUTION = 2370.85521546667
  MAP_SCALE = 0.025
  MAXIMUM_LATITUDE = 66.8546
  MINIMUM_LATITUDE = 41.6794
  POSITIVE_LONGITUDE_DIRECTION = EAST
  REFERENCE_LATITUDE = "N/A"
  REFERENCE_LONGITUDE = "N/A"
  SAMPLE_FIRST_PIXEL = 1
  SAMPLE_LAST_PIXEL = 7302
  SAMPLE_PROJECTION_OFFSET = 3446.75
  SECOND_STANDARD_PARALLEL = "N/A"
  WESTERNMOST_LONGITUDE = 252.316
END_OBJECT = IMAGE_MAP_PROJECTION
END
