PDS_VERSION_ID = PDS3
/* FILE DATA ELEMENTS */
RECORD_TYPE = UNDEFINED
/* POINTERS TO DATA OBJECTS */
^IMAGE = ("HM173_0000_S24.TIF")
/* IDENTIFICATION DATA ELEMENTS */
DATA_SET_ID = "MEX-M-HRSC-4-REFDR-MAPPROJECT-EXT8-V4.0"
DATA_SET_NAME = "MARS EXPRESS HRSC MAP PROJECTED REFDR EXTENSION8 V4.0"
DETECTOR_ID = MEX_HRSC_S2
EVENT_TYPE = "MARS-LOCAL-CARTOGRAPHY-Vo-Te-Gl"
INSTRUMENT_HOST_ID = MEX
INSTRUMENT_HOST_NAME = "MARS EXPRESS"
INSTRUMENT_ID = HRSC
INSTRUMENT_NAME = "HIGH RESOLUTION STEREO CAMERA"
MISSION_NAME = "MARS EXPRESS"
MISSION_PHASE_NAME = ME_Phase_45
PROCESSING_LEVEL_ID = 4
PRODUCT_CREATION_TIME = 2023-01-26T14:38:01.000Z
PRODUCT_ID = "HM173_0000_S24.TIF"
RELEASE_ID = 0002
REVISION_ID = 0000
/* QUALITY DATA ELEMENTS */
DATA_QUALITY_ID = 1
DATA_QUALITY_DESC = "Data calculated based on original SPICE kernels"
/* TIME DATA ELEMENTS */
SPACECRAFT_CLOCK_START_COUNT = "1/0574761531.25667"
SPACECRAFT_CLOCK_STOP_COUNT = "1/0574762009.31806"
START_TIME = 2021-07-19T08:00:40.199Z
STOP_TIME = 2021-07-19T08:07:21.336Z
/* ORBITAL DATA ELEMENTS */
ASCENDING_NODE_LONGITUDE = 160.1
MAXIMUM_RESOLUTION = 0.0332
FOOTPRINT_POINT_LATITUDE = (66.5975,66.526,66.4724,66.4709,66.5884 ,66.086,65.3324,64.8179,64.3157,63.8135 ,63.3115,62.8098,62.3086,61.8075, 61.3067,60.806,60.3058,59.806,59.3071, 58.8084,58.3099,57.8123,57.3159,56.5711 ,56.0763,55.5821,55.088,54.595,54.1039, 53.613,53.123,52.1455,51.1726,50.2048, 49.2409,48.2597,47.768,47.277,46.5284, 46.0287,45.5284,45.0187,44.5101,43.7452 ,43.2299,42.4487,41.9264,41.6654, 41.6477,41.6573,41.6686,41.669,41.6695, 42.1949,42.7211,43.2358,43.7531,44.5218 ,45.0298,45.538,46.037,46.5387,47.0401, 47.535,48.0254,48.5187,49.2555,50.2227, 51.195,52.1718,52.6613,53.1522,53.6441, 54.1375,54.6317,55.1267,55.6226,56.1193 ,56.6172,57.1157,57.8645,58.3637, 58.8662,59.3678,59.8698,60.3731,60.8766 ,61.3806,61.885,62.3897,62.8949,63.4004 ,63.9064,64.413,64.9197,65.439,65.9462, 66.4538,66.7076,66.5975)
FOOTPRINT_POINT_LONGITUDE = (255.886,253.814,252.576,252.543, 252.357,252.545,252.81,252.98,253.138, 253.289,253.432,253.569,253.699,253.823 ,253.942,254.056,254.165,254.268, 254.367,254.462,254.553,254.639,254.721 ,254.839,254.913,254.983,255.051, 255.116,255.177,255.236,255.292,255.398 ,255.493,255.58,255.658,255.732,255.767 ,255.8,255.847,255.877,255.906,255.934, 255.959,255.994,256.016,256.048,256.066 ,256.075,256.075,256.853,258.213, 258.234,258.241,258.223,258.203,258.182 ,258.161,258.13,258.108,258.085,258.062 ,258.038,258.013,257.989,257.963, 257.937,257.895,257.838,257.778,257.713 ,257.678,257.643,257.606,257.568, 257.529,257.488,257.446,257.402,257.356 ,257.309,257.234,257.182,257.128, 257.072,257.013,256.952,256.889,256.823 ,256.754,256.681,256.606,256.528, 256.446,256.36,256.27,256.174,256.075, 255.972,255.918,255.886)
ORBIT_NUMBER = 22173
ORBITAL_ECCENTRICITY = 0.571
ORBITAL_INCLINATION = 87.01
ORBITAL_SEMIMAJOR_AXIS = 8780.27
PERIAPSIS_ALTITUDE = 386.95
PERIAPSIS_ARGUMENT_ANGLE = 121.42
PERIAPSIS_TIME = 2021-07-19T08:02:12.000Z
SPACECRAFT_ORIENTATION = (0.0,-1.0,0.0)
^MEX_ORIENTATION_DESC = "MEX_ORIENTATION_DESC.TXT"
SPACECRAFT_POINTING_MODE = ACROSSTRACK
^MEX_POINTING_DESC = "MEX_POINTING_DESC.TXT"
RIGHT_ASCENSION = -1e+32
DECLINATION = -1e+32
OFFSET_ANGLE = -0.269
SPACECRAFT_SOLAR_DISTANCE = 2.49194e+08
TARGET_NAME = MARS
/* CAMERA DATA ELEMENTS */
DETECTOR_TEMPERATURE = 18.3705
FOCAL_PLANE_TEMPERATURE = 7.7677
INST_CMPRS_NAME = "DISCRETE COSINE TRANSFORMATION (DCT)"
INST_CMPRS_RATIO = 10.4049
INST_CMPRS_QUALITY = 0
INST_CMPRS_QUANTZ_TBL_ID = 0
INSTRUMENT_TEMPERATURE = 11.0301
LENS_TEMPERATURE = 8.3794
MACROPIXEL_SIZE = 2
PIXEL_SUBSAMPLING_FLAG = N
SIGNAL_CHAIN_ID = 1
/* RADIOMETRIC DATA ELEMENTS */
BANDWIDTH = 178.0
CENTER_FILTER_WAVELENGTH = 679.0
RADIANCE_OFFSET = 3.75449
RADIANCE_SCALING_FACTOR = 0.0314366
REFLECTANCE_SCALING_FACTOR = 0.0010338
MEX:REFLECTANCE_OFFSET = 0.123468
/* IMAGE OBJECT DEFINITIONS */
OBJECT = IMAGE
  INTERCHANGE_FORMAT = BINARY
  LINES = 59427
  LINE_SAMPLES = 7302
  SAMPLE_TYPE = UNSIGNED_INTEGER
  SAMPLE_BITS = 8
  BANDS = 1
  BAND_STORAGE_TYPE = BAND_SEQUENTIAL
  MAXIMUM = 255
  MEAN = 103.689
  MINIMUM = 1
  STANDARD_DEVIATION = 35.5579
END_OBJECT = IMAGE
/* MAP OBJECT DEFINITIONS */
OBJECT = IMAGE_MAP_PROJECTION
  ^DATA_SET_MAP_PROJECTION_CATALOG= "DSMAP.CAT"
  A_AXIS_RADIUS = 3396.0
  B_AXIS_RADIUS = 3396.0
  C_AXIS_RADIUS = 3396.0
  CENTER_LATITUDE = 0.0
  CENTER_LONGITUDE = 256.0
  COORDINATE_SYSTEM_NAME = PLANETOGRAPHIC
  COORDINATE_SYSTEM_TYPE = "BODY-FIXED ROTATING"
  EASTERNMOST_LONGITUDE = 258.241
  FIRST_STANDARD_PARALLEL = "N/A"
  LINE_FIRST_PIXEL = 1
  LINE_LAST_PIXEL = 59427
  LINE_PROJECTION_OFFSET = 158212.25
  MAP_PROJECTION_ROTATION = 0.0
  MAP_PROJECTION_TYPE = SINUSOIDAL
  MAP_RESOLUTION = 2370.85521546667
  MAP_SCALE = 0.025
  MAXIMUM_LATITUDE = 66.7076
  MINIMUM_LATITUDE = 41.6477
  POSITIVE_LONGITUDE_DIRECTION = EAST
  REFERENCE_LATITUDE = "N/A"
  REFERENCE_LONGITUDE = "N/A"
  SAMPLE_FIRST_PIXEL = 1
  SAMPLE_LAST_PIXEL = 7302
  SAMPLE_PROJECTION_OFFSET = 3446.75
  SECOND_STANDARD_PARALLEL = "N/A"
  WESTERNMOST_LONGITUDE = 252.357
END_OBJECT = IMAGE_MAP_PROJECTION
END
