PDS_VERSION_ID = PDS3
/* FILE DATA ELEMENTS */
RECORD_TYPE = UNDEFINED
/* POINTERS TO DATA OBJECTS */
^IMAGE = ("HM203_0000_P14.TIF")
/* IDENTIFICATION DATA ELEMENTS */
DATA_SET_ID = "MEX-M-HRSC-4-REFDR-MAPPROJECT-EXT8-V4.0"
DATA_SET_NAME = "MARS EXPRESS HRSC MAP PROJECTED REFDR EXTENSION8 V4.0"
DETECTOR_ID = MEX_HRSC_P1
EVENT_TYPE = "MARS-REGIONAL-MAPPING-Im-Gl-Pf"
INSTRUMENT_HOST_ID = MEX
INSTRUMENT_HOST_NAME = "MARS EXPRESS"
INSTRUMENT_ID = HRSC
INSTRUMENT_NAME = "HIGH RESOLUTION STEREO CAMERA"
MISSION_NAME = "MARS EXPRESS"
MISSION_PHASE_NAME = ME_Phase_45
PROCESSING_LEVEL_ID = 4
PRODUCT_CREATION_TIME = 2023-01-26T14:38:01.000Z
PRODUCT_ID = "HM203_0000_P14.TIF"
RELEASE_ID = 0002
REVISION_ID = 0000
/* QUALITY DATA ELEMENTS */
DATA_QUALITY_ID = 1
DATA_QUALITY_DESC = "Data calculated based on original SPICE kernels"
/* TIME DATA ELEMENTS */
SPACECRAFT_CLOCK_START_COUNT = "1/0575515729.24883"
SPACECRAFT_CLOCK_STOP_COUNT = "1/0575516008.33735"
START_TIME = 2021-07-28T01:29:36.234Z
STOP_TIME = 2021-07-28T01:32:58.745Z
/* ORBITAL DATA ELEMENTS */
ASCENDING_NODE_LONGITUDE = 159.55
MAXIMUM_RESOLUTION = 0.0321
FOOTPRINT_POINT_LATITUDE = (69.3271,69.3041,69.2753,69.2383, 69.2371,69.1559,68.5248,68.0188,67.6389 ,67.3849,67.131,66.8768,66.6222,66.3677 ,66.1127,65.8576,65.6024,65.347,65.0913 ,64.8354,64.5792,64.323,64.0666,63.8099 ,63.4248,63.1678,62.782,62.5245,62.1383 ,61.8804,61.6229,61.3647,61.1066, 60.7192,60.4611,60.2023,59.9436,59.5555 ,59.1672,58.9083,58.6494,58.3895, 58.1302,57.8718,57.4826,57.0935,56.834, 56.4447,56.3149,56.2875,56.3035,56.3074 ,56.3065,56.3064,56.3069,56.5672, 56.8277,57.0883,57.3487,57.7392,57.9995 ,58.3898,58.78,59.04,59.4299,59.6898, 59.9496,60.3393,60.5991,60.8587,61.2479 ,61.5072,61.7666,62.0256,62.4139, 62.6727,62.9311,63.1897,63.5773,63.8356 ,64.0938,64.3518,64.6096,64.8674, 65.1248,65.3822,65.6395,65.8964,66.2818 ,66.5385,66.7949,67.1789,67.4351, 67.8186,68.2019,68.4571,68.7121,69.0941 ,69.2215,69.3271)
FOOTPRINT_POINT_LONGITUDE = (74.3693,72.9277,71.7392,70.5729, 70.5368,70.5592,70.7771,70.9409,71.058, 71.1336,71.207,71.2786,71.3482,71.416, 71.4821,71.5464,71.6091,71.6701,71.7296 ,71.7875,71.844,71.899,71.9526,72.0049, 72.0808,72.1298,72.201,72.247,72.3138, 72.357,72.3989,72.44,72.4799,72.538, 72.5755,72.6121,72.6477,72.6995,72.7494 ,72.7815,72.8128,72.8435,72.8733, 72.9022,72.9444,72.9849,73.011,73.0489, 73.0613,73.0638,74.1791,75.0222,75.5762 ,75.6016,75.6107,75.6003,75.5894,75.578 ,75.5666,75.549,75.537,75.5185,75.4993, 75.4863,75.4663,75.4523,75.438,75.4158, 75.4004,75.3848,75.3608,75.3444,75.3271 ,75.3103,75.2841,75.266,75.248,75.2288, 75.1994,75.1791,75.158,75.1368,75.1151, 75.0925,75.07,75.0465,75.0223,74.998, 74.9595,74.9331,74.9063,74.8654,74.8364 ,74.7921,74.7455,74.7136,74.681,74.6305 ,74.6127,74.3693)
ORBIT_NUMBER = 22203
ORBITAL_ECCENTRICITY = 0.57
ORBITAL_INCLINATION = 87.03
ORBITAL_SEMIMAJOR_AXIS = 8773.76
PERIAPSIS_ALTITUDE = 389.0
PERIAPSIS_ARGUMENT_ANGLE = 116.27
PERIAPSIS_TIME = 2021-07-28T01:31:28.000Z
SPACECRAFT_ORIENTATION = (0.0,-1.0,0.0)
^MEX_ORIENTATION_DESC = "MEX_ORIENTATION_DESC.TXT"
SPACECRAFT_POINTING_MODE = ACROSSTRACK
^MEX_POINTING_DESC = "MEX_POINTING_DESC.TXT"
RIGHT_ASCENSION = -1e+32
DECLINATION = -1e+32
OFFSET_ANGLE = 0.7
SPACECRAFT_SOLAR_DISTANCE = 2.49055e+08
TARGET_NAME = MARS
/* CAMERA DATA ELEMENTS */
DETECTOR_TEMPERATURE = 17.1471
FOCAL_PLANE_TEMPERATURE = 7.9716
INST_CMPRS_NAME = "DISCRETE COSINE TRANSFORMATION (DCT)"
INST_CMPRS_RATIO = 7.63146
INST_CMPRS_QUALITY = 0
INST_CMPRS_QUANTZ_TBL_ID = 0
INSTRUMENT_TEMPERATURE = 11.0301
LENS_TEMPERATURE = 7.9716
MACROPIXEL_SIZE = 2
MISSING_FRAMES = 0
PIXEL_SUBSAMPLING_FLAG = N
SIGNAL_CHAIN_ID = 3
/* RADIOMETRIC DATA ELEMENTS */
BANDWIDTH = 174.0
CENTER_FILTER_WAVELENGTH = 675.0
RADIANCE_OFFSET = 2.78713
RADIANCE_SCALING_FACTOR = 0.013474
REFLECTANCE_SCALING_FACTOR = 0.000449543
MEX:REFLECTANCE_OFFSET = 0.0929894
/* IMAGE OBJECT DEFINITIONS */
OBJECT = IMAGE
  INTERCHANGE_FORMAT = BINARY
  LINES = 30807
  LINE_SAMPLES = 5011
  SAMPLE_TYPE = UNSIGNED_INTEGER
  SAMPLE_BITS = 8
  BANDS = 1
  BAND_STORAGE_TYPE = BAND_SEQUENTIAL
  MAXIMUM = 255
  MEAN = 164.701
  MINIMUM = 1
  STANDARD_DEVIATION = 46.9808
END_OBJECT = IMAGE
/* MAP OBJECT DEFINITIONS */
OBJECT = IMAGE_MAP_PROJECTION
  ^DATA_SET_MAP_PROJECTION_CATALOG= "DSMAP.CAT"
  A_AXIS_RADIUS = 3396.0
  B_AXIS_RADIUS = 3396.0
  C_AXIS_RADIUS = 3396.0
  CENTER_LATITUDE = 0.0
  CENTER_LONGITUDE = 74.0
  COORDINATE_SYSTEM_NAME = PLANETOGRAPHIC
  COORDINATE_SYSTEM_TYPE = "BODY-FIXED ROTATING"
  EASTERNMOST_LONGITUDE = 75.61069999999999
  FIRST_STANDARD_PARALLEL = "N/A"
  LINE_FIRST_PIXEL = 1
  LINE_LAST_PIXEL = 30807
  LINE_PROJECTION_OFFSET = 164241.25
  MAP_PROJECTION_ROTATION = 0.0
  MAP_PROJECTION_TYPE = SINUSOIDAL
  MAP_RESOLUTION = 2370.85521546667
  MAP_SCALE = 0.025
  MAXIMUM_LATITUDE = 69.3271
  MINIMUM_LATITUDE = 56.2875
  POSITIVE_LONGITUDE_DIRECTION = EAST
  REFERENCE_LATITUDE = "N/A"
  REFERENCE_LONGITUDE = "N/A"
  SAMPLE_FIRST_PIXEL = 1
  SAMPLE_LAST_PIXEL = 5011
  SAMPLE_PROJECTION_OFFSET = 2894.25
  SECOND_STANDARD_PARALLEL = "N/A"
  WESTERNMOST_LONGITUDE = 70.5368
END_OBJECT = IMAGE_MAP_PROJECTION
END
