PDS_VERSION_ID = PDS3
/* FILE DATA ELEMENTS */
RECORD_TYPE = UNDEFINED
/* POINTERS TO DATA OBJECTS */
^IMAGE = ("HM203_0000_P24.TIF")
/* IDENTIFICATION DATA ELEMENTS */
DATA_SET_ID = "MEX-M-HRSC-4-REFDR-MAPPROJECT-EXT8-V4.0"
DATA_SET_NAME = "MARS EXPRESS HRSC MAP PROJECTED REFDR EXTENSION8 V4.0"
DETECTOR_ID = MEX_HRSC_P2
EVENT_TYPE = "MARS-REGIONAL-MAPPING-Im-Gl-Pf"
INSTRUMENT_HOST_ID = MEX
INSTRUMENT_HOST_NAME = "MARS EXPRESS"
INSTRUMENT_ID = HRSC
INSTRUMENT_NAME = "HIGH RESOLUTION STEREO CAMERA"
MISSION_NAME = "MARS EXPRESS"
MISSION_PHASE_NAME = ME_Phase_45
PROCESSING_LEVEL_ID = 4
PRODUCT_CREATION_TIME = 2023-01-26T14:38:01.000Z
PRODUCT_ID = "HM203_0000_P24.TIF"
RELEASE_ID = 0002
REVISION_ID = 0000
/* QUALITY DATA ELEMENTS */
DATA_QUALITY_ID = 1
DATA_QUALITY_DESC = "Data calculated based on original SPICE kernels"
/* TIME DATA ELEMENTS */
SPACECRAFT_CLOCK_START_COUNT = "1/0575515729.24883"
SPACECRAFT_CLOCK_STOP_COUNT = "1/0575516008.33735"
START_TIME = 2021-07-28T01:30:24.606Z
STOP_TIME = 2021-07-28T01:33:47.117Z
/* ORBITAL DATA ELEMENTS */
ASCENDING_NODE_LONGITUDE = 159.55
MAXIMUM_RESOLUTION = 0.0323
FOOTPRINT_POINT_LATITUDE = (69.204,69.1545,69.106,69.0514,69.0496, 69.1335,68.7459,68.4878,68.2294,67.8419 ,67.5832,67.3252,67.0669,66.6794, 66.4212,66.1628,65.9048,65.6467,65.2593 ,65.0013,64.7435,64.4857,64.0989, 63.8413,63.5838,63.3263,63.0688,62.8116 ,62.5545,62.2976,61.9123,61.5269, 61.2706,61.0139,60.7579,60.5014,60.2459 ,59.9903,59.7347,59.4793,59.224,58.9688 ,58.7138,58.2054,57.9505,57.4423, 56.9351,56.4286,56.3022,56.2755,56.3085 ,56.3441,56.3671,56.3678,56.3686, 56.7495,57.2579,57.6399,57.8947,58.1499 ,58.4053,58.6609,58.9169,59.1731, 59.4291,59.8137,60.1987,60.4554,60.7124 ,61.0983,61.4845,61.8711,62.1292, 62.3874,62.6457,62.9044,63.1629,63.4219 ,63.8099,64.0688,64.4577,64.7168, 64.9763,65.2359,65.4954,65.7552,66.1449 ,66.4048,66.6648,66.9251,67.1854, 67.4455,67.8361,68.0965,68.3567,68.6174 ,68.8778,69.1387,69.2687,69.204)
FOOTPRINT_POINT_LONGITUDE = (74.3541,72.9493,71.7937,70.6613, 70.6262,70.5942,70.7264,70.8113,70.8938 ,71.0132,71.09,71.1645,71.237,71.342, 71.4095,71.4752,71.5391,71.6012,71.6914 ,71.7494,71.8058,71.8607,71.9404, 71.9917,72.0417,72.0903,72.1377,72.1838 ,72.2287,72.2723,72.3357,72.3967, 72.4359,72.4742,72.5114,72.5477,72.583, 72.6174,72.6509,72.6835,72.7152,72.7461 ,72.7762,72.8339,72.8617,72.915,72.9655 ,73.0133,73.0248,73.0272,73.8192, 74.8292,75.6026,75.6286,75.638,75.6211, 75.5972,75.5789,75.566,75.5532,75.54, 75.5266,75.5132,75.4995,75.4849,75.4626 ,75.4395,75.4234,75.4072,75.3821, 75.3561,75.3292,75.3109,75.2923,75.273, 75.2539,75.2336,75.2134,75.1808,75.1585 ,75.1246,75.1009,75.0768,75.0524, 75.0268,75.001,74.9606,74.9327,74.9041, 74.8752,74.8455,74.8142,74.7664,74.7333 ,74.6988,74.6641,74.6278,74.5913, 74.5716,74.3541)
ORBIT_NUMBER = 22203
ORBITAL_ECCENTRICITY = 0.57
ORBITAL_INCLINATION = 87.03
ORBITAL_SEMIMAJOR_AXIS = 8773.76
PERIAPSIS_ALTITUDE = 389.0
PERIAPSIS_ARGUMENT_ANGLE = 116.27
PERIAPSIS_TIME = 2021-07-28T01:31:28.000Z
SPACECRAFT_ORIENTATION = (0.0,-1.0,0.0)
^MEX_ORIENTATION_DESC = "MEX_ORIENTATION_DESC.TXT"
SPACECRAFT_POINTING_MODE = ACROSSTRACK
^MEX_POINTING_DESC = "MEX_POINTING_DESC.TXT"
RIGHT_ASCENSION = -1e+32
DECLINATION = -1e+32
OFFSET_ANGLE = 0.7
SPACECRAFT_SOLAR_DISTANCE = 2.49055e+08
TARGET_NAME = MARS
/* CAMERA DATA ELEMENTS */
DETECTOR_TEMPERATURE = 18.1666
FOCAL_PLANE_TEMPERATURE = 7.9716
INST_CMPRS_NAME = "DISCRETE COSINE TRANSFORMATION (DCT)"
INST_CMPRS_RATIO = 8.41177
INST_CMPRS_QUALITY = 0
INST_CMPRS_QUANTZ_TBL_ID = 0
INSTRUMENT_TEMPERATURE = 11.0301
LENS_TEMPERATURE = 7.9716
MACROPIXEL_SIZE = 2
MISSING_FRAMES = 0
PIXEL_SUBSAMPLING_FLAG = N
SIGNAL_CHAIN_ID = 3
/* RADIOMETRIC DATA ELEMENTS */
BANDWIDTH = 177.0
CENTER_FILTER_WAVELENGTH = 676.5
RADIANCE_OFFSET = 2.94648
RADIANCE_SCALING_FACTOR = 0.0125716
REFLECTANCE_SCALING_FACTOR = 0.000413466
MEX:REFLECTANCE_OFFSET = 0.096906
/* IMAGE OBJECT DEFINITIONS */
OBJECT = IMAGE
  INTERCHANGE_FORMAT = BINARY
  LINES = 30807
  LINE_SAMPLES = 5011
  SAMPLE_TYPE = UNSIGNED_INTEGER
  SAMPLE_BITS = 8
  BANDS = 1
  BAND_STORAGE_TYPE = BAND_SEQUENTIAL
  MAXIMUM = 255
  MEAN = 192.546
  MINIMUM = 1
  STANDARD_DEVIATION = 51.5989
END_OBJECT = IMAGE
/* MAP OBJECT DEFINITIONS */
OBJECT = IMAGE_MAP_PROJECTION
  ^DATA_SET_MAP_PROJECTION_CATALOG= "DSMAP.CAT"
  A_AXIS_RADIUS = 3396.0
  B_AXIS_RADIUS = 3396.0
  C_AXIS_RADIUS = 3396.0
  CENTER_LATITUDE = 0.0
  CENTER_LONGITUDE = 74.0
  COORDINATE_SYSTEM_NAME = PLANETOGRAPHIC
  COORDINATE_SYSTEM_TYPE = "BODY-FIXED ROTATING"
  EASTERNMOST_LONGITUDE = 75.63800000000001
  FIRST_STANDARD_PARALLEL = "N/A"
  LINE_FIRST_PIXEL = 1
  LINE_LAST_PIXEL = 30807
  LINE_PROJECTION_OFFSET = 164241.25
  MAP_PROJECTION_ROTATION = 0.0
  MAP_PROJECTION_TYPE = SINUSOIDAL
  MAP_RESOLUTION = 2370.85521546667
  MAP_SCALE = 0.025
  MAXIMUM_LATITUDE = 69.2687
  MINIMUM_LATITUDE = 56.2755
  POSITIVE_LONGITUDE_DIRECTION = EAST
  REFERENCE_LATITUDE = "N/A"
  REFERENCE_LONGITUDE = "N/A"
  SAMPLE_FIRST_PIXEL = 1
  SAMPLE_LAST_PIXEL = 5011
  SAMPLE_PROJECTION_OFFSET = 2894.25
  SECOND_STANDARD_PARALLEL = "N/A"
  WESTERNMOST_LONGITUDE = 70.5942
END_OBJECT = IMAGE_MAP_PROJECTION
END
