PDS_VERSION_ID = PDS3
/* FILE DATA ELEMENTS */
RECORD_TYPE = UNDEFINED
/* POINTERS TO DATA OBJECTS */
^IMAGE = ("HM216_0000_P24.TIF")
/* IDENTIFICATION DATA ELEMENTS */
DATA_SET_ID = "MEX-M-HRSC-4-REFDR-MAPPROJECT-EXT8-V4.0"
DATA_SET_NAME = "MARS EXPRESS HRSC MAP PROJECTED REFDR EXTENSION8 V4.0"
DETECTOR_ID = MEX_HRSC_P2
EVENT_TYPE = "MARS-LOCAL-CARTOGRAPHY-Im-Gl-Pf"
INSTRUMENT_HOST_ID = MEX
INSTRUMENT_HOST_NAME = "MARS EXPRESS"
INSTRUMENT_ID = HRSC
INSTRUMENT_NAME = "HIGH RESOLUTION STEREO CAMERA"
MISSION_NAME = "MARS EXPRESS"
MISSION_PHASE_NAME = ME_Phase_45
PROCESSING_LEVEL_ID = 4
PRODUCT_CREATION_TIME = 2023-01-26T14:38:01.000Z
PRODUCT_ID = "HM216_0000_P24.TIF"
RELEASE_ID = 0002
REVISION_ID = 0000
/* QUALITY DATA ELEMENTS */
DATA_QUALITY_ID = 1
DATA_QUALITY_DESC = "Data calculated based on original SPICE kernels"
/* TIME DATA ELEMENTS */
SPACECRAFT_CLOCK_START_COUNT = "1/0575842545.24924"
SPACECRAFT_CLOCK_STOP_COUNT = "1/0575843015.63272"
START_TIME = 2021-07-31T20:17:20.169Z
STOP_TIME = 2021-07-31T20:23:50.510Z
/* ORBITAL DATA ELEMENTS */
ASCENDING_NODE_LONGITUDE = 159.31
MAXIMUM_RESOLUTION = 0.0651
FOOTPRINT_POINT_LATITUDE = (69.6003,69.5465,69.4453,69.4435, 69.5324,69.059,68.5857,68.1124,67.6395, 67.1665,66.6938,66.2212,65.749,65.2771, 64.8055,64.3342,63.8633,63.3926,62.923, 62.4536,61.9844,61.5166,61.0487,60.1153 ,59.1844,58.2562,57.331,56.6231,56.1509 ,55.6793,55.2088,54.7319,54.251,53.7711 ,53.2923,52.561,52.0729,51.3367,50.8397 ,50.344,49.5896,49.0856,48.3197,47.8076 ,47.2885,46.7681,46.2423,45.7138, 45.4488,45.4007,45.4328,45.4632,45.4636 ,45.4649,46.2614,46.7895,47.3112, 47.8329,48.3463,49.1152,49.6207,50.378, 50.875,51.3734,51.8684,52.3572,52.8473, 53.3365,53.8166,54.2978,54.7803,55.2598 ,55.7319,56.205,56.6792,57.3897,58.3179 ,59.2496,60.1841,60.6524,61.1215, 61.5907,62.0613,62.5321,63.0037,63.4762 ,63.9489,64.4222,64.8959,65.3701, 65.8448,66.32,66.7953,67.2713,67.7476, 68.224,68.7007,69.4166,69.6553,69.6003)
FOOTPRINT_POINT_LONGITUDE = (187.054,185.53,183.294,183.259,183.249 ,183.407,183.557,183.699,183.834, 183.962,184.083,184.198,184.307,184.41, 184.508,184.602,184.691,184.775,184.856 ,184.932,185.005,185.074,185.139, 185.261,185.372,185.471,185.561,185.624 ,185.664,185.701,185.736,185.77,185.802 ,185.833,185.861,185.902,185.927, 185.961,185.983,186.003,186.03,186.047, 186.07,186.083,186.095,186.106,186.116, 186.125,186.128,186.129,187.211,188.607 ,188.631,188.639,188.625,188.615, 188.605,188.594,188.583,188.566,188.555 ,188.536,188.524,188.51,188.497,188.483 ,188.469,188.453,188.438,188.422, 188.405,188.388,188.37,188.352,188.333, 188.303,188.26,188.215,188.165,188.138, 188.11,188.08,188.051,188.018,187.985, 187.951,187.915,187.877,187.837,187.796 ,187.752,187.706,187.657,187.607, 187.554,187.497,187.438,187.343,187.31, 187.054)
ORBIT_NUMBER = 22216
ORBITAL_ECCENTRICITY = 0.57
ORBITAL_INCLINATION = 87.02
ORBITAL_SEMIMAJOR_AXIS = 8766.0
PERIAPSIS_ALTITUDE = 390.91
PERIAPSIS_ARGUMENT_ANGLE = 114.04
PERIAPSIS_TIME = 2021-07-31T20:17:55.000Z
SPACECRAFT_ORIENTATION = (0.0,-1.0,0.0)
^MEX_ORIENTATION_DESC = "MEX_ORIENTATION_DESC.TXT"
SPACECRAFT_POINTING_MODE = ACROSSTRACK
^MEX_POINTING_DESC = "MEX_POINTING_DESC.TXT"
RIGHT_ASCENSION = -1e+32
DECLINATION = -1e+32
OFFSET_ANGLE = 0.808
SPACECRAFT_SOLAR_DISTANCE = 2.4896e+08
TARGET_NAME = MARS
/* CAMERA DATA ELEMENTS */
DETECTOR_TEMPERATURE = 17.7588
FOCAL_PLANE_TEMPERATURE = 8.3794
INST_CMPRS_NAME = "DISCRETE COSINE TRANSFORMATION (DCT)"
INST_CMPRS_RATIO = 11.8326
INST_CMPRS_QUALITY = 0
INST_CMPRS_QUANTZ_TBL_ID = 0
INSTRUMENT_TEMPERATURE = 10.6223
LENS_TEMPERATURE = 8.3794
MACROPIXEL_SIZE = 4
MISSING_FRAMES = 0
PIXEL_SUBSAMPLING_FLAG = N
SIGNAL_CHAIN_ID = 3
/* RADIOMETRIC DATA ELEMENTS */
BANDWIDTH = 177.0
CENTER_FILTER_WAVELENGTH = 676.5
RADIANCE_OFFSET = 3.4439
RADIANCE_SCALING_FACTOR = 0.0208721
REFLECTANCE_SCALING_FACTOR = 0.000685934
MEX:REFLECTANCE_OFFSET = 0.113179
/* IMAGE OBJECT DEFINITIONS */
OBJECT = IMAGE
  INTERCHANGE_FORMAT = BINARY
  LINES = 28761
  LINE_SAMPLES = 2884
  SAMPLE_TYPE = UNSIGNED_INTEGER
  SAMPLE_BITS = 8
  BANDS = 1
  BAND_STORAGE_TYPE = BAND_SEQUENTIAL
  MAXIMUM = 255
  MEAN = 131.627
  MINIMUM = 1
  STANDARD_DEVIATION = 60.4378
END_OBJECT = IMAGE
/* MAP OBJECT DEFINITIONS */
OBJECT = IMAGE_MAP_PROJECTION
  ^DATA_SET_MAP_PROJECTION_CATALOG= "DSMAP.CAT"
  A_AXIS_RADIUS = 3396.0
  B_AXIS_RADIUS = 3396.0
  C_AXIS_RADIUS = 3396.0
  CENTER_LATITUDE = 0.0
  CENTER_LONGITUDE = 187.0
  COORDINATE_SYSTEM_NAME = PLANETOGRAPHIC
  COORDINATE_SYSTEM_TYPE = "BODY-FIXED ROTATING"
  EASTERNMOST_LONGITUDE = 188.639
  FIRST_STANDARD_PARALLEL = "N/A"
  LINE_FIRST_PIXEL = 1
  LINE_LAST_PIXEL = 28761
  LINE_PROJECTION_OFFSET = 82584.875
  MAP_PROJECTION_ROTATION = 0.0
  MAP_PROJECTION_TYPE = SINUSOIDAL
  MAP_RESOLUTION = 1185.42760773333
  MAP_SCALE = 0.05
  MAXIMUM_LATITUDE = 69.6553
  MINIMUM_LATITUDE = 45.4007
  POSITIVE_LONGITUDE_DIRECTION = EAST
  REFERENCE_LATITUDE = "N/A"
  REFERENCE_LONGITUDE = "N/A"
  SAMPLE_FIRST_PIXEL = 1
  SAMPLE_LAST_PIXEL = 2884
  SAMPLE_PROJECTION_OFFSET = 1566.625
  SECOND_STANDARD_PARALLEL = "N/A"
  WESTERNMOST_LONGITUDE = 183.249
END_OBJECT = IMAGE_MAP_PROJECTION
END
