PDS_VERSION_ID = PDS3
/* FILE DATA ELEMENTS */
RECORD_TYPE = UNDEFINED
/* POINTERS TO DATA OBJECTS */
^IMAGE = ("HM278_0000_S14.TIF")
/* IDENTIFICATION DATA ELEMENTS */
DATA_SET_ID = "MEX-M-HRSC-4-REFDR-MAPPROJECT-EXT8-V4.0"
DATA_SET_NAME = "MARS EXPRESS HRSC MAP PROJECTED REFDR EXTENSION8 V4.0"
DETECTOR_ID = MEX_HRSC_S1
EVENT_TYPE = "MARS-REGIONAL-MAPPING-Gl-Eo-La"
INSTRUMENT_HOST_ID = MEX
INSTRUMENT_HOST_NAME = "MARS EXPRESS"
INSTRUMENT_ID = HRSC
INSTRUMENT_NAME = "HIGH RESOLUTION STEREO CAMERA"
MISSION_NAME = "MARS EXPRESS"
MISSION_PHASE_NAME = ME_Phase_45
PROCESSING_LEVEL_ID = 4
PRODUCT_CREATION_TIME = 2023-01-26T14:38:01.000Z
PRODUCT_ID = "HM278_0000_S14.TIF"
RELEASE_ID = 0002
REVISION_ID = 0000
/* QUALITY DATA ELEMENTS */
DATA_QUALITY_ID = 1
DATA_QUALITY_DESC = "Data calculated based on original SPICE kernels"
/* TIME DATA ELEMENTS */
SPACECRAFT_CLOCK_START_COUNT = "1/0577401135.25678"
SPACECRAFT_CLOCK_STOP_COUNT = "1/0577401301.24638"
START_TIME = 2021-08-18T21:12:49.293Z
STOP_TIME = 2021-08-18T21:14:28.050Z
/* ORBITAL DATA ELEMENTS */
ASCENDING_NODE_LONGITUDE = 158.21
MAXIMUM_RESOLUTION = 0.033
FOOTPRINT_POINT_LATITUDE = (77.0586,77.0071,76.9687,76.9135,76.866 ,76.8154,76.7723,76.7689,76.6594, 76.3858,76.1118,75.9058,75.6309,75.3552 ,75.0791,74.8717,74.7333,74.5254, 74.3865,74.2477,74.1086,73.9694,73.7605 ,73.621,73.4816,73.272,73.1321,72.9923, 72.8523,72.712,72.5717,72.4311,72.2906, 72.1501,71.9389,71.7981,71.5864,71.4453 ,71.2333,71.0918,70.9501,70.8083, 70.5957,70.3827,70.1697,70.0276,69.8851 ,69.7427,69.6714,69.6657,69.7153, 69.7495,69.7834,69.8203,69.8453,69.8747 ,69.8763,69.8774,70.0929,70.2364, 70.3799,70.5232,70.6665,70.8813,71.0244 ,71.1675,71.3102,71.5244,71.6672, 71.8098,72.0236,72.2372,72.4507,72.593, 72.8059,72.9479,73.0899,73.2317,73.4443 ,73.586,73.7276,73.869,74.0105,74.1518, 74.3636,74.5754,74.7164,74.8574,74.9983 ,75.1391,75.2798,75.4205,75.5611, 75.8419,76.1225,76.4026,76.6125,76.8922 ,76.962,77.0586)
FOOTPRINT_POINT_LONGITUDE = (329.915,328.719,327.909,326.837, 325.987,325.142,324.461,324.408,324.335 ,324.647,324.946,325.162,325.441, 325.709,325.966,326.152,326.274,326.451 ,326.567,326.681,326.792,326.902, 327.062,327.167,327.269,327.42,327.518, 327.614,327.709,327.802,327.894,327.984 ,328.072,328.159,328.287,328.37,328.492 ,328.572,328.69,328.766,328.842,328.916 ,329.025,329.132,329.236,329.304, 329.371,329.437,329.47,329.472,330.254, 330.842,331.472,332.224,332.779,333.495 ,333.535,333.549,333.483,333.438, 333.393,333.347,333.3,333.229,333.18, 333.131,333.081,333.005,332.953,332.9, 332.819,332.737,332.652,332.594,332.506 ,332.446,332.385,332.323,332.228, 332.163,332.097,332.03,331.962,331.893, 331.786,331.676,331.602,331.525,331.448 ,331.368,331.288,331.206,331.122, 330.949,330.769,330.583,330.437,330.236 ,330.184,329.915)
ORBIT_NUMBER = 22278
ORBITAL_ECCENTRICITY = 0.569
ORBITAL_INCLINATION = 87.03
ORBITAL_SEMIMAJOR_AXIS = 8756.38
PERIAPSIS_ALTITUDE = 394.47
PERIAPSIS_ARGUMENT_ANGLE = 103.37
PERIAPSIS_TIME = 2021-08-18T21:13:23.000Z
SPACECRAFT_ORIENTATION = (0.0,-1.0,0.0)
^MEX_ORIENTATION_DESC = "MEX_ORIENTATION_DESC.TXT"
SPACECRAFT_POINTING_MODE = INERT
^MEX_POINTING_DESC = "MEX_POINTING_DESC.TXT"
RIGHT_ASCENSION = 156.901
DECLINATION = -42.293
OFFSET_ANGLE = -1e+32
SPACECRAFT_SOLAR_DISTANCE = 2.48217e+08
TARGET_NAME = MARS
/* CAMERA DATA ELEMENTS */
DETECTOR_TEMPERATURE = 17.7588
FOCAL_PLANE_TEMPERATURE = 7.9716
INST_CMPRS_NAME = "DISCRETE COSINE TRANSFORMATION (DCT)"
INST_CMPRS_RATIO = 9.33413
INST_CMPRS_QUALITY = 0
INST_CMPRS_QUANTZ_TBL_ID = 0
INSTRUMENT_TEMPERATURE = 11.6418
LENS_TEMPERATURE = 8.7872
MACROPIXEL_SIZE = 2
MISSING_FRAMES = 0
PIXEL_SUBSAMPLING_FLAG = N
SIGNAL_CHAIN_ID = 1
/* RADIOMETRIC DATA ELEMENTS */
BANDWIDTH = 180.0
CENTER_FILTER_WAVELENGTH = 677.0
RADIANCE_OFFSET = 2.41656
RADIANCE_SCALING_FACTOR = 0.0120909
REFLECTANCE_SCALING_FACTOR = 0.000388658
MEX:REFLECTANCE_OFFSET = 0.077679
/* IMAGE OBJECT DEFINITIONS */
OBJECT = IMAGE
  INTERCHANGE_FORMAT = BINARY
  LINES = 17313
  LINE_SAMPLES = 5996
  SAMPLE_TYPE = UNSIGNED_INTEGER
  SAMPLE_BITS = 8
  BANDS = 1
  BAND_STORAGE_TYPE = BAND_SEQUENTIAL
  MAXIMUM = 255
  MEAN = 75.9336
  MINIMUM = 1
  STANDARD_DEVIATION = 36.8237
END_OBJECT = IMAGE
/* MAP OBJECT DEFINITIONS */
OBJECT = IMAGE_MAP_PROJECTION
  ^DATA_SET_MAP_PROJECTION_CATALOG= "DSMAP.CAT"
  A_AXIS_RADIUS = 3396.0
  B_AXIS_RADIUS = 3396.0
  C_AXIS_RADIUS = 3396.0
  CENTER_LATITUDE = 0.0
  CENTER_LONGITUDE = 330.0
  COORDINATE_SYSTEM_NAME = PLANETOGRAPHIC
  COORDINATE_SYSTEM_TYPE = "BODY-FIXED ROTATING"
  EASTERNMOST_LONGITUDE = 333.549
  FIRST_STANDARD_PARALLEL = "N/A"
  LINE_FIRST_PIXEL = 1
  LINE_LAST_PIXEL = 17313
  LINE_PROJECTION_OFFSET = 182530.25
  MAP_PROJECTION_ROTATION = 0.0
  MAP_PROJECTION_TYPE = SINUSOIDAL
  MAP_RESOLUTION = 2370.85521546667
  MAP_SCALE = 0.025
  MAXIMUM_LATITUDE = 77.0586
  MINIMUM_LATITUDE = 69.6657
  POSITIVE_LONGITUDE_DIRECTION = EAST
  REFERENCE_LATITUDE = "N/A"
  REFERENCE_LONGITUDE = "N/A"
  SAMPLE_FIRST_PIXEL = 1
  SAMPLE_LAST_PIXEL = 5996
  SAMPLE_PROJECTION_OFFSET = 3217.25
  SECOND_STANDARD_PARALLEL = "N/A"
  WESTERNMOST_LONGITUDE = 324.335
END_OBJECT = IMAGE_MAP_PROJECTION
END
