PDS_VERSION_ID = PDS3
/* FILE DATA ELEMENTS */
RECORD_TYPE = UNDEFINED
/* POINTERS TO DATA OBJECTS */
^IMAGE = ("HM294_0000_RE4.TIF")
/* IDENTIFICATION DATA ELEMENTS */
DATA_SET_ID = "MEX-M-HRSC-4-REFDR-MAPPROJECT-EXT8-V4.0"
DATA_SET_NAME = "MARS EXPRESS HRSC MAP PROJECTED REFDR EXTENSION8 V4.0"
DETECTOR_ID = MEX_HRSC_RED
EVENT_TYPE = "MARS-REGIONAL-MAPPING-Gl-La"
INSTRUMENT_HOST_ID = MEX
INSTRUMENT_HOST_NAME = "MARS EXPRESS"
INSTRUMENT_ID = HRSC
INSTRUMENT_NAME = "HIGH RESOLUTION STEREO CAMERA"
MISSION_NAME = "MARS EXPRESS"
MISSION_PHASE_NAME = ME_Phase_45
PROCESSING_LEVEL_ID = 4
PRODUCT_CREATION_TIME = 2023-01-26T14:38:01.000Z
PRODUCT_ID = "HM294_0000_RE4.TIF"
RELEASE_ID = 0002
REVISION_ID = 0000
/* QUALITY DATA ELEMENTS */
DATA_QUALITY_ID = 1
DATA_QUALITY_DESC = "Data calculated based on original SPICE kernels"
/* TIME DATA ELEMENTS */
SPACECRAFT_CLOCK_START_COUNT = "1/0577803345.24889"
SPACECRAFT_CLOCK_STOP_COUNT = "1/0577803537.15573"
START_TIME = 2021-08-23T12:57:18.196Z
STOP_TIME = 2021-08-23T12:59:23.563Z
/* ORBITAL DATA ELEMENTS */
ASCENDING_NODE_LONGITUDE = 157.92
MAXIMUM_RESOLUTION = 0.0674
FOOTPRINT_POINT_LATITUDE = (78.987,78.9099,78.8471,78.7901,78.6345 ,78.6305,78.7456,78.575,78.3186,78.1477 ,77.9766,77.8052,77.6338,77.4625, 77.2908,77.1189,76.9469,76.7747,76.6024 ,76.4302,76.2577,76.0852,75.9126,75.74, 75.567,75.3942,75.2213,75.0485,74.8756, 74.7026,74.5294,74.3565,74.1834,74.0102 ,73.837,73.6638,73.3172,72.9706,72.4504 ,72.1903,71.8434,71.5834,71.3233, 71.1453,70.9671,70.7889,70.6107,70.4326 ,70.1652,70.0761,70.0649,70.1081, 70.1465,70.2029,70.2465,70.2829,70.2845 ,70.2862,70.5556,70.7355,71.0054, 71.2753,71.4553,71.7211,71.9844,72.3354 ,72.774,72.9501,73.3018,73.4775,73.6535 ,73.8293,74.0053,74.1812,74.3573, 74.5333,74.7094,74.8856,75.1498,75.3261 ,75.5021,75.6785,75.8548,76.0312, 76.2957,76.4721,76.737,77.0019,77.1785, 77.4433,77.6198,77.7964,77.9726,78.1492 ,78.326,78.5906,78.8562,79.0331,79.1215 ,78.987)
FOOTPRINT_POINT_LONGITUDE = (134.133,132.416,131.16,130.103,127.536 ,127.476,127.026,127.317,127.738, 128.006,128.266,128.52,128.765,129.002, 129.233,129.458,129.676,129.889,130.096 ,130.296,130.492,130.682,130.867, 131.047,131.224,131.395,131.562,131.724 ,131.882,132.037,132.188,132.335, 132.478,132.618,132.755,132.889,133.147 ,133.393,133.743,133.909,134.122, 134.276,134.425,134.524,134.622,134.717 ,134.81,134.902,135.035,135.079,135.084 ,135.78,136.441,137.495,138.398,139.227 ,139.266,139.279,139.195,139.137, 139.049,138.958,138.895,138.801,138.705 ,138.572,138.397,138.325,138.176, 138.098,138.019,137.938,137.855,137.77, 137.684,137.595,137.504,137.41,137.266, 137.167,137.065,136.961,136.854,136.744 ,136.573,136.456,136.273,136.083, 135.952,135.748,135.607,135.461,135.311 ,135.157,134.998,134.749,134.488, 134.307,134.215,134.133)
ORBIT_NUMBER = 22294
ORBITAL_ECCENTRICITY = 0.569
ORBITAL_INCLINATION = 87.02
ORBITAL_SEMIMAJOR_AXIS = 8756.55
PERIAPSIS_ALTITUDE = 395.82
PERIAPSIS_ARGUMENT_ANGLE = 100.63
PERIAPSIS_TIME = 2021-08-23T12:56:42.000Z
SPACECRAFT_ORIENTATION = (0.0,-1.0,0.0)
^MEX_ORIENTATION_DESC = "MEX_ORIENTATION_DESC.TXT"
SPACECRAFT_POINTING_MODE = INERT
^MEX_POINTING_DESC = "MEX_POINTING_DESC.TXT"
RIGHT_ASCENSION = 155.545
DECLINATION = -42.889
OFFSET_ANGLE = -1e+32
SPACECRAFT_SOLAR_DISTANCE = 2.47949e+08
TARGET_NAME = MARS
/* CAMERA DATA ELEMENTS */
DETECTOR_TEMPERATURE = 18.3705
FOCAL_PLANE_TEMPERATURE = 7.7677
INST_CMPRS_NAME = "DISCRETE COSINE TRANSFORMATION (DCT)"
INST_CMPRS_RATIO = 28.5472
INST_CMPRS_QUALITY = 0
INST_CMPRS_QUANTZ_TBL_ID = 0
INSTRUMENT_TEMPERATURE = 10.6223
LENS_TEMPERATURE = 7.7677
MACROPIXEL_SIZE = 4
MISSING_FRAMES = 0
PIXEL_SUBSAMPLING_FLAG = N
SIGNAL_CHAIN_ID = 2
/* RADIOMETRIC DATA ELEMENTS */
BANDWIDTH = 48.0
CENTER_FILTER_WAVELENGTH = 748.0
RADIANCE_OFFSET = 0.99448
RADIANCE_SCALING_FACTOR = 0.00544751
REFLECTANCE_SCALING_FACTOR = 0.000764275
MEX:REFLECTANCE_OFFSET = 0.139524
/* IMAGE OBJECT DEFINITIONS */
OBJECT = IMAGE
  INTERCHANGE_FORMAT = BINARY
  LINES = 10735
  LINE_SAMPLES = 3568
  SAMPLE_TYPE = UNSIGNED_INTEGER
  SAMPLE_BITS = 8
  BANDS = 1
  BAND_STORAGE_TYPE = BAND_SEQUENTIAL
  MAXIMUM = 255
  MEAN = 155.234
  MINIMUM = 1
  STANDARD_DEVIATION = 46.0484
END_OBJECT = IMAGE
/* MAP OBJECT DEFINITIONS */
OBJECT = IMAGE_MAP_PROJECTION
  ^DATA_SET_MAP_PROJECTION_CATALOG= "DSMAP.CAT"
  A_AXIS_RADIUS = 3396.0
  B_AXIS_RADIUS = 3396.0
  C_AXIS_RADIUS = 3396.0
  CENTER_LATITUDE = 0.0
  CENTER_LONGITUDE = 135.0
  COORDINATE_SYSTEM_NAME = PLANETOGRAPHIC
  COORDINATE_SYSTEM_TYPE = "BODY-FIXED ROTATING"
  EASTERNMOST_LONGITUDE = 139.279
  FIRST_STANDARD_PARALLEL = "N/A"
  LINE_FIRST_PIXEL = 1
  LINE_LAST_PIXEL = 10735
  LINE_PROJECTION_OFFSET = 93787.375
  MAP_PROJECTION_ROTATION = 0.0
  MAP_PROJECTION_TYPE = SINUSOIDAL
  MAP_RESOLUTION = 1185.42760773333
  MAP_SCALE = 0.05
  MAXIMUM_LATITUDE = 79.1215
  MINIMUM_LATITUDE = 70.06489999999999
  POSITIVE_LONGITUDE_DIRECTION = EAST
  REFERENCE_LATITUDE = "N/A"
  REFERENCE_LONGITUDE = "N/A"
  SAMPLE_FIRST_PIXEL = 1
  SAMPLE_LAST_PIXEL = 3568
  SAMPLE_PROJECTION_OFFSET = 1802.875
  SECOND_STANDARD_PARALLEL = "N/A"
  WESTERNMOST_LONGITUDE = 127.026
END_OBJECT = IMAGE_MAP_PROJECTION
END
