PDS_VERSION_ID = PDS3
/* FILE DATA ELEMENTS */
RECORD_TYPE = UNDEFINED
/* POINTERS TO DATA OBJECTS */
^IMAGE = ("HM295_0000_RE4.TIF")
/* IDENTIFICATION DATA ELEMENTS */
DATA_SET_ID = "MEX-M-HRSC-4-REFDR-MAPPROJECT-EXT8-V4.0"
DATA_SET_NAME = "MARS EXPRESS HRSC MAP PROJECTED REFDR EXTENSION8 V4.0"
DETECTOR_ID = MEX_HRSC_RED
EVENT_TYPE = "MARS-LOCAL-CARTOGRAPHY-Gl-Pf-La"
INSTRUMENT_HOST_ID = MEX
INSTRUMENT_HOST_NAME = "MARS EXPRESS"
INSTRUMENT_ID = HRSC
INSTRUMENT_NAME = "HIGH RESOLUTION STEREO CAMERA"
MISSION_NAME = "MARS EXPRESS"
MISSION_PHASE_NAME = ME_Phase_45
PROCESSING_LEVEL_ID = 4
PRODUCT_CREATION_TIME = 2023-01-26T14:38:01.000Z
PRODUCT_ID = "HM295_0000_RE4.TIF"
RELEASE_ID = 0002
REVISION_ID = 0000
/* QUALITY DATA ELEMENTS */
DATA_QUALITY_ID = 1
DATA_QUALITY_DESC = "Data calculated based on original SPICE kernels"
/* TIME DATA ELEMENTS */
SPACECRAFT_CLOCK_START_COUNT = "1/0577828399.25676"
SPACECRAFT_CLOCK_STOP_COUNT = "1/0577828849.65369"
START_TIME = 2021-08-23T19:54:55.332Z
STOP_TIME = 2021-08-23T20:01:15.715Z
/* ORBITAL DATA ELEMENTS */
ASCENDING_NODE_LONGITUDE = 157.89
MAXIMUM_RESOLUTION = 0.0686
FOOTPRINT_POINT_LATITUDE = (84.9894,84.549,84.2122,84.2037,84.3368 ,83.9163,83.4835,83.0375,82.5808, 82.1157,81.6438,81.1677,80.6894,80.2026 ,79.4683,78.7325,78.2365,77.7392, 77.2405,76.7408,76.2408,75.4891,74.9876 ,74.4857,73.9836,73.4816,72.4768, 71.4721,70.7004,70.1849,69.6693,69.1539 ,68.3646,67.8359,67.3077,66.5014, 65.9601,65.1414,64.587,64.0328,63.4673, 62.9,62.0356,61.4552,60.863,59.9658, 59.3589,58.7423,58.4322,58.4078,58.4943 ,58.5691,58.5703,58.572,59.5013,60.1099 ,61.0101,61.6046,62.1871,63.0552,63.625 ,64.1935,64.7504,65.3075,65.8589,66.403 ,66.9475,67.4878,68.0199,68.5523, 69.3484,69.8684,70.3889,70.9099,71.6907 ,72.7077,73.7267,74.2369,74.7478,75.259 ,75.7706,76.2828,76.7953,77.3082, 77.8213,78.5917,79.1046,79.6174,80.1257 ,80.6383,81.4024,81.9138,82.4229, 82.9316,83.4383,83.9414,84.4393,84.9299 ,85.1722,84.9894)
FOOTPRINT_POINT_LONGITUDE = (17.6156,9.5432,4.94024,4.83671,3.02785 ,6.46994,9.38916,11.9221,14.1338, 16.0752,17.7885,19.3016,20.6413,21.8638 ,23.4678,24.8374,25.6599,26.4112, 27.1005,27.7345,28.3176,29.1121,29.5935 ,30.0409,30.4575,30.8456,31.5487, 32.1664,32.5914,32.8542,33.1019,33.3353 ,33.6678,33.8752,34.0706,34.3489,34.523 ,34.7689,34.9243,35.0714,35.2134, 35.3482,35.5403,35.6606,35.777,35.9415, 36.045,36.1448,36.1928,36.1965,37.6837, 39.2972,39.3267,39.3363,39.2303,39.157, 39.0419,38.9613,38.8789,38.7487,38.6583 ,38.5634,38.4662,38.3639,38.2577, 38.1473,38.031,37.9112,37.7859,37.6538, 37.4428,37.2955,37.1397,36.9748,36.7089 ,36.3242,35.8885,35.648,35.3908,35.1146 ,34.8175,34.4971,34.1506,33.7748, 33.3659,32.6807,32.1676,31.602,30.9748, 30.2779,29.0722,28.1378,27.0743,25.8531 ,24.438,22.7817,20.8216,18.4732,17.1173 ,17.6156)
ORBIT_NUMBER = 22295
ORBITAL_ECCENTRICITY = 0.569
ORBITAL_INCLINATION = 87.02
ORBITAL_SEMIMAJOR_AXIS = 8756.71
PERIAPSIS_ALTITUDE = 395.38
PERIAPSIS_ARGUMENT_ANGLE = 100.46
PERIAPSIS_TIME = 2021-08-23T19:55:38.000Z
SPACECRAFT_ORIENTATION = (0.0,-1.0,0.0)
^MEX_ORIENTATION_DESC = "MEX_ORIENTATION_DESC.TXT"
SPACECRAFT_POINTING_MODE = INERT
^MEX_POINTING_DESC = "MEX_POINTING_DESC.TXT"
RIGHT_ASCENSION = 158.703
DECLINATION = -41.168
OFFSET_ANGLE = -1e+32
SPACECRAFT_SOLAR_DISTANCE = 2.47931e+08
TARGET_NAME = MARS
/* CAMERA DATA ELEMENTS */
DETECTOR_TEMPERATURE = 18.3705
FOCAL_PLANE_TEMPERATURE = 7.5638
INST_CMPRS_NAME = "DISCRETE COSINE TRANSFORMATION (DCT)"
INST_CMPRS_RATIO = 20.5151
INST_CMPRS_QUALITY = 0
INST_CMPRS_QUANTZ_TBL_ID = 0
INSTRUMENT_TEMPERATURE = 11.0301
LENS_TEMPERATURE = 8.1755
MACROPIXEL_SIZE = 4
MISSING_FRAMES = 0
PIXEL_SUBSAMPLING_FLAG = N
SIGNAL_CHAIN_ID = 2
/* RADIOMETRIC DATA ELEMENTS */
BANDWIDTH = 48.0
CENTER_FILTER_WAVELENGTH = 748.0
RADIANCE_OFFSET = 0.626515
RADIANCE_SCALING_FACTOR = 0.00940948
REFLECTANCE_SCALING_FACTOR = 0.00131994
MEX:REFLECTANCE_OFFSET = 0.0878862
/* IMAGE OBJECT DEFINITIONS */
OBJECT = IMAGE
  INTERCHANGE_FORMAT = BINARY
  LINES = 31740
  LINE_SAMPLES = 6968
  SAMPLE_TYPE = UNSIGNED_INTEGER
  SAMPLE_BITS = 8
  BANDS = 1
  BAND_STORAGE_TYPE = BAND_SEQUENTIAL
  MAXIMUM = 255
  MEAN = 125.725
  MINIMUM = 1
  STANDARD_DEVIATION = 52.0642
END_OBJECT = IMAGE
/* MAP OBJECT DEFINITIONS */
OBJECT = IMAGE_MAP_PROJECTION
  ^DATA_SET_MAP_PROJECTION_CATALOG= "DSMAP.CAT"
  A_AXIS_RADIUS = 3396.0
  B_AXIS_RADIUS = 3396.0
  C_AXIS_RADIUS = 3396.0
  CENTER_LATITUDE = 0.0
  CENTER_LONGITUDE = 34.0
  COORDINATE_SYSTEM_NAME = PLANETOGRAPHIC
  COORDINATE_SYSTEM_TYPE = "BODY-FIXED ROTATING"
  EASTERNMOST_LONGITUDE = 39.3363
  FIRST_STANDARD_PARALLEL = "N/A"
  LINE_FIRST_PIXEL = 1
  LINE_LAST_PIXEL = 31740
  LINE_PROJECTION_OFFSET = 100978.375
  MAP_PROJECTION_ROTATION = 0.0
  MAP_PROJECTION_TYPE = SINUSOIDAL
  MAP_RESOLUTION = 1185.42760773333
  MAP_SCALE = 0.05
  MAXIMUM_LATITUDE = 85.1722
  MINIMUM_LATITUDE = 58.4078
  POSITIVE_LONGITUDE_DIRECTION = EAST
  REFERENCE_LATITUDE = "N/A"
  REFERENCE_LONGITUDE = "N/A"
  SAMPLE_FIRST_PIXEL = 1
  SAMPLE_LAST_PIXEL = 6968
  SAMPLE_PROJECTION_OFFSET = 3560.125
  SECOND_STANDARD_PARALLEL = "N/A"
  WESTERNMOST_LONGITUDE = 3.02785
END_OBJECT = IMAGE_MAP_PROJECTION
END
