PDS_VERSION_ID = PDS3
/* FILE DATA ELEMENTS */
RECORD_TYPE = UNDEFINED
/* POINTERS TO DATA OBJECTS */
^IMAGE = ("HM306_0000_RE4.TIF")
/* IDENTIFICATION DATA ELEMENTS */
DATA_SET_ID = "MEX-M-HRSC-4-REFDR-MAPPROJECT-EXT8-V4.0"
DATA_SET_NAME = "MARS EXPRESS HRSC MAP PROJECTED REFDR EXTENSION8 V4.0"
DETECTOR_ID = MEX_HRSC_RED
EVENT_TYPE = "MARS-LOCAL-CARTOGRAPHY-Im-Gl-Pf"
INSTRUMENT_HOST_ID = MEX
INSTRUMENT_HOST_NAME = "MARS EXPRESS"
INSTRUMENT_ID = HRSC
INSTRUMENT_NAME = "HIGH RESOLUTION STEREO CAMERA"
MISSION_NAME = "MARS EXPRESS"
MISSION_PHASE_NAME = ME_Phase_45
PROCESSING_LEVEL_ID = 4
PRODUCT_CREATION_TIME = 2023-01-26T14:38:01.000Z
PRODUCT_ID = "HM306_0000_RE4.TIF"
RELEASE_ID = 0002
REVISION_ID = 0000
/* QUALITY DATA ELEMENTS */
DATA_QUALITY_ID = 1
DATA_QUALITY_DESC = "Data calculated based on original SPICE kernels"
/* TIME DATA ELEMENTS */
SPACECRAFT_CLOCK_START_COUNT = "1/0578105019.25665"
SPACECRAFT_CLOCK_STOP_COUNT = "1/0578105439.42855"
START_TIME = 2021-08-27T00:45:14.706Z
STOP_TIME = 2021-08-27T00:51:04.300Z
/* ORBITAL DATA ELEMENTS */
ASCENDING_NODE_LONGITUDE = 157.7
MAXIMUM_RESOLUTION = 0.0719
FOOTPRINT_POINT_LATITUDE = (80.2737,80.0386,79.8518,79.8471, 80.0205,79.3858,78.9609,78.3205,77.8915 ,77.4617,77.0313,76.1694,75.3061, 74.8713,74.2059,73.7622,73.3183,72.8752 ,72.4317,71.9883,71.3072,70.8523, 70.3981,69.944,69.4834,69.0181,68.5533, 68.0884,67.6169,67.1409,66.6651,66.1849 ,65.4628,64.9774,64.4812,63.9781, 63.4785,62.971,62.4636,61.9462,61.4277, 60.9009,60.3713,59.8333,59.2927,58.742, 58.1881,57.6253,57.0554,56.48,56.1873, 56.0602,56.1285,56.226,56.2271,56.229, 56.8135,57.3886,57.9563,58.5195,59.0725 ,59.8922,60.4344,60.9654,61.4964, 62.0167,62.7932,63.3031,63.8126,64.3116 ,64.8111,65.306,65.7949,66.2842,67.0077 ,67.4865,68.2036,68.672,69.1408,69.6097 ,70.3067,70.7657,71.225,71.6849,72.3716 ,72.8211,73.271,73.7215,74.1724,74.6237 ,75.3006,76.183,77.0669,77.5095,78.174, 78.8389,79.5054,80.1601,80.3815, 80.2737)
FOOTPRINT_POINT_LONGITUDE = (347.422,342.61,339.576,339.505,338.803 ,340.157,340.967,342.066,342.732, 343.349,343.922,344.952,345.85,346.261, 346.84,347.197,347.533,347.848,348.146, 348.428,348.831,349.083,349.32,349.545, 349.762,349.969,350.166,350.353,350.533 ,350.706,350.871,351.031,351.245, 351.385,351.523,351.664,351.79,351.91, 352.026,352.138,352.244,352.347,352.446 ,352.542,352.633,352.722,352.806, 352.888,352.966,353.042,353.078,353.094 ,354.236,356.292,356.323,356.333, 356.278,356.222,356.164,356.105,356.044 ,355.949,355.884,355.816,355.746, 355.675,355.562,355.485,355.404,355.321 ,355.234,355.145,355.053,354.956, 354.806,354.7,354.533,354.417,354.295, 354.167,353.966,353.825,353.676,353.519 ,353.269,353.094,352.909,352.713, 352.504,352.283,351.925,351.404,350.808 ,350.476,349.93,349.316,348.621,347.827 ,347.538,347.422)
ORBIT_NUMBER = 22306
ORBITAL_ECCENTRICITY = 0.569
ORBITAL_INCLINATION = 87.03
ORBITAL_SEMIMAJOR_AXIS = 8754.29
PERIAPSIS_ALTITUDE = 395.92
PERIAPSIS_ARGUMENT_ANGLE = 98.55
PERIAPSIS_TIME = 2021-08-27T00:44:11.000Z
SPACECRAFT_ORIENTATION = (0.0,-1.0,0.0)
^MEX_ORIENTATION_DESC = "MEX_ORIENTATION_DESC.TXT"
SPACECRAFT_POINTING_MODE = INERT
^MEX_POINTING_DESC = "MEX_POINTING_DESC.TXT"
RIGHT_ASCENSION = 162.853
DECLINATION = -38.55
OFFSET_ANGLE = -1e+32
SPACECRAFT_SOLAR_DISTANCE = 2.47727e+08
TARGET_NAME = MARS
/* CAMERA DATA ELEMENTS */
DETECTOR_TEMPERATURE = 18.3705
FOCAL_PLANE_TEMPERATURE = 7.5638
INST_CMPRS_NAME = "DISCRETE COSINE TRANSFORMATION (DCT)"
INST_CMPRS_RATIO = 22.2342
INST_CMPRS_QUALITY = 0
INST_CMPRS_QUANTZ_TBL_ID = 0
INSTRUMENT_TEMPERATURE = 11.0301
LENS_TEMPERATURE = 7.5638
MACROPIXEL_SIZE = 4
MISSING_FRAMES = 0
PIXEL_SUBSAMPLING_FLAG = N
SIGNAL_CHAIN_ID = 2
/* RADIOMETRIC DATA ELEMENTS */
BANDWIDTH = 48.0
CENTER_FILTER_WAVELENGTH = 748.0
RADIANCE_OFFSET = 0.804353
RADIANCE_SCALING_FACTOR = 0.00887488
REFLECTANCE_SCALING_FACTOR = 0.0012429
MEX:REFLECTANCE_OFFSET = 0.112647
/* IMAGE OBJECT DEFINITIONS */
OBJECT = IMAGE
  INTERCHANGE_FORMAT = BINARY
  LINES = 28941
  LINE_SAMPLES = 5598
  SAMPLE_TYPE = UNSIGNED_INTEGER
  SAMPLE_BITS = 8
  BANDS = 1
  BAND_STORAGE_TYPE = BAND_SEQUENTIAL
  MAXIMUM = 255
  MEAN = 99.164
  MINIMUM = 1
  STANDARD_DEVIATION = 43.8915
END_OBJECT = IMAGE
/* MAP OBJECT DEFINITIONS */
OBJECT = IMAGE_MAP_PROJECTION
  ^DATA_SET_MAP_PROJECTION_CATALOG= "DSMAP.CAT"
  A_AXIS_RADIUS = 3396.0
  B_AXIS_RADIUS = 3396.0
  C_AXIS_RADIUS = 3396.0
  CENTER_LATITUDE = 0.0
  CENTER_LONGITUDE = 352.0
  COORDINATE_SYSTEM_NAME = PLANETOGRAPHIC
  COORDINATE_SYSTEM_TYPE = "BODY-FIXED ROTATING"
  EASTERNMOST_LONGITUDE = 356.333
  FIRST_STANDARD_PARALLEL = "N/A"
  LINE_FIRST_PIXEL = 1
  LINE_LAST_PIXEL = 28941
  LINE_PROJECTION_OFFSET = 95388.875
  MAP_PROJECTION_ROTATION = 0.0
  MAP_PROJECTION_TYPE = SINUSOIDAL
  MAP_RESOLUTION = 1185.42760773333
  MAP_SCALE = 0.05
  MAXIMUM_LATITUDE = 80.3815
  MINIMUM_LATITUDE = 56.0602
  POSITIVE_LONGITUDE_DIRECTION = EAST
  REFERENCE_LATITUDE = "N/A"
  REFERENCE_LONGITUDE = "N/A"
  SAMPLE_FIRST_PIXEL = 1
  SAMPLE_LAST_PIXEL = 5598
  SAMPLE_PROJECTION_OFFSET = 2632.625
  SECOND_STANDARD_PARALLEL = "N/A"
  WESTERNMOST_LONGITUDE = 338.803
END_OBJECT = IMAGE_MAP_PROJECTION
END
