PDS_VERSION_ID = PDS3
/* FILE DATA ELEMENTS */
RECORD_TYPE = UNDEFINED
/* POINTERS TO DATA OBJECTS */
^IMAGE = ("HM509_0000_BL4.TIF")
/* IDENTIFICATION DATA ELEMENTS */
DATA_SET_ID = "MEX-M-HRSC-4-REFDR-MAPPROJECT-EXT8-V4.0"
DATA_SET_NAME = "MARS EXPRESS HRSC MAP PROJECTED REFDR EXTENSION8 V4.0"
DETECTOR_ID = MEX_HRSC_BLUE
EVENT_TYPE = "MARS-TERMINATOR-CALIBRATION-Tc"
INSTRUMENT_HOST_ID = MEX
INSTRUMENT_HOST_NAME = "MARS EXPRESS"
INSTRUMENT_ID = HRSC
INSTRUMENT_NAME = "HIGH RESOLUTION STEREO CAMERA"
MISSION_NAME = "MARS EXPRESS"
MISSION_PHASE_NAME = ME_Phase_45
PROCESSING_LEVEL_ID = 4
PRODUCT_CREATION_TIME = 2023-01-28T19:10:30.000Z
PRODUCT_ID = "HM509_0000_BL4.TIF"
RELEASE_ID = 0003
REVISION_ID = 0000
/* QUALITY DATA ELEMENTS */
DATA_QUALITY_ID = 1
DATA_QUALITY_DESC = "Data calculated based on original SPICE kernels"
/* TIME DATA ELEMENTS */
SPACECRAFT_CLOCK_START_COUNT = "1/0583211647.25663"
SPACECRAFT_CLOCK_STOP_COUNT = "1/0583211948.64222"
START_TIME = 2021-10-25T03:16:48.322Z
STOP_TIME = 2021-10-25T03:18:17.075Z
/* ORBITAL DATA ELEMENTS */
ASCENDING_NODE_LONGITUDE = 154.09
MAXIMUM_RESOLUTION = 0.4107
FOOTPRINT_POINT_LATITUDE = (-16.0521,-15.0148,-14.3283,-13.6456, -12.9661,-12.289,-11.6139,-10.9411, -10.2703,-9.60081,-8.93237,-8.26485, -7.59815,-6.93211,-6.26648,-5.60093, -4.93503,-4.2682,-3.60015,-2.93084, -2.25971,-1.58582,-0.909079,-0.23029, 0.450608,1.13447,1.30598,1.3713,1.55463 ,1.66208,1.77211,1.8839,1.9983,2.11574, 2.23615,2.45213,2.58057,2.71394,2.84854 ,2.98687,3.12875,3.27441,3.42421,3.5779 ,3.73635,3.89886,4.06511,4.23767, 4.41528,4.5983,4.83653,4.88474,4.91292, 3.85429,2.97198,2.27462,1.40148, 0.708257,-0.156949,-1.35839,-2.21469, -2.89569,-4.0883,-4.76829,-5.96088, -6.98318,-8.1785,-8.86253,-9.54991, -10.5857,-11.2769,-11.9728,-12.6737, -12.8494,-12.913,-13.0116,-13.1111, -13.2377,-13.3676,-13.4611,-13.5546, -13.6789,-13.8985,-14.0217,-14.1436, -14.2631,-14.384,-14.5957,-14.7476, -14.87,-14.9913,-15.1161,-15.2366, -15.4259,-15.5514,-15.6779,-15.8386, -15.9988,-16.0334,-16.0521)
FOOTPRINT_POINT_LONGITUDE = (143.048,143.332,143.521,143.71,143.9, 144.089,144.279,144.47,144.661,144.854, 145.047,145.241,145.437,145.633,145.832 ,146.032,146.233,146.436,146.642,146.85 ,147.06,147.273,147.488,147.707,147.928 ,148.153,148.21,148.242,146.839,146.044 ,145.254,144.466,143.682,142.9,142.12, 140.758,139.981,139.203,138.424,137.644 ,136.862,136.077,135.289,134.497, 133.701,132.9,132.093,131.28,130.46, 129.631,128.583,128.372,128.25,127.958, 127.711,127.505,127.251,127.044,126.787 ,126.414,126.146,125.922,125.529, 125.292,124.883,124.519,124.076,123.824 ,123.556,123.142,122.868,122.583, 122.287,122.212,122.188,122.869,123.538 ,124.43,125.302,125.955,126.601,127.454 ,128.923,129.756,130.583,131.407, 132.225,133.647,134.657,135.463,136.268 ,137.071,137.875,139.081,139.887, 140.695,141.708,142.726,142.931, 143.048)
ORBIT_NUMBER = 22509
ORBITAL_ECCENTRICITY = 0.57
ORBITAL_INCLINATION = 87.02
ORBITAL_SEMIMAJOR_AXIS = 8770.44
PERIAPSIS_ALTITUDE = 394.52
PERIAPSIS_ARGUMENT_ANGLE = 63.67
PERIAPSIS_TIME = 2021-10-25T02:14:25.000Z
SPACECRAFT_ORIENTATION = (0.0,-1.0,0.0)
^MEX_ORIENTATION_DESC = "MEX_ORIENTATION_DESC.TXT"
SPACECRAFT_POINTING_MODE = FIXED
^MEX_POINTING_DESC = "MEX_POINTING_DESC.TXT"
RIGHT_ASCENSION = -1e+32
DECLINATION = -1e+32
OFFSET_ANGLE = -1e+32
SPACECRAFT_SOLAR_DISTANCE = 2.41506e+08
TARGET_NAME = MARS
/* CAMERA DATA ELEMENTS */
DETECTOR_TEMPERATURE = 17.5549
FOCAL_PLANE_TEMPERATURE = 7.7677
INST_CMPRS_NAME = "DISCRETE COSINE TRANSFORMATION (DCT)"
INST_CMPRS_RATIO = 9.66731
INST_CMPRS_QUALITY = 0
INST_CMPRS_QUANTZ_TBL_ID = 0
INSTRUMENT_TEMPERATURE = 10.8262
LENS_TEMPERATURE = 7.7677
MACROPIXEL_SIZE = 2
MISSING_FRAMES = 0
PIXEL_SUBSAMPLING_FLAG = N
SIGNAL_CHAIN_ID = 2
/* RADIOMETRIC DATA ELEMENTS */
BANDWIDTH = 76.0
CENTER_FILTER_WAVELENGTH = 444.0
RADIANCE_OFFSET = 0.698194
RADIANCE_SCALING_FACTOR = 0.00251601
REFLECTANCE_SCALING_FACTOR = 0.000150767
MEX:REFLECTANCE_OFFSET = 0.0418378
/* IMAGE OBJECT DEFINITIONS */
OBJECT = IMAGE
  INTERCHANGE_FORMAT = BINARY
  LINES = 3083
  LINE_SAMPLES = 3759
  SAMPLE_TYPE = UNSIGNED_INTEGER
  SAMPLE_BITS = 8
  BANDS = 1
  BAND_STORAGE_TYPE = BAND_SEQUENTIAL
  MAXIMUM = 255
  MEAN = 123.841
  MINIMUM = 3
  STANDARD_DEVIATION = 22.3029
END_OBJECT = IMAGE
/* MAP OBJECT DEFINITIONS */
OBJECT = IMAGE_MAP_PROJECTION
  ^DATA_SET_MAP_PROJECTION_CATALOG= "DSMAP.CAT"
  A_AXIS_RADIUS = 3396.0
  B_AXIS_RADIUS = 3396.0
  C_AXIS_RADIUS = 3396.0
  CENTER_LATITUDE = -5.06995
  CENTER_LONGITUDE = 135.703
  COORDINATE_SYSTEM_NAME = PLANETOGRAPHIC
  COORDINATE_SYSTEM_TYPE = "BODY-FIXED ROTATING"
  EASTERNMOST_LONGITUDE = 148.242
  FIRST_STANDARD_PARALLEL = "N/A"
  LINE_FIRST_PIXEL = 1
  LINE_LAST_PIXEL = 3083
  LINE_PROJECTION_OFFSET = 1574.75
  MAP_PROJECTION_ROTATION = 0.0
  MAP_PROJECTION_TYPE = ORTHOGRAPHIC
  MAP_RESOLUTION = 148.178450966667
  MAP_SCALE = 0.4
  MAXIMUM_LATITUDE = 4.91292
  MINIMUM_LATITUDE = -16.0521
  POSITIVE_LONGITUDE_DIRECTION = EAST
  REFERENCE_LATITUDE = "N/A"
  REFERENCE_LONGITUDE = "N/A"
  SAMPLE_FIRST_PIXEL = 1
  SAMPLE_LAST_PIXEL = 3759
  SAMPLE_PROJECTION_OFFSET = 1926.75
  SECOND_STANDARD_PARALLEL = "N/A"
  WESTERNMOST_LONGITUDE = 122.188
END_OBJECT = IMAGE_MAP_PROJECTION
END
