PDS_VERSION_ID = PDS3
/* FILE DATA ELEMENTS */
RECORD_TYPE = UNDEFINED
/* POINTERS TO DATA OBJECTS */
^IMAGE = ("HM537_0000_ND4.TIF")
/* IDENTIFICATION DATA ELEMENTS */
DATA_SET_ID = "MEX-M-HRSC-4-REFDR-MAPPROJECT-EXT8-V4.0"
DATA_SET_NAME = "MARS EXPRESS HRSC MAP PROJECTED REFDR EXTENSION8 V4.0"
DETECTOR_ID = MEX_HRSC_NADIR
EVENT_TYPE = "MARS-TERMINATOR-CALIBRATION-Tc"
INSTRUMENT_HOST_ID = MEX
INSTRUMENT_HOST_NAME = "MARS EXPRESS"
INSTRUMENT_ID = HRSC
INSTRUMENT_NAME = "HIGH RESOLUTION STEREO CAMERA"
MISSION_NAME = "MARS EXPRESS"
MISSION_PHASE_NAME = ME_Phase_45
PROCESSING_LEVEL_ID = 4
PRODUCT_CREATION_TIME = 2023-01-28T19:10:30.000Z
PRODUCT_ID = "HM537_0000_ND4.TIF"
RELEASE_ID = 0003
REVISION_ID = 0000
/* QUALITY DATA ELEMENTS */
DATA_QUALITY_ID = 1
DATA_QUALITY_DESC = "Data calculated based on original SPICE kernels"
/* TIME DATA ELEMENTS */
SPACECRAFT_CLOCK_START_COUNT = "1/0583917685.24949"
SPACECRAFT_CLOCK_STOP_COUNT = "1/0583918154.23696"
START_TIME = 2021-11-02T07:23:47.318Z
STOP_TIME = 2021-11-02T07:27:59.298Z
/* ORBITAL DATA ELEMENTS */
ASCENDING_NODE_LONGITUDE = 153.58
MAXIMUM_RESOLUTION = 0.6109
FOOTPRINT_POINT_LATITUDE = (-12.3542,-8.59903,-6.67061,-5.72477, -5.19465,-3.09367,-0.179227,1.30731, 3.32454,5.97131,9.99317,10.61,13.4428, 15.8186,19.0843,21.0189,20.1186,24.1181 ,24.2124,27.8101,26.3126,24.3519, 23.1149,22.2033,20.9057,20.0252,19.4066 ,18.9792,18.6892,18.4714,18.6248, 19.1043,19.9058,21.0427,22.5382,24.698, 26.0736,27.8283,29.9626,32.7277,34.5769 ,37.0986,41.7963,42.7838,38.9711, 40.0125,36.3447,34.5912,36.0312,32.1006 ,29.0503,27.9004,25.1108,23.6123, 21.4397,19.2069,16.0351,12.3423,12.162, 9.02393,8.46052,8.25961,5.15295,3.31479 ,1.90273,0.746795,-0.26648,-1.96722, -3.38476,-4.61671,-5.68362,-6.65341, -7.51709,-8.29712,-9.67304,-10.8548, -11.8909,-12.7969,-13.5943,-14.2983, -14.9155,-15.4583,-15.9231,-16.3167, -16.6376,-16.8747,-17.0263,-17.0664, -16.9788,-16.871,-16.7015,-16.465, -16.1286,-15.6798,-15.0424,-14.6137, -14.0909,-13.4104,-12.4314,-12.3542)
FOOTPRINT_POINT_LONGITUDE = (213.33,216.641,219.171,220.791,221.866 ,219.243,218.695,216.372,215.303,215.56 ,214.612,212.043,210.034,207.762, 209.821,207.174,203.48,203.989,199.664, 199.713,196.03,192.347,189.667,187.437, 183.699,180.522,177.685,175.081,172.64, 168.114,163.885,159.824,155.834,151.826 ,147.706,143.322,140.957,138.38,135.519 ,132.177,130.161,127.65,123.511,120.76, 121.151,118.356,116.571,110.969,106.945 ,105.185,105.176,99.9752,99.3935, 97.1681,95.3162,92.981,90.8826,87.7101, 87.2887,90.0252,90.3292,90.4369,96.2468 ,99.7784,102.558,104.894,106.983, 110.612,113.772,116.63,119.228,121.676, 123.965,126.132,130.213,134.045,137.71, 141.248,144.704,148.112,151.504,154.908 ,158.359,161.883,165.511,169.298, 173.273,177.536,182.146,184.634,187.315 ,190.194,193.384,196.899,200.98,203.348 ,205.985,209.077,213.033,213.33)
ORBIT_NUMBER = 22537
ORBITAL_ECCENTRICITY = 0.57
ORBITAL_INCLINATION = 87.01
ORBITAL_SEMIMAJOR_AXIS = 8778.13
PERIAPSIS_ALTITUDE = 392.62
PERIAPSIS_ARGUMENT_ANGLE = 58.86
PERIAPSIS_TIME = 2021-11-02T05:45:47.000Z
SPACECRAFT_ORIENTATION = (0.0,-1.0,0.0)
^MEX_ORIENTATION_DESC = "MEX_ORIENTATION_DESC.TXT"
SPACECRAFT_POINTING_MODE = FIXED
^MEX_POINTING_DESC = "MEX_POINTING_DESC.TXT"
RIGHT_ASCENSION = -1e+32
DECLINATION = -1e+32
OFFSET_ANGLE = -1e+32
SPACECRAFT_SOLAR_DISTANCE = 2.40318e+08
TARGET_NAME = MARS
/* CAMERA DATA ELEMENTS */
DETECTOR_TEMPERATURE = 17.7588
FOCAL_PLANE_TEMPERATURE = 7.156
INST_CMPRS_NAME = "DISCRETE COSINE TRANSFORMATION (DCT)"
INST_CMPRS_RATIO = 10.8497
INST_CMPRS_QUALITY = 0
INST_CMPRS_QUANTZ_TBL_ID = 0
INSTRUMENT_TEMPERATURE = 10.6223
LENS_TEMPERATURE = 7.9716
MACROPIXEL_SIZE = 2
MISSING_FRAMES = 0
PIXEL_SUBSAMPLING_FLAG = N
SIGNAL_CHAIN_ID = 0
/* RADIOMETRIC DATA ELEMENTS */
BANDWIDTH = 177.0
CENTER_FILTER_WAVELENGTH = 677.5
RADIANCE_OFFSET = 0.0
RADIANCE_SCALING_FACTOR = 0.0470827
REFLECTANCE_SCALING_FACTOR = 0.00144438
MEX:REFLECTANCE_OFFSET = 0.0
/* IMAGE OBJECT DEFINITIONS */
OBJECT = IMAGE
  INTERCHANGE_FORMAT = BINARY
  LINES = 4180
  LINE_SAMPLES = 7603
  SAMPLE_TYPE = UNSIGNED_INTEGER
  SAMPLE_BITS = 8
  BANDS = 1
  BAND_STORAGE_TYPE = BAND_SEQUENTIAL
  MAXIMUM = 255
  MEAN = 189.957
  MINIMUM = 63
  STANDARD_DEVIATION = 25.5777
END_OBJECT = IMAGE
/* MAP OBJECT DEFINITIONS */
OBJECT = IMAGE_MAP_PROJECTION
  ^DATA_SET_MAP_PROJECTION_CATALOG= "DSMAP.CAT"
  A_AXIS_RADIUS = 3396.0
  B_AXIS_RADIUS = 3396.0
  C_AXIS_RADIUS = 3396.0
  CENTER_LATITUDE = -0.847236
  CENTER_LONGITUDE = 155.413
  COORDINATE_SYSTEM_NAME = PLANETOGRAPHIC
  COORDINATE_SYSTEM_TYPE = "BODY-FIXED ROTATING"
  EASTERNMOST_LONGITUDE = 221.866
  FIRST_STANDARD_PARALLEL = "N/A"
  LINE_FIRST_PIXEL = 1
  LINE_LAST_PIXEL = 4180
  LINE_PROJECTION_OFFSET = 2988.0
  MAP_PROJECTION_ROTATION = 0.0
  MAP_PROJECTION_TYPE = ORTHOGRAPHIC
  MAP_RESOLUTION = 74.08922548333329
  MAP_SCALE = 0.8
  MAXIMUM_LATITUDE = 42.7838
  MINIMUM_LATITUDE = -17.0664
  POSITIVE_LONGITUDE_DIRECTION = EAST
  REFERENCE_LATITUDE = "N/A"
  REFERENCE_LONGITUDE = "N/A"
  SAMPLE_FIRST_PIXEL = 1
  SAMPLE_LAST_PIXEL = 7603
  SAMPLE_PROJECTION_OFFSET = 3918.0
  SECOND_STANDARD_PARALLEL = "N/A"
  WESTERNMOST_LONGITUDE = 87.28870000000001
END_OBJECT = IMAGE_MAP_PROJECTION
END
