PDS_VERSION_ID = PDS3
/* FILE DATA ELEMENTS */
RECORD_TYPE = UNDEFINED
/* POINTERS TO DATA OBJECTS */
^IMAGE = ("HM544_0000_BL4.TIF")
/* IDENTIFICATION DATA ELEMENTS */
DATA_SET_ID = "MEX-M-HRSC-4-REFDR-MAPPROJECT-EXT8-V4.0"
DATA_SET_NAME = "MARS EXPRESS HRSC MAP PROJECTED REFDR EXTENSION8 V4.0"
DETECTOR_ID = MEX_HRSC_BLUE
EVENT_TYPE = "MARS-TERMINATOR-CALIBRATION-Tc"
INSTRUMENT_HOST_ID = MEX
INSTRUMENT_HOST_NAME = "MARS EXPRESS"
INSTRUMENT_ID = HRSC
INSTRUMENT_NAME = "HIGH RESOLUTION STEREO CAMERA"
MISSION_NAME = "MARS EXPRESS"
MISSION_PHASE_NAME = ME_Phase_45
PROCESSING_LEVEL_ID = 4
PRODUCT_CREATION_TIME = 2023-01-28T19:10:30.000Z
PRODUCT_ID = "HM544_0000_BL4.TIF"
RELEASE_ID = 0003
REVISION_ID = 0000
/* QUALITY DATA ELEMENTS */
DATA_QUALITY_ID = 1
DATA_QUALITY_DESC = "Data calculated based on original SPICE kernels"
/* TIME DATA ELEMENTS */
SPACECRAFT_CLOCK_START_COUNT = "1/0584093797.24940"
SPACECRAFT_CLOCK_STOP_COUNT = "1/0584094266.24206"
START_TIME = 2021-11-04T08:19:23.335Z
STOP_TIME = 2021-11-04T08:23:33.350Z
/* ORBITAL DATA ELEMENTS */
ASCENDING_NODE_LONGITUDE = 153.46
MAXIMUM_RESOLUTION = 0.619
FOOTPRINT_POINT_LATITUDE = (-34.6306,-34.5865,-33.6878,-31.5002, -29.1159,-26.6176,-24.0084,-21.2576, -18.2853,-14.837,-13.1727,-12.4253, -12.3415,-7.63188,-5.23351,-2.60272, -3.45083,-4.86872,-5.82313,-6.51532, -7.06486,-7.86518,-8.43775,-8.85774, -9.16006,-9.35531,-9.57781,-9.58742, -9.44134,-9.13658,-8.60842,-8.05944, -7.39961,-6.62806,-5.7348,-4.7145, -3.55215,-2.20556,-0.654076,1.15691, 3.32089,4.57804,5.99962,7.62143,9.52686 ,11.8779,13.3143,15.0348,17.2937, 21.0165,21.625,17.1932,17.3011,14.3176, 10.1731,6.94677,3.29085,-0.839021, -2.47919,-2.43735,-2.0816,-2.4314, -6.83643,-10.8787,-13.3547,-14.9017, -16.1135,-17.1381,-18.8615,-20.2994, -21.5458,-22.657,-23.6649,-24.5887, -26.243,-27.7011,-29.006,-30.1956, -31.2945,-32.3101,-33.251,-34.1363, -34.9659,-35.7487,-36.4751,-37.1496, -37.7755,-38.3327,-38.7954,-38.996, -39.1492,-39.2607,-39.3191,-39.2755, -39.1021,-38.6879,-38.3019,-37.6399, -35.3519,-34.6306)
FOOTPRINT_POINT_LONGITUDE = (237.148,231.631,228.635,225.133, 223.101,221.944,221.47,221.649,222.62, 225.015,226.975,228.187,228.046,227.528 ,224.591,223.311,217.764,213.261, 209.884,207.145,204.755,200.705,197.212 ,194.089,191.25,188.661,183.871,179.541 ,175.518,171.756,167.252,163.779, 160.381,157.023,153.674,150.302,146.874 ,143.339,139.646,135.72,131.436,129.101 ,126.576,123.808,120.684,116.984, 114.785,112.197,108.864,103.432,97.732, 95.5435,93.9342,96.7505,98.1755,98.2316 ,97.0906,93.1896,88.5851,85.9402, 84.2697,85.6164,83.1564,85.4385,91.5318 ,95.3134,98.2756,100.789,105.074, 108.718,111.938,114.873,117.606,120.166 ,124.94,129.345,133.556,137.595,141.531 ,145.43,149.326,153.248,157.24,161.343, 165.599,170.064,174.824,179.964,185.602 ,188.715,192.019,195.624,199.654, 204.111,209.355,215.895,220.157,225.759 ,235.449,237.148)
ORBIT_NUMBER = 22544
ORBITAL_ECCENTRICITY = 0.57
ORBITAL_INCLINATION = 87.01
ORBITAL_SEMIMAJOR_AXIS = 8780.17
PERIAPSIS_ALTITUDE = 392.0
PERIAPSIS_ARGUMENT_ANGLE = 57.65
PERIAPSIS_TIME = 2021-11-04T06:38:38.000Z
SPACECRAFT_ORIENTATION = (0.0,-1.0,0.0)
^MEX_ORIENTATION_DESC = "MEX_ORIENTATION_DESC.TXT"
SPACECRAFT_POINTING_MODE = FIXED
^MEX_POINTING_DESC = "MEX_POINTING_DESC.TXT"
RIGHT_ASCENSION = -1e+32
DECLINATION = -1e+32
OFFSET_ANGLE = -1e+32
SPACECRAFT_SOLAR_DISTANCE = 2.4001e+08
TARGET_NAME = MARS
/* CAMERA DATA ELEMENTS */
DETECTOR_TEMPERATURE = 17.7588
FOCAL_PLANE_TEMPERATURE = 7.3599
INST_CMPRS_NAME = "DISCRETE COSINE TRANSFORMATION (DCT)"
INST_CMPRS_RATIO = 4.52521
INST_CMPRS_QUALITY = 0
INST_CMPRS_QUANTZ_TBL_ID = 0
INSTRUMENT_TEMPERATURE = 11.0301
LENS_TEMPERATURE = 7.9716
MACROPIXEL_SIZE = 2
MISSING_FRAMES = 0
PIXEL_SUBSAMPLING_FLAG = N
SIGNAL_CHAIN_ID = 2
/* RADIOMETRIC DATA ELEMENTS */
BANDWIDTH = 76.0
CENTER_FILTER_WAVELENGTH = 444.0
RADIANCE_OFFSET = 0.0
RADIANCE_SCALING_FACTOR = 0.00974305
REFLECTANCE_SCALING_FACTOR = 0.000576596
MEX:REFLECTANCE_OFFSET = 0.0
/* IMAGE OBJECT DEFINITIONS */
OBJECT = IMAGE
  INTERCHANGE_FORMAT = BINARY
  LINES = 4525
  LINE_SAMPLES = 8050
  SAMPLE_TYPE = UNSIGNED_INTEGER
  SAMPLE_BITS = 8
  BANDS = 1
  BAND_STORAGE_TYPE = BAND_SEQUENTIAL
  MAXIMUM = 255
  MEAN = 92.4665
  MINIMUM = 27
  STANDARD_DEVIATION = 33.6751
END_OBJECT = IMAGE
/* MAP OBJECT DEFINITIONS */
OBJECT = IMAGE_MAP_PROJECTION
  ^DATA_SET_MAP_PROJECTION_CATALOG= "DSMAP.CAT"
  A_AXIS_RADIUS = 3396.0
  B_AXIS_RADIUS = 3396.0
  C_AXIS_RADIUS = 3396.0
  CENTER_LATITUDE = -20.0869
  CENTER_LONGITUDE = 155.817
  COORDINATE_SYSTEM_NAME = PLANETOGRAPHIC
  COORDINATE_SYSTEM_TYPE = "BODY-FIXED ROTATING"
  EASTERNMOST_LONGITUDE = 237.148
  FIRST_STANDARD_PARALLEL = "N/A"
  LINE_FIRST_PIXEL = 1
  LINE_LAST_PIXEL = 4525
  LINE_PROJECTION_OFFSET = 2400.0
  MAP_PROJECTION_ROTATION = 0.0
  MAP_PROJECTION_TYPE = ORTHOGRAPHIC
  MAP_RESOLUTION = 74.08922548333329
  MAP_SCALE = 0.8
  MAXIMUM_LATITUDE = 21.625
  MINIMUM_LATITUDE = -39.3191
  POSITIVE_LONGITUDE_DIRECTION = EAST
  REFERENCE_LATITUDE = "N/A"
  REFERENCE_LONGITUDE = "N/A"
  SAMPLE_FIRST_PIXEL = 1
  SAMPLE_LAST_PIXEL = 8050
  SAMPLE_PROJECTION_OFFSET = 4064.0
  SECOND_STANDARD_PARALLEL = "N/A"
  WESTERNMOST_LONGITUDE = 83.1564
END_OBJECT = IMAGE_MAP_PROJECTION
END
