PDS_VERSION_ID = PDS3
/* FILE DATA ELEMENTS */
RECORD_TYPE = UNDEFINED
/* POINTERS TO DATA OBJECTS */
^IMAGE = ("HM544_0000_IR4.TIF")
/* IDENTIFICATION DATA ELEMENTS */
DATA_SET_ID = "MEX-M-HRSC-4-REFDR-MAPPROJECT-EXT8-V4.0"
DATA_SET_NAME = "MARS EXPRESS HRSC MAP PROJECTED REFDR EXTENSION8 V4.0"
DETECTOR_ID = MEX_HRSC_IR
EVENT_TYPE = "MARS-TERMINATOR-CALIBRATION-Tc"
INSTRUMENT_HOST_ID = MEX
INSTRUMENT_HOST_NAME = "MARS EXPRESS"
INSTRUMENT_ID = HRSC
INSTRUMENT_NAME = "HIGH RESOLUTION STEREO CAMERA"
MISSION_NAME = "MARS EXPRESS"
MISSION_PHASE_NAME = ME_Phase_45
PROCESSING_LEVEL_ID = 4
PRODUCT_CREATION_TIME = 2023-01-28T19:10:30.000Z
PRODUCT_ID = "HM544_0000_IR4.TIF"
RELEASE_ID = 0003
REVISION_ID = 0000
/* QUALITY DATA ELEMENTS */
DATA_QUALITY_ID = 1
DATA_QUALITY_DESC = "Data calculated based on original SPICE kernels"
/* TIME DATA ELEMENTS */
SPACECRAFT_CLOCK_START_COUNT = "1/0584093797.24940"
SPACECRAFT_CLOCK_STOP_COUNT = "1/0584094266.24206"
START_TIME = 2021-11-04T08:17:11.314Z
STOP_TIME = 2021-11-04T08:21:23.325Z
/* ORBITAL DATA ELEMENTS */
ASCENDING_NODE_LONGITUDE = 153.46
MAXIMUM_RESOLUTION = 0.6116
FOOTPRINT_POINT_LATITUDE = (-33.9542,-31.6868,-29.3479,-26.9518, -24.4894,-21.9384,-19.258,-16.3633, -13.0027,-11.393,-10.6961,-10.5846, -6.40817,-3.70762,-0.93292,0.142875, -2.01445,-3.06642,-3.85166,-4.92578, -5.61887,-6.11375,-6.48066,-6.72692, -6.90599,-7.06747,-7.02833,-6.82751, -6.50199,-6.06371,-5.50929,-4.84823, -4.07287,-3.17914,-2.14314,-0.964375, 0.392314,1.96934,3.82631,4.88608, 6.05382,7.36309,8.8393,10.568,12.6269, 15.2388,16.9146,19.0479,22.3665,24.3862 ,20.2783,16.433,16.045,13.8718,10.0814, 7.05028,3.26419,-0.647789,-2.00552, -2.01035,-1.86803,-1.43516,-7.02519, -9.68855,-11.2606,-12.492,-13.5326, -14.4409,-16.0002,-17.3273,-18.4902, -19.534,-20.4835,-21.3573,-22.9242, -24.3075,-25.5491,-26.681,-27.7219, -28.6833,-29.5812,-30.424,-31.2134, -31.9502,-32.6438,-33.2913,-33.8901, -34.4157,-34.8936,-35.0897,-35.2532, -35.3824,-35.4594,-35.4782,-35.3965, -35.149,-34.9216,-34.565,-33.9574, -33.9542)
FOOTPRINT_POINT_LONGITUDE = (224.406,222.011,220.491,219.593, 219.208,219.307,219.936,221.277,223.988 ,226.016,227.166,227.133,226.738, 224.984,224.347,221.152,214.783,211.129 ,208.136,203.381,199.567,196.245, 193.241,190.526,187.975,183.325,179.105 ,175.19,171.479,167.918,164.471,161.094 ,157.755,154.423,151.061,147.634, 144.096,140.385,136.414,134.294,132.055 ,129.656,127.057,124.154,120.826,116.77 ,114.241,111.073,106.217,99.8939, 98.7458,95.4323,95.3989,97.0745,98.2678 ,98.2816,97.0595,93.1833,88.9825,86.474 ,85.285,83.9492,86.76,93.2694,97.0788, 100.072,102.617,104.853,108.743,112.124 ,115.149,117.93,120.521,122.968,127.513 ,131.751,135.774,139.638,143.412, 147.142,150.855,154.589,158.381,162.264 ,166.283,170.488,174.945,179.702, 184.975,187.817,190.841,194.114,197.671 ,201.698,206.316,211.866,215.05,219.187 ,224.491,224.406)
ORBIT_NUMBER = 22544
ORBITAL_ECCENTRICITY = 0.57
ORBITAL_INCLINATION = 87.01
ORBITAL_SEMIMAJOR_AXIS = 8780.17
PERIAPSIS_ALTITUDE = 392.0
PERIAPSIS_ARGUMENT_ANGLE = 57.65
PERIAPSIS_TIME = 2021-11-04T06:38:38.000Z
SPACECRAFT_ORIENTATION = (0.0,1.0,0.0)
^MEX_ORIENTATION_DESC = "MEX_ORIENTATION_DESC.TXT"
SPACECRAFT_POINTING_MODE = FIXED
^MEX_POINTING_DESC = "MEX_POINTING_DESC.TXT"
RIGHT_ASCENSION = -1e+32
DECLINATION = -1e+32
OFFSET_ANGLE = -1e+32
SPACECRAFT_SOLAR_DISTANCE = 2.4001e+08
TARGET_NAME = MARS
/* CAMERA DATA ELEMENTS */
DETECTOR_TEMPERATURE = 16.9432
FOCAL_PLANE_TEMPERATURE = 7.3599
INST_CMPRS_NAME = "DISCRETE COSINE TRANSFORMATION (DCT)"
INST_CMPRS_RATIO = 4.72332
INST_CMPRS_QUALITY = 0
INST_CMPRS_QUANTZ_TBL_ID = 0
INSTRUMENT_TEMPERATURE = 11.0301
LENS_TEMPERATURE = 7.9716
MACROPIXEL_SIZE = 2
MISSING_FRAMES = 1
PIXEL_SUBSAMPLING_FLAG = N
SIGNAL_CHAIN_ID = 1
/* RADIOMETRIC DATA ELEMENTS */
BANDWIDTH = 81.0
CENTER_FILTER_WAVELENGTH = 955.5
RADIANCE_OFFSET = 0.0
RADIANCE_SCALING_FACTOR = 0.0122792
REFLECTANCE_SCALING_FACTOR = 0.00152587
MEX:REFLECTANCE_OFFSET = 0.0
/* IMAGE OBJECT DEFINITIONS */
OBJECT = IMAGE
  INTERCHANGE_FORMAT = BINARY
  LINES = 4525
  LINE_SAMPLES = 8050
  SAMPLE_TYPE = UNSIGNED_INTEGER
  SAMPLE_BITS = 8
  BANDS = 1
  BAND_STORAGE_TYPE = BAND_SEQUENTIAL
  MAXIMUM = 255
  MEAN = 135.754
  MINIMUM = 30
  STANDARD_DEVIATION = 49.0061
END_OBJECT = IMAGE
/* MAP OBJECT DEFINITIONS */
OBJECT = IMAGE_MAP_PROJECTION
  ^DATA_SET_MAP_PROJECTION_CATALOG= "DSMAP.CAT"
  A_AXIS_RADIUS = 3396.0
  B_AXIS_RADIUS = 3396.0
  C_AXIS_RADIUS = 3396.0
  CENTER_LATITUDE = -20.0869
  CENTER_LONGITUDE = 155.817
  COORDINATE_SYSTEM_NAME = PLANETOGRAPHIC
  COORDINATE_SYSTEM_TYPE = "BODY-FIXED ROTATING"
  EASTERNMOST_LONGITUDE = 227.166
  FIRST_STANDARD_PARALLEL = "N/A"
  LINE_FIRST_PIXEL = 1
  LINE_LAST_PIXEL = 4525
  LINE_PROJECTION_OFFSET = 2400.0
  MAP_PROJECTION_ROTATION = 0.0
  MAP_PROJECTION_TYPE = ORTHOGRAPHIC
  MAP_RESOLUTION = 74.08922548333329
  MAP_SCALE = 0.8
  MAXIMUM_LATITUDE = 24.3862
  MINIMUM_LATITUDE = -35.4782
  POSITIVE_LONGITUDE_DIRECTION = EAST
  REFERENCE_LATITUDE = "N/A"
  REFERENCE_LONGITUDE = "N/A"
  SAMPLE_FIRST_PIXEL = 1
  SAMPLE_LAST_PIXEL = 8050
  SAMPLE_PROJECTION_OFFSET = 4064.0
  SECOND_STANDARD_PARALLEL = "N/A"
  WESTERNMOST_LONGITUDE = 83.9492
END_OBJECT = IMAGE_MAP_PROJECTION
END
