PDS_VERSION_ID = PDS3
/* FILE DATA ELEMENTS */
RECORD_TYPE = UNDEFINED
/* POINTERS TO DATA OBJECTS */
^IMAGE = ("HM582_0000_P14.TIF")
/* IDENTIFICATION DATA ELEMENTS */
DATA_SET_ID = "MEX-M-HRSC-4-REFDR-MAPPROJECT-EXT8-V4.0"
DATA_SET_NAME = "MARS EXPRESS HRSC MAP PROJECTED REFDR EXTENSION8 V4.0"
DETECTOR_ID = MEX_HRSC_P1
EVENT_TYPE = "MARS-TERMINATOR-CALIBRATION-Tc"
INSTRUMENT_HOST_ID = MEX
INSTRUMENT_HOST_NAME = "MARS EXPRESS"
INSTRUMENT_ID = HRSC
INSTRUMENT_NAME = "HIGH RESOLUTION STEREO CAMERA"
MISSION_NAME = "MARS EXPRESS"
MISSION_PHASE_NAME = ME_Phase_45
PROCESSING_LEVEL_ID = 4
PRODUCT_CREATION_TIME = 2023-01-28T19:10:30.000Z
PRODUCT_ID = "HM582_0000_P14.TIF"
RELEASE_ID = 0003
REVISION_ID = 0000
/* QUALITY DATA ELEMENTS */
DATA_QUALITY_ID = 1
DATA_QUALITY_DESC = "Data calculated based on original SPICE kernels"
/* TIME DATA ELEMENTS */
SPACECRAFT_CLOCK_START_COUNT = "1/0585048063.25679"
SPACECRAFT_CLOCK_STOP_COUNT = "1/0585048432.55626"
START_TIME = 2021-11-15T09:22:20.371Z
STOP_TIME = 2021-11-15T09:24:02.901Z
/* ORBITAL DATA ELEMENTS */
ASCENDING_NODE_LONGITUDE = 152.78
MAXIMUM_RESOLUTION = 1.0553
FOOTPRINT_POINT_LATITUDE = (-21.5443,-20.6297,-19.1836,-17.7557, -16.3425,-14.9401,-13.5447,-12.1569, -10.771,-9.38528,-7.99752,-7.30117, -6.60241,-5.901,-5.19675,-4.48968, -3.77945,-2.88631,-2.70688,-2.6718, -1.96351,-1.39608,-0.827688,-0.257421, 0.315537,0.891472,1.47083,2.0412, 2.62673,3.23269,3.84796,4.45699,5.07473 ,5.69706,6.32848,6.96957,7.62051, 8.28552,8.96712,9.6674,10.3778,11.1102, 11.861,13.021,13.219,13.307,12.1549, 11.3879,10.6292,9.87812,9.13496,8.39882 ,7.66674,6.94371,6.22475,5.51001, 4.80132,4.09954,3.40339,2.71067,2.02065 ,1.33285,0.645262,-0.0404222,-0.893776, -1.57513,-2.25423,-2.93357,-4.12139, -4.80052,-5.48018,-5.65026,-5.70859, -6.37928,-7.0396,-7.69069,-8.33368, -8.96956,-9.5994,-10.2237,-10.8442, -11.4608,-12.0742,-12.6862,-13.2967, -13.9059,-14.5151,-15.1249,-15.7357, -16.3489,-16.9668,-17.5883,-18.2147, -18.8467,-19.4851,-20.1306,-20.7834, -21.2785,-21.4448,-21.5443)
FOOTPRINT_POINT_LONGITUDE = (243.899,244.538,245.549,246.55,247.545 ,248.539,249.534,250.532,251.539, 252.557,253.589,254.113,254.642,255.178 ,255.72,256.269,256.826,257.534,257.677 ,257.648,256.273,255.195,254.136, 253.092,252.064,251.048,250.043,249.03, 248.041,247.073,246.109,245.135,244.163 ,243.19,242.215,241.239,240.259,239.273 ,238.28,237.278,236.264,235.236,234.192 ,232.591,232.319,232.199,231.445, 230.937,230.43,229.924,229.418,228.913, 228.409,227.903,227.396,226.889,226.377 ,225.86,225.338,224.812,224.281,223.744 ,223.205,222.662,221.973,221.416, 220.847,220.273,219.246,218.647,218.037 ,217.884,217.836,218.993,220.125, 221.234,222.322,223.392,224.446,225.487 ,226.515,227.534,228.545,229.548, 230.547,231.543,232.536,233.529,234.523 ,235.519,236.518,237.522,238.535, 239.556,240.588,241.633,242.692,243.498 ,243.769,243.899)
ORBIT_NUMBER = 22582
ORBITAL_ECCENTRICITY = 0.571
ORBITAL_INCLINATION = 87.03
ORBITAL_SEMIMAJOR_AXIS = 8794.92
PERIAPSIS_ALTITUDE = 387.85
PERIAPSIS_ARGUMENT_ANGLE = 51.1
PERIAPSIS_TIME = 2021-11-15T07:59:40.000Z
SPACECRAFT_ORIENTATION = (0.0,1.0,0.0)
^MEX_ORIENTATION_DESC = "MEX_ORIENTATION_DESC.TXT"
SPACECRAFT_POINTING_MODE = FIXED
^MEX_POINTING_DESC = "MEX_POINTING_DESC.TXT"
RIGHT_ASCENSION = -1e+32
DECLINATION = -1e+32
OFFSET_ANGLE = -1e+32
SPACECRAFT_SOLAR_DISTANCE = 2.38267e+08
TARGET_NAME = MARS
/* CAMERA DATA ELEMENTS */
DETECTOR_TEMPERATURE = 16.9432
FOCAL_PLANE_TEMPERATURE = 7.9716
INST_CMPRS_NAME = "DISCRETE COSINE TRANSFORMATION (DCT)"
INST_CMPRS_RATIO = 14.8756
INST_CMPRS_QUALITY = 0
INST_CMPRS_QUANTZ_TBL_ID = 0
INSTRUMENT_TEMPERATURE = 12.2535
LENS_TEMPERATURE = 8.3794
MACROPIXEL_SIZE = 4
MISSING_FRAMES = 0
PIXEL_SUBSAMPLING_FLAG = N
SIGNAL_CHAIN_ID = 3
/* RADIOMETRIC DATA ELEMENTS */
BANDWIDTH = 174.0
CENTER_FILTER_WAVELENGTH = 675.0
RADIANCE_OFFSET = 6.37044
RADIANCE_SCALING_FACTOR = 0.0265242
REFLECTANCE_SCALING_FACTOR = 0.000809884
MEX:REFLECTANCE_OFFSET = 0.194513
/* IMAGE OBJECT DEFINITIONS */
OBJECT = IMAGE
  INTERCHANGE_FORMAT = BINARY
  LINES = 2623
  LINE_SAMPLES = 2962
  SAMPLE_TYPE = UNSIGNED_INTEGER
  SAMPLE_BITS = 8
  BANDS = 1
  BAND_STORAGE_TYPE = BAND_SEQUENTIAL
  MAXIMUM = 255
  MEAN = 130.503
  MINIMUM = 1
  STANDARD_DEVIATION = 38.4613
END_OBJECT = IMAGE
/* MAP OBJECT DEFINITIONS */
OBJECT = IMAGE_MAP_PROJECTION
  ^DATA_SET_MAP_PROJECTION_CATALOG= "DSMAP.CAT"
  A_AXIS_RADIUS = 3396.0
  B_AXIS_RADIUS = 3396.0
  C_AXIS_RADIUS = 3396.0
  CENTER_LATITUDE = -6.33356
  CENTER_LONGITUDE = 237.008
  COORDINATE_SYSTEM_NAME = PLANETOGRAPHIC
  COORDINATE_SYSTEM_TYPE = "BODY-FIXED ROTATING"
  EASTERNMOST_LONGITUDE = 257.677
  FIRST_STANDARD_PARALLEL = "N/A"
  LINE_FIRST_PIXEL = 1
  LINE_LAST_PIXEL = 2623
  LINE_PROJECTION_OFFSET = 1334.25
  MAP_PROJECTION_ROTATION = 0.0
  MAP_PROJECTION_TYPE = ORTHOGRAPHIC
  MAP_RESOLUTION = 74.08922548333329
  MAP_SCALE = 0.8
  MAXIMUM_LATITUDE = 13.307
  MINIMUM_LATITUDE = -21.5443
  POSITIVE_LONGITUDE_DIRECTION = EAST
  REFERENCE_LATITUDE = "N/A"
  REFERENCE_LONGITUDE = "N/A"
  SAMPLE_FIRST_PIXEL = 1
  SAMPLE_LAST_PIXEL = 2962
  SAMPLE_PROJECTION_OFFSET = 1507.25
  SECOND_STANDARD_PARALLEL = "N/A"
  WESTERNMOST_LONGITUDE = 217.836
END_OBJECT = IMAGE_MAP_PROJECTION
END
