PDS_VERSION_ID = PDS3
/* FILE DATA ELEMENTS */
RECORD_TYPE = UNDEFINED
/* POINTERS TO DATA OBJECTS */
^IMAGE = ("HM589_0000_RE4.TIF")
/* IDENTIFICATION DATA ELEMENTS */
DATA_SET_ID = "MEX-M-HRSC-4-REFDR-MAPPROJECT-EXT8-V4.0"
DATA_SET_NAME = "MARS EXPRESS HRSC MAP PROJECTED REFDR EXTENSION8 V4.0"
DETECTOR_ID = MEX_HRSC_RED
EVENT_TYPE = "MARS-TERMINATOR-CALIBRATION-Tc"
INSTRUMENT_HOST_ID = MEX
INSTRUMENT_HOST_NAME = "MARS EXPRESS"
INSTRUMENT_ID = HRSC
INSTRUMENT_NAME = "HIGH RESOLUTION STEREO CAMERA"
MISSION_NAME = "MARS EXPRESS"
MISSION_PHASE_NAME = ME_Phase_45
PROCESSING_LEVEL_ID = 4
PRODUCT_CREATION_TIME = 2023-01-28T19:10:30.000Z
PRODUCT_ID = "HM589_0000_RE4.TIF"
RELEASE_ID = 0003
REVISION_ID = 0000
/* QUALITY DATA ELEMENTS */
DATA_QUALITY_ID = 1
DATA_QUALITY_DESC = "Data calculated based on original SPICE kernels"
/* TIME DATA ELEMENTS */
SPACECRAFT_CLOCK_START_COUNT = "1/0585224339.25677"
SPACECRAFT_CLOCK_STOP_COUNT = "1/0585224692.39140"
START_TIME = 2021-11-17T10:23:36.356Z
STOP_TIME = 2021-11-17T10:25:03.620Z
/* ORBITAL DATA ELEMENTS */
ASCENDING_NODE_LONGITUDE = 152.66
MAXIMUM_RESOLUTION = 0.5696
FOOTPRINT_POINT_LATITUDE = (-27.5536,-26.092,-25.2684,-24.4523, -23.6434,-22.8413,-22.0449,-21.2529, -20.4647,-19.6807,-18.9001,-17.3474, -15.8049,-14.2665,-12.7302,-11.9606, -11.1893,-10.4162,-9.64069,-8.86185, -7.48956,-7.29255,-7.23682,-6.45479, -5.79762,-5.27133,-4.60926,-4.07637, -3.54014,-3.00079,-2.45809,-1.91062, -1.35824,-0.544668,0.0144064,0.591154, 1.34495,1.94375,2.5466,3.15522,3.77337, 4.4011,5.03937,5.69013,6.35406,7.03068, 7.20388,7.28505,6.48365,5.68983,4.50205 ,3.72014,2.94262,2.17346,1.41005, 0.651809,-0.665794,-1.41242,-2.15557, -2.89661,-3.63608,-4.37292,-5.10812, -5.84167,-6.57416,-7.30537,-8.03579, -8.76664,-9.49843,-10.2314,-10.9657, -11.8861,-12.0705,-12.1379,-13.0929, -13.7209,-14.3427,-14.9596,-15.5721, -16.1805,-16.7853,-17.3884,-17.9893, -18.5889,-19.1874,-19.7858,-20.3844, -20.9834,-21.5837,-22.1863,-22.7915, -23.3996,-24.0112,-24.626,-25.2485, -25.875,-26.5077,-27.3088,-27.472, -27.5536)
FOOTPRINT_POINT_LONGITUDE = (244.586,245.655,246.253,246.843, 247.426,248.003,248.575,249.142,249.706 ,250.267,250.826,251.938,253.048, 254.159,255.276,255.839,256.406,256.978 ,257.554,258.136,259.171,259.32,259.303 ,257.807,256.603,255.648,254.474, 253.547,252.63,251.721,250.818,249.922, 249.032,247.688,246.806,245.932,244.845 ,243.968,243.087,242.203,241.315, 240.422,239.523,238.616,237.701,236.776 ,236.542,236.434,235.872,235.303, 234.454,233.887,233.32,232.75,232.178, 231.603,230.588,230.0,229.407,228.808, 228.203,227.589,226.968,226.337,225.697 ,225.046,224.385,223.711,223.023,222.32 ,221.602,220.68,220.492,220.425,221.961 ,222.965,223.954,224.93,225.895,226.851 ,227.801,228.742,229.678,230.611, 231.541,232.469,233.398,234.327,235.259 ,236.194,237.133,238.079,239.031, 239.992,240.963,241.946,242.942,244.209 ,244.466,244.586)
ORBIT_NUMBER = 22589
ORBITAL_ECCENTRICITY = 0.571
ORBITAL_INCLINATION = 87.03
ORBITAL_SEMIMAJOR_AXIS = 8797.47
PERIAPSIS_ALTITUDE = 387.33
PERIAPSIS_ARGUMENT_ANGLE = 49.89
PERIAPSIS_TIME = 2021-11-17T08:52:30.000Z
SPACECRAFT_ORIENTATION = (0.0,1.0,0.0)
^MEX_ORIENTATION_DESC = "MEX_ORIENTATION_DESC.TXT"
SPACECRAFT_POINTING_MODE = FIXED
^MEX_POINTING_DESC = "MEX_POINTING_DESC.TXT"
RIGHT_ASCENSION = -1e+32
DECLINATION = -1e+32
OFFSET_ANGLE = -1e+32
SPACECRAFT_SOLAR_DISTANCE = 2.37933e+08
TARGET_NAME = MARS
/* CAMERA DATA ELEMENTS */
DETECTOR_TEMPERATURE = 18.3705
FOCAL_PLANE_TEMPERATURE = 7.5638
INST_CMPRS_NAME = "DISCRETE COSINE TRANSFORMATION (DCT)"
INST_CMPRS_RATIO = 8.89421
INST_CMPRS_QUALITY = 0
INST_CMPRS_QUANTZ_TBL_ID = 0
INSTRUMENT_TEMPERATURE = 11.6418
LENS_TEMPERATURE = 8.3794
MACROPIXEL_SIZE = 2
MISSING_FRAMES = 0
PIXEL_SUBSAMPLING_FLAG = N
SIGNAL_CHAIN_ID = 1
/* RADIOMETRIC DATA ELEMENTS */
BANDWIDTH = 48.0
CENTER_FILTER_WAVELENGTH = 748.0
RADIANCE_OFFSET = 1.37185
RADIANCE_SCALING_FACTOR = 0.00968363
REFLECTANCE_SCALING_FACTOR = 0.00125095
MEX:REFLECTANCE_OFFSET = 0.177217
/* IMAGE OBJECT DEFINITIONS */
OBJECT = IMAGE
  INTERCHANGE_FORMAT = BINARY
  LINES = 5111
  LINE_SAMPLES = 5564
  SAMPLE_TYPE = UNSIGNED_INTEGER
  SAMPLE_BITS = 8
  BANDS = 1
  BAND_STORAGE_TYPE = BAND_SEQUENTIAL
  MAXIMUM = 255
  MEAN = 124.597
  MINIMUM = 1
  STANDARD_DEVIATION = 35.8307
END_OBJECT = IMAGE
/* MAP OBJECT DEFINITIONS */
OBJECT = IMAGE_MAP_PROJECTION
  ^DATA_SET_MAP_PROJECTION_CATALOG= "DSMAP.CAT"
  A_AXIS_RADIUS = 3396.0
  B_AXIS_RADIUS = 3396.0
  C_AXIS_RADIUS = 3396.0
  CENTER_LATITUDE = -8.153460000000001
  CENTER_LONGITUDE = 241.755
  COORDINATE_SYSTEM_NAME = PLANETOGRAPHIC
  COORDINATE_SYSTEM_TYPE = "BODY-FIXED ROTATING"
  EASTERNMOST_LONGITUDE = 259.32
  FIRST_STANDARD_PARALLEL = "N/A"
  LINE_FIRST_PIXEL = 1
  LINE_LAST_PIXEL = 5111
  LINE_PROJECTION_OFFSET = 2581.0
  MAP_PROJECTION_ROTATION = 0.0
  MAP_PROJECTION_TYPE = ORTHOGRAPHIC
  MAP_RESOLUTION = 148.178450966667
  MAP_SCALE = 0.4
  MAXIMUM_LATITUDE = 7.28505
  MINIMUM_LATITUDE = -27.5536
  POSITIVE_LONGITUDE_DIRECTION = EAST
  REFERENCE_LATITUDE = "N/A"
  REFERENCE_LONGITUDE = "N/A"
  SAMPLE_FIRST_PIXEL = 1
  SAMPLE_LAST_PIXEL = 5564
  SAMPLE_PROJECTION_OFFSET = 2808.0
  SECOND_STANDARD_PARALLEL = "N/A"
  WESTERNMOST_LONGITUDE = 220.425
END_OBJECT = IMAGE_MAP_PROJECTION
END
