PDS_VERSION_ID = PDS3
/* FILE DATA ELEMENTS */
RECORD_TYPE = UNDEFINED
/* POINTERS TO DATA OBJECTS */
^IMAGE = ("HM590_0000_RE4.TIF")
/* IDENTIFICATION DATA ELEMENTS */
DATA_SET_ID = "MEX-M-HRSC-4-REFDR-MAPPROJECT-EXT8-V4.0"
DATA_SET_NAME = "MARS EXPRESS HRSC MAP PROJECTED REFDR EXTENSION8 V4.0"
DETECTOR_ID = MEX_HRSC_RED
EVENT_TYPE = "MARS-TERMINATOR-CALIBRATION-Tc"
INSTRUMENT_HOST_ID = MEX
INSTRUMENT_HOST_NAME = "MARS EXPRESS"
INSTRUMENT_ID = HRSC
INSTRUMENT_NAME = "HIGH RESOLUTION STEREO CAMERA"
MISSION_NAME = "MARS EXPRESS"
MISSION_PHASE_NAME = ME_Phase_45
PROCESSING_LEVEL_ID = 4
PRODUCT_CREATION_TIME = 2023-01-28T19:10:30.000Z
PRODUCT_ID = "HM590_0000_RE4.TIF"
RELEASE_ID = 0003
REVISION_ID = 0000
/* QUALITY DATA ELEMENTS */
DATA_QUALITY_ID = 1
DATA_QUALITY_DESC = "Data calculated based on original SPICE kernels"
/* TIME DATA ELEMENTS */
SPACECRAFT_CLOCK_START_COUNT = "1/0585246763.25693"
SPACECRAFT_CLOCK_STOP_COUNT = "1/0585247217.57892"
START_TIME = 2021-11-17T16:37:56.366Z
STOP_TIME = 2021-11-17T16:40:49.895Z
/* ORBITAL DATA ELEMENTS */
ASCENDING_NODE_LONGITUDE = 152.64
MAXIMUM_RESOLUTION = 0.3084
FOOTPRINT_POINT_LATITUDE = (13.31,13.2149,13.1391,13.0534,12.9578, 12.8521,12.7364,12.6106,12.4745,12.3282 ,12.1713,12.0035,11.7779,11.7543, 11.7259,12.6659,13.5949,14.5151,15.428, 16.3363,17.2411,18.1444,19.048,19.9539, 20.8636,21.7789,22.7018,23.6342,24.5779 ,25.535,26.5081,27.4992,28.5106,29.5453 ,30.6063,31.148,31.6978,32.2558,32.8234 ,33.3998,33.9863,34.5827,35.1909, 36.1271,36.4445,36.5058,36.6257,36.766, 36.858,36.9721,37.0613,37.1511,37.2391, 37.3267,37.4139,37.4997,37.5832,37.6683 ,37.8126,37.9537,38.0338,38.1335, 38.2119,38.2894,38.3661,38.4427,38.5189 ,38.6497,38.6687,38.6734,37.6838, 37.0418,36.4114,35.7947,35.19,34.5949, 34.0107,33.4343,32.3073,31.2102,30.1434 ,29.1041,28.0893,27.0982,25.8772, 24.9198,23.9745,23.0393,22.1121,21.1911 ,20.2745,19.3601,18.6745,17.7596, 16.8404,15.9192,14.9903,13.5802,13.3429 ,13.31)
FOOTPRINT_POINT_LONGITUDE = (141.191,142.768,143.81,144.845,145.878 ,146.907,147.933,148.957,149.981, 151.006,152.033,153.064,154.362,154.492 ,154.544,154.687,154.835,154.989,155.15 ,155.318,155.492,155.675,155.866, 156.065,156.274,156.494,156.726,156.97, 157.227,157.498,157.787,158.093,158.418 ,158.766,159.139,159.336,159.541, 159.753,159.975,160.205,160.445,160.695 ,160.957,161.373,161.518,161.546, 160.647,159.564,158.846,157.953,157.24, 156.531,155.823,155.116,154.41,153.704, 152.997,152.291,151.053,149.812,149.101 ,148.211,147.497,146.781,146.062,145.34 ,144.614,143.335,143.152,143.086, 143.068,143.054,143.038,143.021,143.002 ,142.983,142.961,142.94,142.894,142.845 ,142.793,142.736,142.674,142.605, 142.521,142.446,142.368,142.286,142.202 ,142.113,142.021,141.924,141.849, 141.745,141.635,141.523,141.406,141.22, 141.188,141.191)
ORBIT_NUMBER = 22590
ORBITAL_ECCENTRICITY = 0.571
ORBITAL_INCLINATION = 87.02
ORBITAL_SEMIMAJOR_AXIS = 8790.75
PERIAPSIS_ALTITUDE = 388.3
PERIAPSIS_ARGUMENT_ANGLE = 49.72
PERIAPSIS_TIME = 2021-11-17T15:51:28.000Z
SPACECRAFT_ORIENTATION = (0.0,1.0,0.0)
^MEX_ORIENTATION_DESC = "MEX_ORIENTATION_DESC.TXT"
SPACECRAFT_POINTING_MODE = FIXED
^MEX_POINTING_DESC = "MEX_POINTING_DESC.TXT"
RIGHT_ASCENSION = -1e+32
DECLINATION = -1e+32
OFFSET_ANGLE = -1e+32
SPACECRAFT_SOLAR_DISTANCE = 2.37886e+08
TARGET_NAME = MARS
/* CAMERA DATA ELEMENTS */
DETECTOR_TEMPERATURE = 18.3705
FOCAL_PLANE_TEMPERATURE = 7.7677
INST_CMPRS_NAME = "DISCRETE COSINE TRANSFORMATION (DCT)"
INST_CMPRS_RATIO = 9.81981
INST_CMPRS_QUALITY = 0
INST_CMPRS_QUANTZ_TBL_ID = 0
INSTRUMENT_TEMPERATURE = 11.0301
LENS_TEMPERATURE = 8.1755
MACROPIXEL_SIZE = 2
MISSING_FRAMES = 0
PIXEL_SUBSAMPLING_FLAG = N
SIGNAL_CHAIN_ID = 3
/* RADIOMETRIC DATA ELEMENTS */
BANDWIDTH = 48.0
CENTER_FILTER_WAVELENGTH = 748.0
RADIANCE_OFFSET = 1.91194
RADIANCE_SCALING_FACTOR = 0.00629816
REFLECTANCE_SCALING_FACTOR = 0.000813318
MEX:REFLECTANCE_OFFSET = 0.2469
/* IMAGE OBJECT DEFINITIONS */
OBJECT = IMAGE
  INTERCHANGE_FORMAT = BINARY
  LINES = 7187
  LINE_SAMPLES = 5006
  SAMPLE_TYPE = UNSIGNED_INTEGER
  SAMPLE_BITS = 8
  BANDS = 1
  BAND_STORAGE_TYPE = BAND_SEQUENTIAL
  MAXIMUM = 255
  MEAN = 150.751
  MINIMUM = 1
  STANDARD_DEVIATION = 24.789
END_OBJECT = IMAGE
/* MAP OBJECT DEFINITIONS */
OBJECT = IMAGE_MAP_PROJECTION
  ^DATA_SET_MAP_PROJECTION_CATALOG= "DSMAP.CAT"
  A_AXIS_RADIUS = 3396.0
  B_AXIS_RADIUS = 3396.0
  C_AXIS_RADIUS = 3396.0
  CENTER_LATITUDE = 24.1812
  CENTER_LONGITUDE = 149.174
  COORDINATE_SYSTEM_NAME = PLANETOGRAPHIC
  COORDINATE_SYSTEM_TYPE = "BODY-FIXED ROTATING"
  EASTERNMOST_LONGITUDE = 161.546
  FIRST_STANDARD_PARALLEL = "N/A"
  LINE_FIRST_PIXEL = 1
  LINE_LAST_PIXEL = 7187
  LINE_PROJECTION_OFFSET = 3781.25
  MAP_PROJECTION_ROTATION = 0.0
  MAP_PROJECTION_TYPE = ORTHOGRAPHIC
  MAP_RESOLUTION = 296.356901933333
  MAP_SCALE = 0.2
  MAXIMUM_LATITUDE = 38.6734
  MINIMUM_LATITUDE = 11.7259
  POSITIVE_LONGITUDE_DIRECTION = EAST
  REFERENCE_LATITUDE = "N/A"
  REFERENCE_LONGITUDE = "N/A"
  SAMPLE_FIRST_PIXEL = 1
  SAMPLE_LAST_PIXEL = 5006
  SAMPLE_PROJECTION_OFFSET = 2392.75
  SECOND_STANDARD_PARALLEL = "N/A"
  WESTERNMOST_LONGITUDE = 141.188
END_OBJECT = IMAGE_MAP_PROJECTION
END
