PDS_VERSION_ID = PDS3
/* FILE DATA ELEMENTS */
RECORD_TYPE = UNDEFINED
/* POINTERS TO DATA OBJECTS */
^IMAGE = ("HM592_0000_RE4.TIF")
/* IDENTIFICATION DATA ELEMENTS */
DATA_SET_ID = "MEX-M-HRSC-4-REFDR-MAPPROJECT-EXT8-V4.0"
DATA_SET_NAME = "MARS EXPRESS HRSC MAP PROJECTED REFDR EXTENSION8 V4.0"
DETECTOR_ID = MEX_HRSC_RED
EVENT_TYPE = "MARS-TERMINATOR-CALIBRATION-Tc"
INSTRUMENT_HOST_ID = MEX
INSTRUMENT_HOST_NAME = "MARS EXPRESS"
INSTRUMENT_ID = HRSC
INSTRUMENT_NAME = "HIGH RESOLUTION STEREO CAMERA"
MISSION_NAME = "MARS EXPRESS"
MISSION_PHASE_NAME = ME_Phase_45
PROCESSING_LEVEL_ID = 4
PRODUCT_CREATION_TIME = 2023-01-28T19:10:30.000Z
PRODUCT_ID = "HM592_0000_RE4.TIF"
RELEASE_ID = 0003
REVISION_ID = 0000
/* QUALITY DATA ELEMENTS */
DATA_QUALITY_ID = 1
DATA_QUALITY_DESC = "Data calculated based on original SPICE kernels"
/* TIME DATA ELEMENTS */
SPACECRAFT_CLOCK_START_COUNT = "1/0585299759.25664"
SPACECRAFT_CLOCK_STOP_COUNT = "1/0585300113.40768"
START_TIME = 2021-11-18T07:20:36.362Z
STOP_TIME = 2021-11-18T07:22:03.626Z
/* ORBITAL DATA ELEMENTS */
ASCENDING_NODE_LONGITUDE = 152.6
MAXIMUM_RESOLUTION = 0.5703
FOOTPRINT_POINT_LATITUDE = (-27.1146,-25.6759,-24.8653,-24.062, -23.2658,-22.4763,-21.6924,-20.9128, -20.1371,-19.3654,-18.5972,-17.8319, -17.0693,-16.3094,-15.5515,-14.7944, -14.038,-13.2825,-12.5268,-11.7699, -11.0114,-10.2512,-9.48878,-8.72312, -7.37431,-7.18069,-7.1145,-6.57104, -5.61466,-4.65182,-3.96066,-3.40366, -2.70375,-2.13911,-1.5701,-0.996661, 0.0213925,0.607301,1.35498,1.95969, 2.57028,3.19057,3.82124,4.4613,5.11281, 5.7741,6.44844,7.13542,7.66009,7.83721, 7.91927,6.92402,6.13142,5.34819,4.5723, 3.80269,2.84463,2.09113,1.33774, 0.595025,-0.143932,-1.24343,-2.52004, -3.43182,-4.15509,-4.87244,-5.95808, -7.03209,-7.74947,-9.01251,-9.73319, -10.9978,-11.1788,-11.245,-12.0615, -12.7072,-13.3468,-13.9814,-14.6115, -15.2362,-15.8614,-16.4825,-17.1019, -17.7193,-18.3364,-18.9534,-19.5699, -20.1857,-20.8031,-21.4244,-22.0481, -22.6755,-23.3075,-23.9439,-24.5854, -25.2328,-25.8847,-26.8767,-27.0444, -27.1146)
FOOTPRINT_POINT_LONGITUDE = (297.783,298.886,299.503,300.113, 300.715,301.31,301.9,302.486,303.069, 303.648,304.225,304.799,305.373,305.945 ,306.517,307.09,307.664,308.239,308.816 ,309.397,309.982,310.571,311.164, 311.764,312.83,312.985,313.065,312.051, 310.355,308.712,307.56,306.651,305.527, 304.637,303.753,302.874,301.348,300.477 ,299.394,298.527,297.659,296.79,295.918 ,295.041,294.16,293.272,292.376,291.472 ,290.786,290.556,290.45,289.726,289.143 ,288.561,287.979,287.397,286.671, 286.085,285.501,284.908,284.311,283.405 ,282.333,281.563,280.932,280.278, 279.318,278.296,277.599,276.414,275.698 ,274.403,274.214,274.147,275.4,276.384, 277.355,278.312,279.259,280.202,281.126 ,282.049,282.966,283.88,284.791,285.7, 286.609,287.52,288.433,289.346,290.264, 291.188,292.117,293.055,294.003,294.961 ,295.932,297.416,297.667,297.783)
ORBIT_NUMBER = 22592
ORBITAL_ECCENTRICITY = 0.571
ORBITAL_INCLINATION = 87.02
ORBITAL_SEMIMAJOR_AXIS = 8793.89
PERIAPSIS_ALTITUDE = 387.51
PERIAPSIS_ARGUMENT_ANGLE = 49.41
PERIAPSIS_TIME = 2021-11-18T05:49:30.000Z
SPACECRAFT_ORIENTATION = (0.0,1.0,0.0)
^MEX_ORIENTATION_DESC = "MEX_ORIENTATION_DESC.TXT"
SPACECRAFT_POINTING_MODE = FIXED
^MEX_POINTING_DESC = "MEX_POINTING_DESC.TXT"
RIGHT_ASCENSION = -1e+32
DECLINATION = -1e+32
OFFSET_ANGLE = -1e+32
SPACECRAFT_SOLAR_DISTANCE = 2.37789e+08
TARGET_NAME = MARS
/* CAMERA DATA ELEMENTS */
DETECTOR_TEMPERATURE = 18.1666
FOCAL_PLANE_TEMPERATURE = 7.5638
INST_CMPRS_NAME = "DISCRETE COSINE TRANSFORMATION (DCT)"
INST_CMPRS_RATIO = 9.45877
INST_CMPRS_QUALITY = 0
INST_CMPRS_QUANTZ_TBL_ID = 0
INSTRUMENT_TEMPERATURE = 10.6223
LENS_TEMPERATURE = 8.1755
MACROPIXEL_SIZE = 2
MISSING_FRAMES = 0
PIXEL_SUBSAMPLING_FLAG = N
SIGNAL_CHAIN_ID = 1
/* RADIOMETRIC DATA ELEMENTS */
BANDWIDTH = 48.0
CENTER_FILTER_WAVELENGTH = 748.0
RADIANCE_OFFSET = 0.676778
RADIANCE_SCALING_FACTOR = 0.0103292
REFLECTANCE_SCALING_FACTOR = 0.00133273
MEX:REFLECTANCE_OFFSET = 0.0873215
/* IMAGE OBJECT DEFINITIONS */
OBJECT = IMAGE
  INTERCHANGE_FORMAT = BINARY
  LINES = 5132
  LINE_SAMPLES = 5573
  SAMPLE_TYPE = UNSIGNED_INTEGER
  SAMPLE_BITS = 8
  BANDS = 1
  BAND_STORAGE_TYPE = BAND_SEQUENTIAL
  MAXIMUM = 255
  MEAN = 100.672
  MINIMUM = 1
  STANDARD_DEVIATION = 52.1449
END_OBJECT = IMAGE
/* MAP OBJECT DEFINITIONS */
OBJECT = IMAGE_MAP_PROJECTION
  ^DATA_SET_MAP_PROJECTION_CATALOG= "DSMAP.CAT"
  A_AXIS_RADIUS = 3396.0
  B_AXIS_RADIUS = 3396.0
  C_AXIS_RADIUS = 3396.0
  CENTER_LATITUDE = -7.65006
  CENTER_LONGITUDE = 295.373
  COORDINATE_SYSTEM_NAME = PLANETOGRAPHIC
  COORDINATE_SYSTEM_TYPE = "BODY-FIXED ROTATING"
  EASTERNMOST_LONGITUDE = 313.065
  FIRST_STANDARD_PARALLEL = "N/A"
  LINE_FIRST_PIXEL = 1
  LINE_LAST_PIXEL = 5132
  LINE_PROJECTION_OFFSET = 2591.0
  MAP_PROJECTION_ROTATION = 0.0
  MAP_PROJECTION_TYPE = ORTHOGRAPHIC
  MAP_RESOLUTION = 148.178450966667
  MAP_SCALE = 0.4
  MAXIMUM_LATITUDE = 7.91927
  MINIMUM_LATITUDE = -27.1146
  POSITIVE_LONGITUDE_DIRECTION = EAST
  REFERENCE_LATITUDE = "N/A"
  REFERENCE_LONGITUDE = "N/A"
  SAMPLE_FIRST_PIXEL = 1
  SAMPLE_LAST_PIXEL = 5573
  SAMPLE_PROJECTION_OFFSET = 2812.0
  SECOND_STANDARD_PARALLEL = "N/A"
  WESTERNMOST_LONGITUDE = 274.147
END_OBJECT = IMAGE_MAP_PROJECTION
END
