PDS_VERSION_ID = PDS3
/* FILE DATA ELEMENTS */
RECORD_TYPE = UNDEFINED
/* POINTERS TO DATA OBJECTS */
^IMAGE = ("HM616_0000_IR4.TIF")
/* IDENTIFICATION DATA ELEMENTS */
DATA_SET_ID = "MEX-M-HRSC-4-REFDR-MAPPROJECT-EXT8-V4.0"
DATA_SET_NAME = "MARS EXPRESS HRSC MAP PROJECTED REFDR EXTENSION8 V4.0"
DETECTOR_ID = MEX_HRSC_IR
EVENT_TYPE = "MARS-TERMINATOR-CALIBRATION-Tc"
INSTRUMENT_HOST_ID = MEX
INSTRUMENT_HOST_NAME = "MARS EXPRESS"
INSTRUMENT_ID = HRSC
INSTRUMENT_NAME = "HIGH RESOLUTION STEREO CAMERA"
MISSION_NAME = "MARS EXPRESS"
MISSION_PHASE_NAME = ME_Phase_45
PROCESSING_LEVEL_ID = 4
PRODUCT_CREATION_TIME = 2023-01-28T19:10:30.000Z
PRODUCT_ID = "HM616_0000_IR4.TIF"
RELEASE_ID = 0003
REVISION_ID = 0000
/* QUALITY DATA ELEMENTS */
DATA_QUALITY_ID = 1
DATA_QUALITY_DESC = "Data calculated based on original SPICE kernels"
/* TIME DATA ELEMENTS */
SPACECRAFT_CLOCK_START_COUNT = "1/0585902871.25678"
SPACECRAFT_CLOCK_STOP_COUNT = "1/0585903194.00497"
START_TIME = 2021-11-25T06:48:25.427Z
STOP_TIME = 2021-11-25T06:50:01.119Z
/* ORBITAL DATA ELEMENTS */
ASCENDING_NODE_LONGITUDE = 152.17
MAXIMUM_RESOLUTION = 0.5321
FOOTPRINT_POINT_LATITUDE = (-14.4368,-13.8029,-13.1745,-12.5511, -11.9326,-11.3182,-10.7077,-10.1005, -9.49638,-8.89496,-8.29602,-7.69927, -7.10453,-6.51161,-5.92039,-5.33034, -4.74108,-4.15253,-3.56458,-2.9767, -2.38823,-1.79897,-1.20873,-0.617389, -0.0248272,0.867055,1.01611,1.06553, 2.318,3.21212,3.92827,5.18732,6.27567, 7.54849,8.47689,9.21664,10.1609,10.9254 ,11.5001,12.2788,13.0694,13.8704, 14.6844,15.7246,16.7872,17.6646,18.5569 ,19.4702,20.4074,20.6453,20.7679,20.071 ,18.8575,17.8364,17.1648,16.1838, 15.5168,14.8706,13.7443,12.6347,12.0063 ,11.3836,10.7539,10.1334,9.51429, 8.89835,8.28384,7.67013,7.05727,6.29303 ,5.68143,5.07005,4.46139,4.30637, 4.24833,3.04297,2.45464,1.48237, 0.716067,-0.0412958,-0.791409,-1.53509, -2.45679,-3.18905,-3.91774,-4.64389, -5.36721,-6.08946,-6.81096,-7.53327, -8.43669,-9.16189,-9.89107,-10.6204, -11.3556,-12.0937,-13.4016,-14.1582, -14.3486,-14.4368)
FOOTPRINT_POINT_LONGITUDE = (363.096,363.772,364.44,365.103,365.76, 366.413,367.061,367.707,368.35,368.991, 369.63,370.268,370.905,371.542,372.179, 372.817,373.455,374.096,374.739,375.384 ,376.034,376.688,377.346,378.01,378.679 ,379.696,379.867,379.918,378.517, 377.529,376.747,375.394,374.245,372.901 ,371.951,371.183,370.225,369.455, 368.873,368.093,367.307,366.512,365.708 ,364.687,363.645,362.793,361.924, 361.035,360.122,359.89,359.77,359.09, 357.899,356.888,356.216,355.203,354.543 ,353.872,352.701,351.52,350.841,350.153 ,349.474,348.781,348.084,347.378, 346.666,345.948,345.221,344.297,343.547 ,342.782,341.989,341.801,341.736, 343.325,344.07,345.305,346.261,347.188, 348.096,348.984,350.073,350.925,351.763 ,352.588,353.405,354.212,355.011, 355.801,356.783,357.563,358.338,359.114 ,359.887,360.661,362.018,362.798, 362.993,363.096)
ORBIT_NUMBER = 22616
ORBITAL_ECCENTRICITY = 0.571
ORBITAL_INCLINATION = 87.02
ORBITAL_SEMIMAJOR_AXIS = 8799.05
PERIAPSIS_ALTITUDE = 385.21
PERIAPSIS_ARGUMENT_ANGLE = 45.24
PERIAPSIS_TIME = 2021-11-25T05:25:01.000Z
SPACECRAFT_ORIENTATION = (0.0,1.0,0.0)
^MEX_ORIENTATION_DESC = "MEX_ORIENTATION_DESC.TXT"
SPACECRAFT_POINTING_MODE = FIXED
^MEX_POINTING_DESC = "MEX_POINTING_DESC.TXT"
RIGHT_ASCENSION = -1e+32
DECLINATION = -1e+32
OFFSET_ANGLE = -1e+32
SPACECRAFT_SOLAR_DISTANCE = 2.36614e+08
TARGET_NAME = MARS
/* CAMERA DATA ELEMENTS */
DETECTOR_TEMPERATURE = 16.9432
FOCAL_PLANE_TEMPERATURE = 7.5638
INST_CMPRS_NAME = "DISCRETE COSINE TRANSFORMATION (DCT)"
INST_CMPRS_RATIO = 6.3171
INST_CMPRS_QUALITY = 0
INST_CMPRS_QUANTZ_TBL_ID = 0
INSTRUMENT_TEMPERATURE = 10.8262
LENS_TEMPERATURE = 7.7677
MACROPIXEL_SIZE = 2
MISSING_FRAMES = 0
PIXEL_SUBSAMPLING_FLAG = N
SIGNAL_CHAIN_ID = 3
/* RADIOMETRIC DATA ELEMENTS */
BANDWIDTH = 81.0
CENTER_FILTER_WAVELENGTH = 955.5
RADIANCE_OFFSET = 0.664427
RADIANCE_SCALING_FACTOR = 0.00998812
REFLECTANCE_SCALING_FACTOR = 0.0012063
MEX:REFLECTANCE_OFFSET = 0.0802452
/* IMAGE OBJECT DEFINITIONS */
OBJECT = IMAGE
  INTERCHANGE_FORMAT = BINARY
  LINES = 5324
  LINE_SAMPLES = 5781
  SAMPLE_TYPE = UNSIGNED_INTEGER
  SAMPLE_BITS = 8
  BANDS = 1
  BAND_STORAGE_TYPE = BAND_SEQUENTIAL
  MAXIMUM = 255
  MEAN = 109.039
  MINIMUM = 1
  STANDARD_DEVIATION = 56.7063
END_OBJECT = IMAGE
/* MAP OBJECT DEFINITIONS */
OBJECT = IMAGE_MAP_PROJECTION
  ^DATA_SET_MAP_PROJECTION_CATALOG= "DSMAP.CAT"
  A_AXIS_RADIUS = 3396.0
  B_AXIS_RADIUS = 3396.0
  C_AXIS_RADIUS = 3396.0
  CENTER_LATITUDE = 0.6182260000000001
  CENTER_LONGITUDE = 0.421443
  COORDINATE_SYSTEM_NAME = PLANETOGRAPHIC
  COORDINATE_SYSTEM_TYPE = "BODY-FIXED ROTATING"
  EASTERNMOST_LONGITUDE = 19.918
  FIRST_STANDARD_PARALLEL = "N/A"
  LINE_FIRST_PIXEL = 1
  LINE_LAST_PIXEL = 5324
  LINE_PROJECTION_OFFSET = 2745.75
  MAP_PROJECTION_ROTATION = 0.0
  MAP_PROJECTION_TYPE = ORTHOGRAPHIC
  MAP_RESOLUTION = 148.178450966667
  MAP_SCALE = 0.4
  MAXIMUM_LATITUDE = 20.7679
  MINIMUM_LATITUDE = -14.4368
  POSITIVE_LONGITUDE_DIRECTION = EAST
  REFERENCE_LATITUDE = "N/A"
  REFERENCE_LONGITUDE = "N/A"
  SAMPLE_FIRST_PIXEL = 1
  SAMPLE_LAST_PIXEL = 5781
  SAMPLE_PROJECTION_OFFSET = 3055.25
  SECOND_STANDARD_PARALLEL = "N/A"
  WESTERNMOST_LONGITUDE = -18.264
END_OBJECT = IMAGE_MAP_PROJECTION
END
