PDS_VERSION_ID = PDS3
/* FILE DATA ELEMENTS */
RECORD_TYPE = UNDEFINED
/* POINTERS TO DATA OBJECTS */
^IMAGE = ("HM628_0000_IR4.TIF")
/* IDENTIFICATION DATA ELEMENTS */
DATA_SET_ID = "MEX-M-HRSC-4-REFDR-MAPPROJECT-EXT8-V4.0"
DATA_SET_NAME = "MARS EXPRESS HRSC MAP PROJECTED REFDR EXTENSION8 V4.0"
DETECTOR_ID = MEX_HRSC_IR
EVENT_TYPE = "MARS-TERMINATOR-CALIBRATION-Tc"
INSTRUMENT_HOST_ID = MEX
INSTRUMENT_HOST_NAME = "MARS EXPRESS"
INSTRUMENT_ID = HRSC
INSTRUMENT_NAME = "HIGH RESOLUTION STEREO CAMERA"
MISSION_NAME = "MARS EXPRESS"
MISSION_PHASE_NAME = ME_Phase_45
PROCESSING_LEVEL_ID = 4
PRODUCT_CREATION_TIME = 2023-01-28T19:10:30.000Z
PRODUCT_ID = "HM628_0000_IR4.TIF"
RELEASE_ID = 0003
REVISION_ID = 0000
/* QUALITY DATA ELEMENTS */
DATA_QUALITY_ID = 1
DATA_QUALITY_DESC = "Data calculated based on original SPICE kernels"
/* TIME DATA ELEMENTS */
SPACECRAFT_CLOCK_START_COUNT = "1/0586203057.25000"
SPACECRAFT_CLOCK_STOP_COUNT = "1/0586203485.29581"
START_TIME = 2021-11-28T18:11:54.397Z
STOP_TIME = 2021-11-28T18:14:08.522Z
/* ORBITAL DATA ELEMENTS */
ASCENDING_NODE_LONGITUDE = 151.96
MAXIMUM_RESOLUTION = 0.3929
FOOTPRINT_POINT_LATITUDE = (5.27041,5.56425,5.72723,5.88664, 6.19527,6.49062,6.77317,7.04331,7.17373 ,7.30097,7.42513,7.5463,7.66451,7.77945 ,7.89129,8.00011,8.10595,8.20875, 8.30838,8.40477,8.5656,8.58772,8.6209, 9.38135,10.3873,11.3881,12.3817,13.3689 ,14.3517,15.3319,16.3108,17.291,18.2732 ,19.2589,20.2497,21.2472,22.2528, 23.2684,24.2957,25.3351,26.3895,27.4631 ,28.5556,29.6708,30.8114,31.9789, 33.1797,34.416,34.7315,34.7674,34.5919, 34.3263,34.149,33.9689,33.7905,33.4928, 33.2747,33.095,32.9154,32.6902,32.5091, 32.2811,32.1,31.9167,31.7336,31.4616, 31.1396,30.9486,30.7165,30.4365,30.1519 ,30.1039,30.0858,29.2319,28.1139, 27.0269,26.2263,24.9172,23.8894,22.8782 ,21.8821,20.8945,19.9197,18.9539,17.995 ,17.0415,16.0924,15.1465,14.2021, 13.2577,12.5487,11.6018,10.6515,9.69672 ,8.73528,7.76888,6.79184,5.55235, 5.30175,5.27041)
FOOTPRINT_POINT_LONGITUDE = (222.622,223.726,224.356,224.986, 226.245,227.506,228.772,230.043,230.681 ,231.321,231.963,232.608,233.255, 233.906,234.56,235.218,235.88,236.548, 237.22,237.897,239.095,239.267,239.287, 239.076,238.803,238.531,238.266,238.01, 237.761,237.519,237.286,237.054,236.828 ,236.606,236.389,236.177,235.968, 235.764,235.563,235.364,235.169,234.979 ,234.791,234.608,234.427,234.25,234.077 ,233.909,233.867,233.863,233.007, 231.729,230.887,230.053,229.226,227.798 ,226.788,225.985,225.187,224.195, 223.405,222.424,221.641,220.861,220.083 ,218.917,217.561,216.792,215.824, 214.661,213.496,213.302,213.232,213.672 ,214.233,214.758,215.134,215.732, 216.187,216.621,217.036,217.441,217.827 ,218.2,218.56,218.911,219.253,219.585, 219.908,220.224,220.456,220.76,221.058, 221.351,221.638,221.923,222.202,222.546 ,222.615,222.622)
ORBIT_NUMBER = 22628
ORBITAL_ECCENTRICITY = 0.572
ORBITAL_INCLINATION = 87.04
ORBITAL_SEMIMAJOR_AXIS = 8807.35
PERIAPSIS_ALTITUDE = 383.11
PERIAPSIS_ARGUMENT_ANGLE = 43.19
PERIAPSIS_TIME = 2021-11-28T17:12:46.000Z
SPACECRAFT_ORIENTATION = (0.0,1.0,0.0)
^MEX_ORIENTATION_DESC = "MEX_ORIENTATION_DESC.TXT"
SPACECRAFT_POINTING_MODE = FIXED
^MEX_POINTING_DESC = "MEX_POINTING_DESC.TXT"
RIGHT_ASCENSION = -1e+32
DECLINATION = -1e+32
OFFSET_ANGLE = -1e+32
SPACECRAFT_SOLAR_DISTANCE = 2.36011e+08
TARGET_NAME = MARS
/* CAMERA DATA ELEMENTS */
DETECTOR_TEMPERATURE = 16.9432
FOCAL_PLANE_TEMPERATURE = 7.5638
INST_CMPRS_NAME = "DISCRETE COSINE TRANSFORMATION (DCT)"
INST_CMPRS_RATIO = 4.57024
INST_CMPRS_QUALITY = 0
INST_CMPRS_QUANTZ_TBL_ID = 0
INSTRUMENT_TEMPERATURE = 10.6223
LENS_TEMPERATURE = 8.1755
MACROPIXEL_SIZE = 2
MISSING_FRAMES = 0
PIXEL_SUBSAMPLING_FLAG = N
SIGNAL_CHAIN_ID = 1
/* RADIOMETRIC DATA ELEMENTS */
BANDWIDTH = 81.0
CENTER_FILTER_WAVELENGTH = 955.5
RADIANCE_OFFSET = 2.05885
RADIANCE_SCALING_FACTOR = 0.00683738
REFLECTANCE_SCALING_FACTOR = 0.000821593
MEX:REFLECTANCE_OFFSET = 0.247396
/* IMAGE OBJECT DEFINITIONS */
OBJECT = IMAGE
  INTERCHANGE_FORMAT = BINARY
  LINES = 4580
  LINE_SAMPLES = 3773
  SAMPLE_TYPE = UNSIGNED_INTEGER
  SAMPLE_BITS = 8
  BANDS = 1
  BAND_STORAGE_TYPE = BAND_SEQUENTIAL
  MAXIMUM = 255
  MEAN = 130.254
  MINIMUM = 1
  STANDARD_DEVIATION = 32.9041
END_OBJECT = IMAGE
/* MAP OBJECT DEFINITIONS */
OBJECT = IMAGE_MAP_PROJECTION
  ^DATA_SET_MAP_PROJECTION_CATALOG= "DSMAP.CAT"
  A_AXIS_RADIUS = 3396.0
  B_AXIS_RADIUS = 3396.0
  C_AXIS_RADIUS = 3396.0
  CENTER_LATITUDE = 19.0854
  CENTER_LONGITUDE = 226.164
  COORDINATE_SYSTEM_NAME = PLANETOGRAPHIC
  COORDINATE_SYSTEM_TYPE = "BODY-FIXED ROTATING"
  EASTERNMOST_LONGITUDE = 239.287
  FIRST_STANDARD_PARALLEL = "N/A"
  LINE_FIRST_PIXEL = 1
  LINE_LAST_PIXEL = 4580
  LINE_PROJECTION_OFFSET = 2447.0
  MAP_PROJECTION_ROTATION = 0.0
  MAP_PROJECTION_TYPE = ORTHOGRAPHIC
  MAP_RESOLUTION = 148.178450966667
  MAP_SCALE = 0.4
  MAXIMUM_LATITUDE = 34.7674
  MINIMUM_LATITUDE = 5.27041
  POSITIVE_LONGITUDE_DIRECTION = EAST
  REFERENCE_LATITUDE = "N/A"
  REFERENCE_LONGITUDE = "N/A"
  SAMPLE_FIRST_PIXEL = 1
  SAMPLE_LAST_PIXEL = 3773
  SAMPLE_PROJECTION_OFFSET = 1930.0
  SECOND_STANDARD_PARALLEL = "N/A"
  WESTERNMOST_LONGITUDE = 213.232
END_OBJECT = IMAGE_MAP_PROJECTION
END
