PDS_VERSION_ID = PDS3
/* FILE DATA ELEMENTS */
RECORD_TYPE = UNDEFINED
/* POINTERS TO DATA OBJECTS */
^IMAGE = ("HM628_0000_P14.TIF")
/* IDENTIFICATION DATA ELEMENTS */
DATA_SET_ID = "MEX-M-HRSC-4-REFDR-MAPPROJECT-EXT8-V4.0"
DATA_SET_NAME = "MARS EXPRESS HRSC MAP PROJECTED REFDR EXTENSION8 V4.0"
DETECTOR_ID = MEX_HRSC_P1
EVENT_TYPE = "MARS-TERMINATOR-CALIBRATION-Tc"
INSTRUMENT_HOST_ID = MEX
INSTRUMENT_HOST_NAME = "MARS EXPRESS"
INSTRUMENT_ID = HRSC
INSTRUMENT_NAME = "HIGH RESOLUTION STEREO CAMERA"
MISSION_NAME = "MARS EXPRESS"
MISSION_PHASE_NAME = ME_Phase_45
PROCESSING_LEVEL_ID = 4
PRODUCT_CREATION_TIME = 2023-01-28T19:10:30.000Z
PRODUCT_ID = "HM628_0000_P14.TIF"
RELEASE_ID = 0003
REVISION_ID = 0000
/* QUALITY DATA ELEMENTS */
DATA_QUALITY_ID = 1
DATA_QUALITY_DESC = "Data calculated based on original SPICE kernels"
/* TIME DATA ELEMENTS */
SPACECRAFT_CLOCK_START_COUNT = "1/0586203057.25000"
SPACECRAFT_CLOCK_STOP_COUNT = "1/0586203485.29581"
START_TIME = 2021-11-28T18:12:19.414Z
STOP_TIME = 2021-11-28T18:14:33.534Z
/* ORBITAL DATA ELEMENTS */
ASCENDING_NODE_LONGITUDE = 151.96
MAXIMUM_RESOLUTION = 0.7901
FOOTPRINT_POINT_LATITUDE = (5.14602,5.35399,5.51659,5.67585, 5.83186,6.13434,6.42428,6.77016,7.03334 ,7.28513,7.40681,7.52551,7.64129,7.7543 ,7.86444,7.97181,8.07632,8.17802, 8.27676,8.37245,8.53248,8.55456,8.58632 ,9.34776,10.607,11.6081,12.6026,13.5915 ,14.5771,15.5607,16.5444,17.5297, 18.5179,19.5104,20.5089,21.5149,22.5298 ,23.5559,24.5947,25.6456,26.7149,27.803 ,28.9118,30.0446,31.2047,32.3945, 33.6187,34.5619,34.8816,35.0241,34.763, 34.5868,34.4104,34.2311,34.054,33.8814, 33.7155,33.5434,33.3652,33.1886,32.965, 32.786,32.6072,32.4271,32.1122,31.7985, 31.4824,31.3,31.1134,30.8862,30.5629, 30.2826,30.2365,30.2189,29.3526,28.2215 ,27.1166,26.0411,24.9851,23.9464, 22.9256,21.9186,20.9248,19.9417,18.9684 ,17.7623,16.5644,15.6113,14.6611, 13.7118,12.7629,12.0502,11.0981,10.1425 ,8.94031,7.97222,6.99634,5.50847, 5.25838,5.14602)
FOOTPRINT_POINT_LONGITUDE = (222.242,223.015,223.633,224.249, 224.866,226.098,227.331,228.88,230.123, 231.374,232.003,232.634,233.268,233.905 ,234.545,235.189,235.838,236.491, 237.149,237.811,238.981,239.15,239.156, 238.946,238.604,238.335,238.073,237.819 ,237.572,237.332,237.099,236.869, 236.644,236.424,236.208,235.997,235.789 ,235.586,235.386,235.188,234.995, 234.805,234.619,234.436,234.257,234.081 ,233.91,233.785,233.743,233.725,232.471 ,231.634,230.804,229.982,229.167,228.36 ,227.56,226.765,225.974,225.187,224.21, 223.432,222.658,221.888,220.544,219.204 ,217.869,217.108,216.349,215.396,214.06 ,212.913,212.72,212.657,213.111,213.687 ,214.231,214.741,215.227,215.693, 216.137,216.563,216.972,217.366,217.746 ,218.201,218.643,218.986,219.318, 219.641,219.957,220.189,220.494,220.792 ,221.157,221.445,221.728,222.144, 222.212,222.242)
ORBIT_NUMBER = 22628
ORBITAL_ECCENTRICITY = 0.572
ORBITAL_INCLINATION = 87.04
ORBITAL_SEMIMAJOR_AXIS = 8807.35
PERIAPSIS_ALTITUDE = 383.11
PERIAPSIS_ARGUMENT_ANGLE = 43.19
PERIAPSIS_TIME = 2021-11-28T17:12:46.000Z
SPACECRAFT_ORIENTATION = (0.0,1.0,0.0)
^MEX_ORIENTATION_DESC = "MEX_ORIENTATION_DESC.TXT"
SPACECRAFT_POINTING_MODE = FIXED
^MEX_POINTING_DESC = "MEX_POINTING_DESC.TXT"
RIGHT_ASCENSION = -1e+32
DECLINATION = -1e+32
OFFSET_ANGLE = -1e+32
SPACECRAFT_SOLAR_DISTANCE = 2.36011e+08
TARGET_NAME = MARS
/* CAMERA DATA ELEMENTS */
DETECTOR_TEMPERATURE = 16.9432
FOCAL_PLANE_TEMPERATURE = 7.5638
INST_CMPRS_NAME = "DISCRETE COSINE TRANSFORMATION (DCT)"
INST_CMPRS_RATIO = 13.8218
INST_CMPRS_QUALITY = 0
INST_CMPRS_QUANTZ_TBL_ID = 0
INSTRUMENT_TEMPERATURE = 10.6223
LENS_TEMPERATURE = 8.1755
MACROPIXEL_SIZE = 4
MISSING_FRAMES = 0
PIXEL_SUBSAMPLING_FLAG = N
SIGNAL_CHAIN_ID = 3
/* RADIOMETRIC DATA ELEMENTS */
BANDWIDTH = 174.0
CENTER_FILTER_WAVELENGTH = 675.0
RADIANCE_OFFSET = 7.8384
RADIANCE_SCALING_FACTOR = 0.0236453
REFLECTANCE_SCALING_FACTOR = 0.000708384
MEX:REFLECTANCE_OFFSET = 0.234829
/* IMAGE OBJECT DEFINITIONS */
OBJECT = IMAGE
  INTERCHANGE_FORMAT = BINARY
  LINES = 2290
  LINE_SAMPLES = 1887
  SAMPLE_TYPE = UNSIGNED_INTEGER
  SAMPLE_BITS = 8
  BANDS = 1
  BAND_STORAGE_TYPE = BAND_SEQUENTIAL
  MAXIMUM = 255
  MEAN = 116.671
  MINIMUM = 1
  STANDARD_DEVIATION = 33.2737
END_OBJECT = IMAGE
/* MAP OBJECT DEFINITIONS */
OBJECT = IMAGE_MAP_PROJECTION
  ^DATA_SET_MAP_PROJECTION_CATALOG= "DSMAP.CAT"
  A_AXIS_RADIUS = 3396.0
  B_AXIS_RADIUS = 3396.0
  C_AXIS_RADIUS = 3396.0
  CENTER_LATITUDE = 19.0854
  CENTER_LONGITUDE = 226.164
  COORDINATE_SYSTEM_NAME = PLANETOGRAPHIC
  COORDINATE_SYSTEM_TYPE = "BODY-FIXED ROTATING"
  EASTERNMOST_LONGITUDE = 239.156
  FIRST_STANDARD_PARALLEL = "N/A"
  LINE_FIRST_PIXEL = 1
  LINE_LAST_PIXEL = 2290
  LINE_PROJECTION_OFFSET = 1223.25
  MAP_PROJECTION_ROTATION = 0.0
  MAP_PROJECTION_TYPE = ORTHOGRAPHIC
  MAP_RESOLUTION = 74.08922548333329
  MAP_SCALE = 0.8
  MAXIMUM_LATITUDE = 35.0241
  MINIMUM_LATITUDE = 5.14602
  POSITIVE_LONGITUDE_DIRECTION = EAST
  REFERENCE_LATITUDE = "N/A"
  REFERENCE_LONGITUDE = "N/A"
  SAMPLE_FIRST_PIXEL = 1
  SAMPLE_LAST_PIXEL = 1887
  SAMPLE_PROJECTION_OFFSET = 964.75
  SECOND_STANDARD_PARALLEL = "N/A"
  WESTERNMOST_LONGITUDE = 212.657
END_OBJECT = IMAGE_MAP_PROJECTION
END
