PDS_VERSION_ID = PDS3
/* FILE DATA ELEMENTS */
RECORD_TYPE = UNDEFINED
/* POINTERS TO DATA OBJECTS */
^IMAGE = ("HM661_0000_S24.TIF")
/* IDENTIFICATION DATA ELEMENTS */
DATA_SET_ID = "MEX-M-HRSC-4-REFDR-MAPPROJECT-EXT8-V4.0"
DATA_SET_NAME = "MARS EXPRESS HRSC MAP PROJECTED REFDR EXTENSION8 V4.0"
DETECTOR_ID = MEX_HRSC_S2
EVENT_TYPE = "MARS-TERMINATOR-CALIBRATION-Tc"
INSTRUMENT_HOST_ID = MEX
INSTRUMENT_HOST_NAME = "MARS EXPRESS"
INSTRUMENT_ID = HRSC
INSTRUMENT_NAME = "HIGH RESOLUTION STEREO CAMERA"
MISSION_NAME = "MARS EXPRESS"
MISSION_PHASE_NAME = ME_Phase_45
PROCESSING_LEVEL_ID = 4
PRODUCT_CREATION_TIME = 2023-01-28T19:10:30.000Z
PRODUCT_ID = "HM661_0000_S24.TIF"
RELEASE_ID = 0003
REVISION_ID = 0000
/* QUALITY DATA ELEMENTS */
DATA_QUALITY_ID = 1
DATA_QUALITY_DESC = "Data calculated based on original SPICE kernels"
/* TIME DATA ELEMENTS */
SPACECRAFT_CLOCK_START_COUNT = "1/0587033066.23954"
SPACECRAFT_CLOCK_STOP_COUNT = "1/0587033668.24209"
START_TIME = 2021-12-08T08:49:42.387Z
STOP_TIME = 2021-12-08T08:55:00.433Z
/* ORBITAL DATA ELEMENTS */
ASCENDING_NODE_LONGITUDE = 151.37
MAXIMUM_RESOLUTION = 0.9459
FOOTPRINT_POINT_LATITUDE = (-51.747,-48.1726,-46.3473,-45.9968, -46.7985,-48.6516,-49.5108,-48.6495, -46.3564,-39.8096,-35.3943,-32.2564, -29.7436,-27.5851,-25.6562,-22.2966, -19.3866,-16.7882,-14.415,-12.2169, -8.21176,-4.58378,-1.20506,1.99403, 5.06975,8.0661,11.0177,13.9554,16.9148, 19.926,23.0229,26.2468,29.6492,33.2964, 37.2837,39.4491,41.7615,44.2572,46.9864 ,50.0265,53.5034,57.6546,60.1293,63.042 ,66.7094,72.3448,77.9045,79.3954, 77.2018,75.4258,73.3435,71.9824,70.9903 ,70.2614,69.773,69.5574,69.7048,70.1872 ,70.5487,70.6893,65.3352,60.4874, 57.4336,54.9701,52.8362,50.9255,47.5696 ,44.6359,41.9978,39.5836,37.3436, 35.2397,33.2585,29.544,26.0984,22.8671, 19.7744,16.77,13.8253,10.9099,7.99307, 5.04455,2.0505,-1.04981,-4.30366, -7.76639,-11.5255,-15.7276,-18.0704, -20.6187,-23.4711,-26.7113,-30.5653, -32.833,-35.5245,-38.8213,-43.4434, -51.9659,-52.1614,-51.747)
FOOTPRINT_POINT_LONGITUDE = (93.6821,96.6447,100.798,106.541, 109.879,113.226,114.155,111.725,121.09, 119.076,116.418,114.79,113.617,112.69, 111.914,110.672,109.694,108.89,108.205, 107.61,106.617,105.812,105.133,104.552, 104.046,103.602,103.21,102.878,102.586, 102.339,102.139,101.991,101.907,101.903 ,102.013,102.128,102.298,102.543, 102.894,103.403,104.172,105.432,106.418 ,107.883,110.384,116.746,110.968, 105.999,99.8634,94.7233,87.2203,80.9526 ,75.1126,69.3056,63.1735,56.1825, 49.4908,41.4684,38.2986,37.0365,32.9299 ,47.8745,54.3268,58.3246,61.2069, 63.4431,66.7693,69.199,71.0912,72.6251, 73.9062,75.004,75.95,77.5468,78.845, 79.9081,80.8107,81.6031,82.3016,82.9208 ,83.4733,83.9682,84.4252,84.8253, 85.1739,85.473,85.7154,85.8826,85.9267, 85.9386,85.8992,85.7928,85.5702,85.3886 ,85.1117,84.6847,83.8897,83.3686, 93.2148,93.6821)
ORBIT_NUMBER = 22661
ORBITAL_ECCENTRICITY = 0.572
ORBITAL_INCLINATION = 87.03
ORBITAL_SEMIMAJOR_AXIS = 8813.21
PERIAPSIS_ALTITUDE = 379.98
PERIAPSIS_ARGUMENT_ANGLE = 37.5
PERIAPSIS_TIME = 2021-12-08T07:39:05.000Z
SPACECRAFT_ORIENTATION = (0.0,1.0,0.0)
^MEX_ORIENTATION_DESC = "MEX_ORIENTATION_DESC.TXT"
SPACECRAFT_POINTING_MODE = FIXED
^MEX_POINTING_DESC = "MEX_POINTING_DESC.TXT"
RIGHT_ASCENSION = -1e+32
DECLINATION = -1e+32
OFFSET_ANGLE = -1e+32
SPACECRAFT_SOLAR_DISTANCE = 2.34308e+08
TARGET_NAME = MARS
/* CAMERA DATA ELEMENTS */
DETECTOR_TEMPERATURE = 17.5549
FOCAL_PLANE_TEMPERATURE = 7.7677
INST_CMPRS_NAME = "DISCRETE COSINE TRANSFORMATION (DCT)"
INST_CMPRS_RATIO = 22.5805
INST_CMPRS_QUALITY = 0
INST_CMPRS_QUANTZ_TBL_ID = 0
INSTRUMENT_TEMPERATURE = 11.0301
LENS_TEMPERATURE = 7.156
MACROPIXEL_SIZE = 4
MISSING_FRAMES = 0
PIXEL_SUBSAMPLING_FLAG = N
SIGNAL_CHAIN_ID = 3
/* RADIOMETRIC DATA ELEMENTS */
BANDWIDTH = 178.0
CENTER_FILTER_WAVELENGTH = 679.0
RADIANCE_OFFSET = 0.0
RADIANCE_SCALING_FACTOR = 0.0420301
REFLECTANCE_SCALING_FACTOR = 0.00122189
MEX:REFLECTANCE_OFFSET = 0.0
/* IMAGE OBJECT DEFINITIONS */
OBJECT = IMAGE
  INTERCHANGE_FORMAT = BINARY
  LINES = 7695
  LINE_SAMPLES = 3180
  SAMPLE_TYPE = UNSIGNED_INTEGER
  SAMPLE_BITS = 8
  BANDS = 1
  BAND_STORAGE_TYPE = BAND_SEQUENTIAL
  MAXIMUM = 255
  MEAN = 174.415
  MINIMUM = 63
  STANDARD_DEVIATION = 34.2897
END_OBJECT = IMAGE
/* MAP OBJECT DEFINITIONS */
OBJECT = IMAGE_MAP_PROJECTION
  ^DATA_SET_MAP_PROJECTION_CATALOG= "DSMAP.CAT"
  A_AXIS_RADIUS = 3396.0
  B_AXIS_RADIUS = 3396.0
  C_AXIS_RADIUS = 3396.0
  CENTER_LATITUDE = 13.9837
  CENTER_LONGITUDE = 93.5403
  COORDINATE_SYSTEM_NAME = PLANETOGRAPHIC
  COORDINATE_SYSTEM_TYPE = "BODY-FIXED ROTATING"
  EASTERNMOST_LONGITUDE = 121.09
  FIRST_STANDARD_PARALLEL = "N/A"
  LINE_FIRST_PIXEL = 1
  LINE_LAST_PIXEL = 7695
  LINE_PROJECTION_OFFSET = 3890.25
  MAP_PROJECTION_ROTATION = 0.0
  MAP_PROJECTION_TYPE = ORTHOGRAPHIC
  MAP_RESOLUTION = 74.08922548333329
  MAP_SCALE = 0.8
  MAXIMUM_LATITUDE = 79.3954
  MINIMUM_LATITUDE = -52.1614
  POSITIVE_LONGITUDE_DIRECTION = EAST
  REFERENCE_LATITUDE = "N/A"
  REFERENCE_LONGITUDE = "N/A"
  SAMPLE_FIRST_PIXEL = 1
  SAMPLE_LAST_PIXEL = 3180
  SAMPLE_PROJECTION_OFFSET = 1607.75
  SECOND_STANDARD_PARALLEL = "N/A"
  WESTERNMOST_LONGITUDE = 32.9299
END_OBJECT = IMAGE_MAP_PROJECTION
END
