PDS_VERSION_ID = PDS3
/* FILE DATA ELEMENTS */
RECORD_TYPE = UNDEFINED
/* POINTERS TO DATA OBJECTS */
^IMAGE = ("HM662_0000_GR4.TIF")
/* IDENTIFICATION DATA ELEMENTS */
DATA_SET_ID = "MEX-M-HRSC-4-REFDR-MAPPROJECT-EXT8-V4.0"
DATA_SET_NAME = "MARS EXPRESS HRSC MAP PROJECTED REFDR EXTENSION8 V4.0"
DETECTOR_ID = MEX_HRSC_GREEN
EVENT_TYPE = "MARS-TERMINATOR-CALIBRATION-Tc"
INSTRUMENT_HOST_ID = MEX
INSTRUMENT_HOST_NAME = "MARS EXPRESS"
INSTRUMENT_ID = HRSC
INSTRUMENT_NAME = "HIGH RESOLUTION STEREO CAMERA"
MISSION_NAME = "MARS EXPRESS"
MISSION_PHASE_NAME = ME_Phase_45
PROCESSING_LEVEL_ID = 4
PRODUCT_CREATION_TIME = 2023-01-28T19:10:30.000Z
PRODUCT_ID = "HM662_0000_GR4.TIF"
RELEASE_ID = 0003
REVISION_ID = 0000
/* QUALITY DATA ELEMENTS */
DATA_QUALITY_ID = 1
DATA_QUALITY_DESC = "Data calculated based on original SPICE kernels"
/* TIME DATA ELEMENTS */
SPACECRAFT_CLOCK_START_COUNT = "1/0587057643.25692"
SPACECRAFT_CLOCK_STOP_COUNT = "1/0587058257.41235"
START_TIME = 2021-12-08T15:36:37.414Z
STOP_TIME = 2021-12-08T15:42:36.432Z
/* ORBITAL DATA ELEMENTS */
ASCENDING_NODE_LONGITUDE = 151.35
MAXIMUM_RESOLUTION = 0.4021
FOOTPRINT_POINT_LATITUDE = (-41.4355,-41.4633,-40.9927,-39.2374, -41.2814,-38.5005,-41.2028,-37.4719, -40.8444,-36.5097,-40.386,-34.8085, -41.1396,-34.3359,-41.0778,-39.306, -36.9288,-32.515,-29.8157,-26.8759, -24.2589,-20.512,-17.5967,-14.3711, -9.06289,-4.45332,-0.078251,2.53104, 7.02224,10.4025,12.6464,15.8491,19.3471 ,24.5112,28.4752,31.5888,33.9252, 38.6115,41.8022,46.8321,49.9715,53.8735 ,56.5284,59.3908,63.6039,65.5713, 68.5978,70.3316,71.4376,73.3731,74.9493 ,77.8088,82.4896,85.0894,78.397,79.145, 79.8061,77.4863,85.8159,85.294,82.803, 79.8474,77.5604,75.979,74.5226,72.3148, 69.3938,65.8979,63.5079,61.0505,55.8559 ,51.2739,47.4109,45.1366,41.1516, 36.5243,32.5469,28.5578,26.0088,21.7634 ,18.3886,15.6347,11.0489,6.46371, 2.89728,0.0492928,-4.58817,-10.0285, -13.2795,-17.9474,-21.2469,-25.6513, -28.6754,-32.502,-34.878,-38.8003, -38.379,-40.1534,-40.1493,-41.4355)
FOOTPRINT_POINT_LONGITUDE = (350.92,350.932,351.826,359.993,354.899 ,360.032,356.366,360.031,357.659, 360.039,359.067,359.957,360.789,360.027 ,361.225,365.701,366.052,364.998, 364.447,363.919,363.505,362.994,362.658 ,362.343,361.944,361.715,361.601, 361.582,361.636,361.76,361.883,362.123, 362.475,363.186,363.909,364.601,365.205 ,366.66,367.88,370.275,372.15,375.042, 377.483,380.713,387.172,391.286,400.123 ,407.825,415.084,426.438,420.422, 418.646,410.024,394.111,360.038,360.023 ,359.985,359.98,376.878,314.244,305.624 ,293.755,291.359,302.962,309.728, 316.816,323.133,328.254,330.841,332.985 ,336.352,338.452,339.798,340.452,341.4, 342.241,342.78,343.18,343.37,343.574, 343.646,343.649,343.542,343.314,343.05, 342.779,342.248,341.455,340.889,339.945 ,339.173,337.99,337.059,335.717,334.782 ,334.403,337.573,339.925,345.389, 350.92)
ORBIT_NUMBER = 22662
ORBITAL_ECCENTRICITY = 0.572
ORBITAL_INCLINATION = 87.03
ORBITAL_SEMIMAJOR_AXIS = 8808.8
PERIAPSIS_ALTITUDE = 380.5
PERIAPSIS_ARGUMENT_ANGLE = 37.3
PERIAPSIS_TIME = 2021-12-08T14:38:00.000Z
SPACECRAFT_ORIENTATION = (0.0,1.0,0.0)
^MEX_ORIENTATION_DESC = "MEX_ORIENTATION_DESC.TXT"
SPACECRAFT_POINTING_MODE = FIXED
^MEX_POINTING_DESC = "MEX_POINTING_DESC.TXT"
RIGHT_ASCENSION = -1e+32
DECLINATION = -1e+32
OFFSET_ANGLE = -1e+32
SPACECRAFT_SOLAR_DISTANCE = 2.34255e+08
TARGET_NAME = MARS
/* CAMERA DATA ELEMENTS */
DETECTOR_TEMPERATURE = 17.7588
FOCAL_PLANE_TEMPERATURE = 8.1755
INST_CMPRS_NAME = "DISCRETE COSINE TRANSFORMATION (DCT)"
INST_CMPRS_RATIO = 7.51946
INST_CMPRS_QUALITY = 0
INST_CMPRS_QUANTZ_TBL_ID = 0
INSTRUMENT_TEMPERATURE = 11.234
LENS_TEMPERATURE = 7.9716
MACROPIXEL_SIZE = 2
MISSING_FRAMES = 1
PIXEL_SUBSAMPLING_FLAG = N
SIGNAL_CHAIN_ID = 2
/* RADIOMETRIC DATA ELEMENTS */
BANDWIDTH = 88.0
CENTER_FILTER_WAVELENGTH = 538.0
RADIANCE_OFFSET = 0.0
RADIANCE_SCALING_FACTOR = 0.0168671
REFLECTANCE_SCALING_FACTOR = 0.000796857
MEX:REFLECTANCE_OFFSET = 0.0
/* IMAGE OBJECT DEFINITIONS */
OBJECT = IMAGE
  INTERCHANGE_FORMAT = BINARY
  LINES = 15209
  LINE_SAMPLES = 4741
  SAMPLE_TYPE = UNSIGNED_INTEGER
  SAMPLE_BITS = 8
  BANDS = 1
  BAND_STORAGE_TYPE = BAND_SEQUENTIAL
  MAXIMUM = 255
  MEAN = 145.598
  MINIMUM = 86
  STANDARD_DEVIATION = 19.7576
END_OBJECT = IMAGE
/* MAP OBJECT DEFINITIONS */
OBJECT = IMAGE_MAP_PROJECTION
  ^DATA_SET_MAP_PROJECTION_CATALOG= "DSMAP.CAT"
  A_AXIS_RADIUS = 3396.0
  B_AXIS_RADIUS = 3396.0
  C_AXIS_RADIUS = 3396.0
  CENTER_LATITUDE = 20.2265
  CENTER_LONGITUDE = 353.078
  COORDINATE_SYSTEM_NAME = PLANETOGRAPHIC
  COORDINATE_SYSTEM_TYPE = "BODY-FIXED ROTATING"
  EASTERNMOST_LONGITUDE = 66.438
  FIRST_STANDARD_PARALLEL = "N/A"
  LINE_FIRST_PIXEL = 1
  LINE_LAST_PIXEL = 15209
  LINE_PROJECTION_OFFSET = 7730.0
  MAP_PROJECTION_ROTATION = 0.0
  MAP_PROJECTION_TYPE = ORTHOGRAPHIC
  MAP_RESOLUTION = 148.178450966667
  MAP_SCALE = 0.4
  MAXIMUM_LATITUDE = 85.8159
  MINIMUM_LATITUDE = -41.4633
  POSITIVE_LONGITUDE_DIRECTION = EAST
  REFERENCE_LATITUDE = "N/A"
  REFERENCE_LONGITUDE = "N/A"
  SAMPLE_FIRST_PIXEL = 1
  SAMPLE_LAST_PIXEL = 4741
  SAMPLE_PROJECTION_OFFSET = 2271.0
  SECOND_STANDARD_PARALLEL = "N/A"
  WESTERNMOST_LONGITUDE = -68.64100000000001
END_OBJECT = IMAGE_MAP_PROJECTION
END
