PDS_VERSION_ID = PDS3
/* FILE DATA ELEMENTS */
RECORD_TYPE = UNDEFINED
/* POINTERS TO DATA OBJECTS */
^IMAGE = ("HM681_0000_S24.TIF")
/* IDENTIFICATION DATA ELEMENTS */
DATA_SET_ID = "MEX-M-HRSC-4-REFDR-MAPPROJECT-EXT8-V4.0"
DATA_SET_NAME = "MARS EXPRESS HRSC MAP PROJECTED REFDR EXTENSION8 V4.0"
DETECTOR_ID = MEX_HRSC_S2
EVENT_TYPE = "MARS-TERMINATOR-CALIBRATION-Tc"
INSTRUMENT_HOST_ID = MEX
INSTRUMENT_HOST_NAME = "MARS EXPRESS"
INSTRUMENT_ID = HRSC
INSTRUMENT_NAME = "HIGH RESOLUTION STEREO CAMERA"
MISSION_NAME = "MARS EXPRESS"
MISSION_PHASE_NAME = ME_Phase_45
PROCESSING_LEVEL_ID = 4
PRODUCT_CREATION_TIME = 2023-01-28T19:10:30.000Z
PRODUCT_ID = "HM681_0000_S24.TIF"
RELEASE_ID = 0003
REVISION_ID = 0000
/* QUALITY DATA ELEMENTS */
DATA_QUALITY_ID = 1
DATA_QUALITY_DESC = "Data calculated based on original SPICE kernels"
/* TIME DATA ELEMENTS */
SPACECRAFT_CLOCK_START_COUNT = "1/0587535993.24998"
SPACECRAFT_CLOCK_STOP_COUNT = "1/0587536468.39585"
START_TIME = 2021-12-14T04:31:53.438Z
STOP_TIME = 2021-12-14T04:35:00.679Z
/* ORBITAL DATA ELEMENTS */
ASCENDING_NODE_LONGITUDE = 151.01
MAXIMUM_RESOLUTION = 0.9633
FOOTPRINT_POINT_LATITUDE = (-4.05602,-4.123,-4.215,-4.33361, -4.4809,-4.65917,-4.87156,-5.12143, -5.4136,-5.75369,-6.14931,-6.61032, -7.15144,-7.4577,-7.97087,-8.06351, -7.88977,-5.90493,-4.66277,-2.27632, -0.00725913,2.17164,4.27817,6.32594, 8.32705,10.2833,12.7092,14.6362,16.5608 ,18.4925,20.44,22.4117,24.4173,26.4683, 28.5778,30.7607,33.0331,34.2081,35.412, 36.6509,37.9259,39.2576,40.6456,42.1194 ,43.6624,45.3231,46.1834,47.0717, 47.9959,48.9628,49.4178,49.321,49.2174, 49.1137,48.9314,48.7624,48.5949,48.4299 ,48.283,48.1336,47.9869,47.7128,47.4486 ,47.1918,46.9439,46.6998,46.4617, 46.2302,46.0032,45.7788,45.7518,45.7391 ,43.5978,42.2434,40.9412,38.4677, 36.1386,33.9288,31.8103,29.7743,27.8132 ,25.9091,24.0468,22.2252,20.4309, 18.6616,16.9059,15.1588,13.4147,11.6659 ,9.90674,8.13289,6.33522,4.04555, 2.17873,0.240662,-1.75863,-3.30284, -3.82904,-4.05602)
FOOTPRINT_POINT_LONGITUDE = (217.086,218.649,220.237,221.856,223.51 ,225.206,226.951,228.752,230.619, 232.566,234.609,236.771,239.08,240.302, 242.236,242.572,242.407,241.801,241.483 ,240.941,240.516,240.184,239.935, 239.762,239.663,239.672,239.742,239.876 ,240.088,240.373,240.742,241.197, 241.757,242.441,243.278,244.301,245.552 ,246.282,247.092,248.006,249.033, 250.246,251.662,253.404,255.471,258.123 ,259.669,261.434,263.506,266.013, 267.354,265.003,262.804,260.808,257.342 ,254.322,251.594,249.093,246.808, 244.655,242.624,238.877,235.438,232.234 ,229.219,226.356,223.62,220.989,218.444 ,215.971,215.666,215.565,215.505, 215.478,215.46,215.443,215.445,215.462, 215.487,215.522,215.566,215.617,215.67, 215.73,215.792,215.862,215.933,216.008, 216.086,216.17,216.258,216.348,216.445, 216.573,216.679,216.801,216.933,217.037 ,217.074,217.086)
ORBIT_NUMBER = 22681
ORBITAL_ECCENTRICITY = 0.573
ORBITAL_INCLINATION = 87.03
ORBITAL_SEMIMAJOR_AXIS = 8822.38
PERIAPSIS_ALTITUDE = 377.41
PERIAPSIS_ARGUMENT_ANGLE = 34.07
PERIAPSIS_TIME = 2021-12-14T03:18:51.000Z
SPACECRAFT_ORIENTATION = (0.0,1.0,0.0)
^MEX_ORIENTATION_DESC = "MEX_ORIENTATION_DESC.TXT"
SPACECRAFT_POINTING_MODE = FIXED
^MEX_POINTING_DESC = "MEX_POINTING_DESC.TXT"
RIGHT_ASCENSION = -1e+32
DECLINATION = -1e+32
OFFSET_ANGLE = -1e+32
SPACECRAFT_SOLAR_DISTANCE = 2.33246e+08
TARGET_NAME = MARS
/* CAMERA DATA ELEMENTS */
DETECTOR_TEMPERATURE = 17.9627
FOCAL_PLANE_TEMPERATURE = 7.7677
INST_CMPRS_NAME = "DISCRETE COSINE TRANSFORMATION (DCT)"
INST_CMPRS_RATIO = 17.5938
INST_CMPRS_QUALITY = 0
INST_CMPRS_QUANTZ_TBL_ID = 0
INSTRUMENT_TEMPERATURE = 11.234
LENS_TEMPERATURE = 7.9716
MACROPIXEL_SIZE = 4
MISSING_FRAMES = 0
PIXEL_SUBSAMPLING_FLAG = N
SIGNAL_CHAIN_ID = 3
/* RADIOMETRIC DATA ELEMENTS */
BANDWIDTH = 178.0
CENTER_FILTER_WAVELENGTH = 679.0
RADIANCE_OFFSET = 7.32671
RADIANCE_SCALING_FACTOR = 0.025747
REFLECTANCE_SCALING_FACTOR = 0.000741739
MEX:REFLECTANCE_OFFSET = 0.211073
/* IMAGE OBJECT DEFINITIONS */
OBJECT = IMAGE
  INTERCHANGE_FORMAT = BINARY
  LINES = 3988
  LINE_SAMPLES = 2407
  SAMPLE_TYPE = UNSIGNED_INTEGER
  SAMPLE_BITS = 8
  BANDS = 1
  BAND_STORAGE_TYPE = BAND_SEQUENTIAL
  MAXIMUM = 255
  MEAN = 143.837
  MINIMUM = 1
  STANDARD_DEVIATION = 39.2013
END_OBJECT = IMAGE
/* MAP OBJECT DEFINITIONS */
OBJECT = IMAGE_MAP_PROJECTION
  ^DATA_SET_MAP_PROJECTION_CATALOG= "DSMAP.CAT"
  A_AXIS_RADIUS = 3396.0
  B_AXIS_RADIUS = 3396.0
  C_AXIS_RADIUS = 3396.0
  CENTER_LATITUDE = 19.1882
  CENTER_LONGITUDE = 226.895
  COORDINATE_SYSTEM_NAME = PLANETOGRAPHIC
  COORDINATE_SYSTEM_TYPE = "BODY-FIXED ROTATING"
  EASTERNMOST_LONGITUDE = 267.354
  FIRST_STANDARD_PARALLEL = "N/A"
  LINE_FIRST_PIXEL = 1
  LINE_LAST_PIXEL = 3988
  LINE_PROJECTION_OFFSET = 2105.75
  MAP_PROJECTION_ROTATION = 0.0
  MAP_PROJECTION_TYPE = ORTHOGRAPHIC
  MAP_RESOLUTION = 74.08922548333329
  MAP_SCALE = 0.8
  MAXIMUM_LATITUDE = 49.4178
  MINIMUM_LATITUDE = -8.063510000000001
  POSITIVE_LONGITUDE_DIRECTION = EAST
  REFERENCE_LATITUDE = "N/A"
  REFERENCE_LONGITUDE = "N/A"
  SAMPLE_FIRST_PIXEL = 1
  SAMPLE_LAST_PIXEL = 2407
  SAMPLE_PROJECTION_OFFSET = 787.75
  SECOND_STANDARD_PARALLEL = "N/A"
  WESTERNMOST_LONGITUDE = 215.443
END_OBJECT = IMAGE_MAP_PROJECTION
END
