PDS_VERSION_ID = PDS3
/* FILE DATA ELEMENTS */
RECORD_TYPE = UNDEFINED
/* POINTERS TO DATA OBJECTS */
^IMAGE = ("HM715_0000_P14.TIF")
/* IDENTIFICATION DATA ELEMENTS */
DATA_SET_ID = "MEX-M-HRSC-4-REFDR-MAPPROJECT-EXT8-V4.0"
DATA_SET_NAME = "MARS EXPRESS HRSC MAP PROJECTED REFDR EXTENSION8 V4.0"
DETECTOR_ID = MEX_HRSC_P1
EVENT_TYPE = "MARS-TERMINATOR-CALIBRATION-Tc"
INSTRUMENT_HOST_ID = MEX
INSTRUMENT_HOST_NAME = "MARS EXPRESS"
INSTRUMENT_ID = HRSC
INSTRUMENT_NAME = "HIGH RESOLUTION STEREO CAMERA"
MISSION_NAME = "MARS EXPRESS"
MISSION_PHASE_NAME = ME_Phase_45
PROCESSING_LEVEL_ID = 4
PRODUCT_CREATION_TIME = 2023-01-28T19:10:30.000Z
PRODUCT_ID = "HM715_0000_P14.TIF"
RELEASE_ID = 0003
REVISION_ID = 0000
/* QUALITY DATA ELEMENTS */
DATA_QUALITY_ID = 1
DATA_QUALITY_DESC = "Data calculated based on original SPICE kernels"
/* TIME DATA ELEMENTS */
SPACECRAFT_CLOCK_START_COUNT = "1/0588389545.24869"
SPACECRAFT_CLOCK_STOP_COUNT = "1/0588390039.57796"
START_TIME = 2021-12-24T01:33:49.424Z
STOP_TIME = 2021-12-24T01:37:01.120Z
/* ORBITAL DATA ELEMENTS */
ASCENDING_NODE_LONGITUDE = 150.39
MAXIMUM_RESOLUTION = 0.6952
FOOTPRINT_POINT_LATITUDE = (-15.2205,-15.2785,-15.319,-16.0869, -16.2973,-16.0294,-16.6533,-18.0025, -17.075,-18.4664,-17.2402,-18.7326, -17.5898,-18.8119,-17.6806,-19.1221, -18.1076,-19.9293,-18.5483,-19.0529, -20.6503,-18.5884,-19.89,-18.5698, -16.7108,-15.4874,-13.3139,-11.9837, -10.721,-8.64989,-6.24728,-5.10674, -3.72842,-1.61847,0.223119,2.55908, 4.09411,5.77879,7.55746,9.68376,11.2329 ,13.0086,14.3522,16.3086,17.7203, 20.0267,22.334,23.7329,24.9283,26.6478, 28.2767,28.2913,28.2937,30.2764,31.5744 ,32.5841,33.8486,34.9865,36.0746, 37.0533,37.1171,37.1214,35.0693,34.0394 ,32.6756,31.6831,30.3912,28.8274, 27.3736,25.5624,23.4903,22.2164,20.9994 ,19.2075,17.9501,16.0697,13.8472, 12.7536,11.2965,10.0252,8.24354,6.60295 ,4.3694,2.99537,0.980014,-0.356388, -2.62207,-3.63597,-4.74351,-6.07655, -7.27169,-8.76691,-11.0322,-12.4109, -11.5287,-12.5289,-13.6204,-14.479, -13.0698,-15.2205)
FOOTPRINT_POINT_LONGITUDE = (312.238,312.229,312.85,314.684,316.337 ,317.55,318.595,318.502,321.008,322.261 ,322.671,323.266,323.631,323.898, 324.248,324.462,326.064,326.44,326.809, 328.207,328.044,328.534,328.445,329.828 ,330.273,330.556,331.105,331.455, 331.811,332.389,333.113,333.48,333.927, 334.641,335.31,336.206,336.839,337.573, 338.402,339.435,340.257,341.24,342.039, 343.3,344.247,345.962,347.862,349.129, 350.272,352.057,353.899,353.917,353.92, 351.093,349.115,347.498,345.359,343.31, 341.223,339.22,339.084,339.071,337.189, 336.281,335.115,334.29,333.243,332.016, 330.912,329.582,328.116,327.242,326.426 ,325.252,324.448,323.273,321.921, 321.269,320.412,319.674,318.652,317.724 ,316.474,315.71,314.596,313.858,312.609 ,312.049,311.435,310.691,310.021, 309.179,307.882,307.081,308.255,309.231 ,310.62,311.495,312.419,312.238)
ORBIT_NUMBER = 22715
ORBITAL_ECCENTRICITY = 0.573
ORBITAL_INCLINATION = 87.03
ORBITAL_SEMIMAJOR_AXIS = 8821.4
PERIAPSIS_ALTITUDE = 374.66
PERIAPSIS_ARGUMENT_ANGLE = 28.17
PERIAPSIS_TIME = 2021-12-24T00:44:08.000Z
SPACECRAFT_ORIENTATION = (0.0,1.0,0.0)
^MEX_ORIENTATION_DESC = "MEX_ORIENTATION_DESC.TXT"
SPACECRAFT_POINTING_MODE = FIXED
^MEX_POINTING_DESC = "MEX_POINTING_DESC.TXT"
RIGHT_ASCENSION = -1e+32
DECLINATION = -1e+32
OFFSET_ANGLE = -1e+32
SPACECRAFT_SOLAR_DISTANCE = 2.31397e+08
TARGET_NAME = MARS
/* CAMERA DATA ELEMENTS */
DETECTOR_TEMPERATURE = 16.7393
FOCAL_PLANE_TEMPERATURE = 7.5638
INST_CMPRS_NAME = "DISCRETE COSINE TRANSFORMATION (DCT)"
INST_CMPRS_RATIO = 15.2663
INST_CMPRS_QUALITY = 0
INST_CMPRS_QUANTZ_TBL_ID = 0
INSTRUMENT_TEMPERATURE = 11.0301
LENS_TEMPERATURE = 8.3794
MACROPIXEL_SIZE = 4
MISSING_FRAMES = 0
PIXEL_SUBSAMPLING_FLAG = N
SIGNAL_CHAIN_ID = 3
/* RADIOMETRIC DATA ELEMENTS */
BANDWIDTH = 174.0
CENTER_FILTER_WAVELENGTH = 675.0
RADIANCE_OFFSET = 0.0
RADIANCE_SCALING_FACTOR = 0.041775
REFLECTANCE_SCALING_FACTOR = 0.00120308
MEX:REFLECTANCE_OFFSET = 0.0
/* IMAGE OBJECT DEFINITIONS */
OBJECT = IMAGE
  INTERCHANGE_FORMAT = BINARY
  LINES = 4147
  LINE_SAMPLES = 3208
  SAMPLE_TYPE = UNSIGNED_INTEGER
  SAMPLE_BITS = 8
  BANDS = 1
  BAND_STORAGE_TYPE = BAND_SEQUENTIAL
  MAXIMUM = 255
  MEAN = 139.705
  MINIMUM = 71
  STANDARD_DEVIATION = 24.8017
END_OBJECT = IMAGE
/* MAP OBJECT DEFINITIONS */
OBJECT = IMAGE_MAP_PROJECTION
  ^DATA_SET_MAP_PROJECTION_CATALOG= "DSMAP.CAT"
  A_AXIS_RADIUS = 3396.0
  B_AXIS_RADIUS = 3396.0
  C_AXIS_RADIUS = 3396.0
  CENTER_LATITUDE = 18.5428
  CENTER_LONGITUDE = 337.125
  COORDINATE_SYSTEM_NAME = PLANETOGRAPHIC
  COORDINATE_SYSTEM_TYPE = "BODY-FIXED ROTATING"
  EASTERNMOST_LONGITUDE = 353.92
  FIRST_STANDARD_PARALLEL = "N/A"
  LINE_FIRST_PIXEL = 1
  LINE_LAST_PIXEL = 4147
  LINE_PROJECTION_OFFSET = 1302.25
  MAP_PROJECTION_ROTATION = 0.0
  MAP_PROJECTION_TYPE = ORTHOGRAPHIC
  MAP_RESOLUTION = 74.08922548333329
  MAP_SCALE = 0.8
  MAXIMUM_LATITUDE = 37.1214
  MINIMUM_LATITUDE = -20.6503
  POSITIVE_LONGITUDE_DIRECTION = EAST
  REFERENCE_LATITUDE = "N/A"
  REFERENCE_LONGITUDE = "N/A"
  SAMPLE_FIRST_PIXEL = 1
  SAMPLE_LAST_PIXEL = 3208
  SAMPLE_PROJECTION_OFFSET = 1958.75
  SECOND_STANDARD_PARALLEL = "N/A"
  WESTERNMOST_LONGITUDE = 307.081
END_OBJECT = IMAGE_MAP_PROJECTION
END
