PDS_VERSION_ID = PDS3
/* FILE DATA ELEMENTS */
RECORD_TYPE = UNDEFINED
/* POINTERS TO DATA OBJECTS */
^IMAGE = ("HM715_0000_P24.TIF")
/* IDENTIFICATION DATA ELEMENTS */
DATA_SET_ID = "MEX-M-HRSC-4-REFDR-MAPPROJECT-EXT8-V4.0"
DATA_SET_NAME = "MARS EXPRESS HRSC MAP PROJECTED REFDR EXTENSION8 V4.0"
DETECTOR_ID = MEX_HRSC_P2
EVENT_TYPE = "MARS-TERMINATOR-CALIBRATION-Tc"
INSTRUMENT_HOST_ID = MEX
INSTRUMENT_HOST_NAME = "MARS EXPRESS"
INSTRUMENT_ID = HRSC
INSTRUMENT_NAME = "HIGH RESOLUTION STEREO CAMERA"
MISSION_NAME = "MARS EXPRESS"
MISSION_PHASE_NAME = ME_Phase_45
PROCESSING_LEVEL_ID = 4
PRODUCT_CREATION_TIME = 2023-01-28T19:10:30.000Z
PRODUCT_ID = "HM715_0000_P24.TIF"
RELEASE_ID = 0003
REVISION_ID = 0000
/* QUALITY DATA ELEMENTS */
DATA_QUALITY_ID = 1
DATA_QUALITY_DESC = "Data calculated based on original SPICE kernels"
/* TIME DATA ELEMENTS */
SPACECRAFT_CLOCK_START_COUNT = "1/0588389545.24869"
SPACECRAFT_CLOCK_STOP_COUNT = "1/0588390039.57796"
START_TIME = 2021-12-24T01:37:12.468Z
STOP_TIME = 2021-12-24T01:40:24.072Z
/* ORBITAL DATA ELEMENTS */
ASCENDING_NODE_LONGITUDE = 150.39
MAXIMUM_RESOLUTION = 0.7371
FOOTPRINT_POINT_LATITUDE = (-7.63174,-8.78508,-9.73261,-10.8916, -12.3153,-14.1108,-15.2169,-16.5432, -18.2502,-19.3859,-21.0287,-22.8699, -22.3622,-21.8974,-22.4482,-22.2309, -22.8131,-22.9729,-23.8461,-20.5938, -17.3574,-15.1335,-13.4056,-11.8439, -10.53,-9.29721,-7.15844,-5.3274,-3.711 ,-2.25194,-0.904552,0.371601,1.52102, 2.6021,4.5999,6.90448,8.53306,9.7214, 11.1718,12.2322,13.565,14.8306,16.0379, 17.2004,18.3217,19.4088,20.4651,21.4876 ,22.4845,23.4607,25.1246,25.3586, 25.4008,26.2835,27.1475,28.5945,29.7693 ,30.5277,31.2669,32.4288,33.2066, 34.0476,34.7038,35.3467,35.4261,35.4509 ,34.4079,33.3631,32.3144,31.2585,30.193 ,29.1143,28.0197,26.9058,25.7682,24.602 ,23.4034,22.167,20.8835,19.5478,18.1422 ,16.664,15.1055,13.8455,12.5183,10.6243 ,9.597,8.52451,7.37489,6.19883,4.88389, 3.47808,1.92119,0.177461,-1.80698, -2.93678,-4.18179,-5.59502,-7.27269, -7.63174)
FOOTPRINT_POINT_LONGITUDE = (313.92,316.233,317.552,318.798,319.963 ,321.029,321.506,321.924,322.231, 322.299,322.202,321.803,321.819,324.292 ,326.185,328.048,329.71,331.244,332.658 ,334.021,334.7,335.216,335.654,336.059, 336.427,336.778,337.426,338.025,338.589 ,339.128,339.649,340.155,340.647,341.13 ,342.072,343.22,344.125,344.797,345.695 ,346.366,347.266,348.174,349.094, 350.028,350.979,351.949,352.941,353.963 ,355.017,356.105,358.103,358.399, 358.453,357.291,356.125,354.104,352.395 ,351.255,350.112,348.247,346.948, 345.493,344.317,343.128,342.978,342.927 ,341.917,340.934,339.975,339.035, 338.112,337.2,336.299,335.404,334.512, 333.619,332.724,331.822,330.908,329.978 ,329.024,328.044,327.034,326.236, 325.409,324.253,323.637,323.0,322.326, 321.642,320.887,320.087,319.21,318.236, 317.135,316.51,315.823,315.044,314.118, 313.92)
ORBIT_NUMBER = 22715
ORBITAL_ECCENTRICITY = 0.573
ORBITAL_INCLINATION = 87.03
ORBITAL_SEMIMAJOR_AXIS = 8821.4
PERIAPSIS_ALTITUDE = 374.66
PERIAPSIS_ARGUMENT_ANGLE = 28.17
PERIAPSIS_TIME = 2021-12-24T00:44:08.000Z
SPACECRAFT_ORIENTATION = (0.0,1.0,0.0)
^MEX_ORIENTATION_DESC = "MEX_ORIENTATION_DESC.TXT"
SPACECRAFT_POINTING_MODE = FIXED
^MEX_POINTING_DESC = "MEX_POINTING_DESC.TXT"
RIGHT_ASCENSION = -1e+32
DECLINATION = -1e+32
OFFSET_ANGLE = -1e+32
SPACECRAFT_SOLAR_DISTANCE = 2.31397e+08
TARGET_NAME = MARS
/* CAMERA DATA ELEMENTS */
DETECTOR_TEMPERATURE = 18.1666
FOCAL_PLANE_TEMPERATURE = 7.5638
INST_CMPRS_NAME = "DISCRETE COSINE TRANSFORMATION (DCT)"
INST_CMPRS_RATIO = 9.52036
INST_CMPRS_QUALITY = 0
INST_CMPRS_QUANTZ_TBL_ID = 0
INSTRUMENT_TEMPERATURE = 11.0301
LENS_TEMPERATURE = 8.3794
MACROPIXEL_SIZE = 4
MISSING_FRAMES = 0
PIXEL_SUBSAMPLING_FLAG = N
SIGNAL_CHAIN_ID = 3
/* RADIOMETRIC DATA ELEMENTS */
BANDWIDTH = 177.0
CENTER_FILTER_WAVELENGTH = 676.5
RADIANCE_OFFSET = 0.0
RADIANCE_SCALING_FACTOR = 0.0420146
REFLECTANCE_SCALING_FACTOR = 0.00119276
MEX:REFLECTANCE_OFFSET = 0.0
/* IMAGE OBJECT DEFINITIONS */
OBJECT = IMAGE
  INTERCHANGE_FORMAT = BINARY
  LINES = 4147
  LINE_SAMPLES = 3208
  SAMPLE_TYPE = UNSIGNED_INTEGER
  SAMPLE_BITS = 8
  BANDS = 1
  BAND_STORAGE_TYPE = BAND_SEQUENTIAL
  MAXIMUM = 255
  MEAN = 143.257
  MINIMUM = 69
  STANDARD_DEVIATION = 24.4267
END_OBJECT = IMAGE
/* MAP OBJECT DEFINITIONS */
OBJECT = IMAGE_MAP_PROJECTION
  ^DATA_SET_MAP_PROJECTION_CATALOG= "DSMAP.CAT"
  A_AXIS_RADIUS = 3396.0
  B_AXIS_RADIUS = 3396.0
  C_AXIS_RADIUS = 3396.0
  CENTER_LATITUDE = 18.5428
  CENTER_LONGITUDE = 337.125
  COORDINATE_SYSTEM_NAME = PLANETOGRAPHIC
  COORDINATE_SYSTEM_TYPE = "BODY-FIXED ROTATING"
  EASTERNMOST_LONGITUDE = 358.453
  FIRST_STANDARD_PARALLEL = "N/A"
  LINE_FIRST_PIXEL = 1
  LINE_LAST_PIXEL = 4147
  LINE_PROJECTION_OFFSET = 1302.25
  MAP_PROJECTION_ROTATION = 0.0
  MAP_PROJECTION_TYPE = ORTHOGRAPHIC
  MAP_RESOLUTION = 74.08922548333329
  MAP_SCALE = 0.8
  MAXIMUM_LATITUDE = 35.4509
  MINIMUM_LATITUDE = -23.8461
  POSITIVE_LONGITUDE_DIRECTION = EAST
  REFERENCE_LATITUDE = "N/A"
  REFERENCE_LONGITUDE = "N/A"
  SAMPLE_FIRST_PIXEL = 1
  SAMPLE_LAST_PIXEL = 3208
  SAMPLE_PROJECTION_OFFSET = 1958.75
  SECOND_STANDARD_PARALLEL = "N/A"
  WESTERNMOST_LONGITUDE = 313.92
END_OBJECT = IMAGE_MAP_PROJECTION
END
