PDS_VERSION_ID = PDS3
/* FILE DATA ELEMENTS */
RECORD_TYPE = UNDEFINED
/* POINTERS TO DATA OBJECTS */
^IMAGE = ("HM719_0001_GR4.TIF")
/* IDENTIFICATION DATA ELEMENTS */
DATA_SET_ID = "MEX-M-HRSC-4-REFDR-MAPPROJECT-EXT8-V4.0"
DATA_SET_NAME = "MARS EXPRESS HRSC MAP PROJECTED REFDR EXTENSION8 V4.0"
DETECTOR_ID = MEX_HRSC_GREEN
EVENT_TYPE = "MARS-TERMINATOR-CALIBRATION-Tc"
INSTRUMENT_HOST_ID = MEX
INSTRUMENT_HOST_NAME = "MARS EXPRESS"
INSTRUMENT_ID = HRSC
INSTRUMENT_NAME = "HIGH RESOLUTION STEREO CAMERA"
MISSION_NAME = "MARS EXPRESS"
MISSION_PHASE_NAME = ME_Phase_45
PROCESSING_LEVEL_ID = 4
PRODUCT_CREATION_TIME = 2023-01-28T19:10:30.000Z
PRODUCT_ID = "HM719_0001_GR4.TIF"
RELEASE_ID = 0003
REVISION_ID = 0000
/* QUALITY DATA ELEMENTS */
DATA_QUALITY_ID = 1
DATA_QUALITY_DESC = "Data calculated based on original SPICE kernels"
/* TIME DATA ELEMENTS */
SPACECRAFT_CLOCK_START_COUNT = "1/0588499031.25678"
SPACECRAFT_CLOCK_STOP_COUNT = "1/0588499432.26469"
START_TIME = 2021-12-25T07:59:50.481Z
STOP_TIME = 2021-12-25T08:03:01.483Z
/* ORBITAL DATA ELEMENTS */
ASCENDING_NODE_LONGITUDE = 150.32
MAXIMUM_RESOLUTION = 0.8361
FOOTPRINT_POINT_LATITUDE = (27.7863,26.0361,26.2292,27.7854, 30.2206,33.7372,36.2522,39.1055,40.9666 ,40.2065,42.4523,45.4828,46.2458, 47.6427,47.3726,45.4257,40.0852,36.0643 ,33.0662,28.2322,24.3726,21.105,18.2155 ,15.6016,13.2118,10.9841,6.92174, 3.26377,-0.11188,-3.26537,-6.2338, -9.72794,-12.3843,-14.9324,-17.3831, -19.7421,-21.9969,-24.1344,-26.111, -27.026,-27.8683,-28.6146,-29.2198, -29.6118,-29.6053,-29.3393,-28.5815, -28.2945,-30.4289,-33.2151,-36.3475, -39.1883,-45.0277,-46.2666,-49.1149, -53.4159,-57.6376,-57.7591,-62.0391, -58.1352,-64.5443,-68.824,-72.2912, -74.3195,-74.2899,-73.6119,-71.5392, -69.1798,-66.801,-64.4895,-62.2669, -60.1312,-58.0752,-54.1572,-50.4751, -46.9883,-43.6212,-40.3505,-37.1457, -33.9807,-30.8331,-27.6737,-24.4752, -21.2077,-17.8365,-14.3107,-10.5585, -6.48252,-4.27245,-1.90071,0.674205, 3.52192,6.80975,8.70387,10.8715,13.5212 ,17.4328,21.7805,25.9447,27.7863)
FOOTPRINT_POINT_LONGITUDE = (205.537,210.181,215.629,219.339, 222.184,224.153,224.549,224.015,222.975 ,222.521,229.299,233.608,238.334, 242.097,246.043,249.772,252.327,253.79, 254.931,256.811,258.39,259.801,261.106, 262.34,263.526,264.676,266.915,269.122, 271.335,273.587,275.913,278.979,281.596 ,284.404,287.451,290.788,294.521, 298.758,303.736,306.531,309.63,313.108, 317.123,321.876,327.93,331.715,336.974, 342.643,344.311,345.303,346.676,350.823 ,352.73,355.45,351.432,350.694,355.841, 364.394,359.965,361.431,366.337,367.949 ,368.901,345.149,329.95,318.494,302.76, 292.521,285.288,279.857,275.576,272.069 ,269.11,264.299,260.457,257.219,254.383 ,251.821,249.448,247.203,245.029, 242.889,240.745,238.561,236.294,233.88, 231.232,228.24,226.552,224.676,222.558, 220.103,217.078,215.227,212.994,210.064 ,205.232,204.092,207.212,205.537)
ORBIT_NUMBER = 22719
ORBITAL_ECCENTRICITY = 0.574
ORBITAL_INCLINATION = 87.01
ORBITAL_SEMIMAJOR_AXIS = 8830.58
PERIAPSIS_ALTITUDE = 374.22
PERIAPSIS_ARGUMENT_ANGLE = 27.49
PERIAPSIS_TIME = 2021-12-25T04:40:02.000Z
SPACECRAFT_ORIENTATION = (0.0,1.0,0.0)
^MEX_ORIENTATION_DESC = "MEX_ORIENTATION_DESC.TXT"
SPACECRAFT_POINTING_MODE = FIXED
^MEX_POINTING_DESC = "MEX_POINTING_DESC.TXT"
RIGHT_ASCENSION = -1e+32
DECLINATION = -1e+32
OFFSET_ANGLE = -1e+32
SPACECRAFT_SOLAR_DISTANCE = 2.31177e+08
TARGET_NAME = MARS
/* CAMERA DATA ELEMENTS */
DETECTOR_TEMPERATURE = 21.0212
FOCAL_PLANE_TEMPERATURE = 9.195
INST_CMPRS_NAME = "DISCRETE COSINE TRANSFORMATION (DCT)"
INST_CMPRS_RATIO = 7.0954
INST_CMPRS_QUALITY = 0
INST_CMPRS_QUANTZ_TBL_ID = 0
INSTRUMENT_TEMPERATURE = 15.7198
LENS_TEMPERATURE = 9.6028
MACROPIXEL_SIZE = 2
MISSING_FRAMES = 0
PIXEL_SUBSAMPLING_FLAG = N
SIGNAL_CHAIN_ID = 2
/* RADIOMETRIC DATA ELEMENTS */
BANDWIDTH = 88.0
CENTER_FILTER_WAVELENGTH = 538.0
RADIANCE_OFFSET = 0.0
RADIANCE_SCALING_FACTOR = 0.0146674
REFLECTANCE_SCALING_FACTOR = 0.000674735
MEX:REFLECTANCE_OFFSET = 0.0
/* IMAGE OBJECT DEFINITIONS */
OBJECT = IMAGE
  INTERCHANGE_FORMAT = BINARY
  LINES = 7935
  LINE_SAMPLES = 7354
  SAMPLE_TYPE = UNSIGNED_INTEGER
  SAMPLE_BITS = 8
  BANDS = 1
  BAND_STORAGE_TYPE = BAND_SEQUENTIAL
  MAXIMUM = 255
  MEAN = 139.34
  MINIMUM = 1
  STANDARD_DEVIATION = 44.1367
END_OBJECT = IMAGE
/* MAP OBJECT DEFINITIONS */
OBJECT = IMAGE_MAP_PROJECTION
  ^DATA_SET_MAP_PROJECTION_CATALOG= "DSMAP.CAT"
  A_AXIS_RADIUS = 3396.0
  B_AXIS_RADIUS = 3396.0
  C_AXIS_RADIUS = 3396.0
  CENTER_LATITUDE = -22.7902
  CENTER_LONGITUDE = 264.515
  COORDINATE_SYSTEM_NAME = PLANETOGRAPHIC
  COORDINATE_SYSTEM_TYPE = "BODY-FIXED ROTATING"
  EASTERNMOST_LONGITUDE = 8.901
  FIRST_STANDARD_PARALLEL = "N/A"
  LINE_FIRST_PIXEL = 1
  LINE_LAST_PIXEL = 7935
  LINE_PROJECTION_OFFSET = 4018.0
  MAP_PROJECTION_ROTATION = 0.0
  MAP_PROJECTION_TYPE = ORTHOGRAPHIC
  MAP_RESOLUTION = 74.08922548333329
  MAP_SCALE = 0.8
  MAXIMUM_LATITUDE = 47.6427
  MINIMUM_LATITUDE = -74.31950000000001
  POSITIVE_LONGITUDE_DIRECTION = EAST
  REFERENCE_LATITUDE = "N/A"
  REFERENCE_LONGITUDE = "N/A"
  SAMPLE_FIRST_PIXEL = 1
  SAMPLE_LAST_PIXEL = 7354
  SAMPLE_PROJECTION_OFFSET = 3567.0
  SECOND_STANDARD_PARALLEL = "N/A"
  WESTERNMOST_LONGITUDE = -155.908
END_OBJECT = IMAGE_MAP_PROJECTION
END
