PDS_VERSION_ID = PDS3
/* FILE DATA ELEMENTS */
RECORD_TYPE = UNDEFINED
/* POINTERS TO DATA OBJECTS */
^IMAGE = ("HM744_0001_ND4.TIF")
/* IDENTIFICATION DATA ELEMENTS */
DATA_SET_ID = "MEX-M-HRSC-4-REFDR-MAPPROJECT-EXT8-V4.0"
DATA_SET_NAME = "MARS EXPRESS HRSC MAP PROJECTED REFDR EXTENSION8 V4.0"
DETECTOR_ID = MEX_HRSC_NADIR
EVENT_TYPE = "MARS-TERMINATOR-CALIBRATION-Tc"
INSTRUMENT_HOST_ID = MEX
INSTRUMENT_HOST_NAME = "MARS EXPRESS"
INSTRUMENT_ID = HRSC
INSTRUMENT_NAME = "HIGH RESOLUTION STEREO CAMERA"
MISSION_NAME = "MARS EXPRESS"
MISSION_PHASE_NAME = ME_Phase_46
PROCESSING_LEVEL_ID = 4
PRODUCT_CREATION_TIME = 2023-01-28T19:10:30.000Z
PRODUCT_ID = "HM744_0001_ND4.TIF"
RELEASE_ID = 0003
REVISION_ID = 0000
/* QUALITY DATA ELEMENTS */
DATA_QUALITY_ID = 1
DATA_QUALITY_DESC = "Data calculated based on original SPICE kernels"
/* TIME DATA ELEMENTS */
SPACECRAFT_CLOCK_START_COUNT = "1/0589125731.25671"
SPACECRAFT_CLOCK_STOP_COUNT = "1/0589126133.24267"
START_TIME = 2022-01-01T14:04:29.469Z
STOP_TIME = 2022-01-01T14:07:42.462Z
/* ORBITAL DATA ELEMENTS */
ASCENDING_NODE_LONGITUDE = 149.88
MAXIMUM_RESOLUTION = 0.8109
FOOTPRINT_POINT_LATITUDE = (52.3965,52.4318,52.8452,55.2276, 57.7271,60.6691,60.4027,60.898,63.0029, 63.5051,60.5655,63.2261,60.2308,62.9774 ,63.0012,59.9618,62.6102,57.033,51.3924 ,47.5078,43.2538,37.1451,31.835,28.1328 ,22.8373,19.8525,15.064,11.5686,7.94566 ,2.41601,-0.374839,-2.94713,-6.43503, -9.85662,-12.0926,-14.4484,-18.8479, -23.1196,-25.4691,-27.1029,-28.9081, -29.793,-30.7317,-31.3408,-32.1492, -32.8599,-33.7101,-34.2247,-36.1401, -36.6648,-38.9457,-40.9533,-43.3511, -47.6374,-50.6515,-55.4308,-61.5074, -62.1187,-65.8152,-70.2367,-73.2039, -76.087,-77.8648,-75.5579,-71.7284, -68.6832,-66.1525,-61.1076,-57.7918, -53.5677,-50.4668,-47.5031,-44.5735, -40.6811,-36.2255,-32.8128,-27.6414, -23.4198,-18.763,-13.5802,-10.4999, -6.64956,-2.59546,1.88933,5.12807, 8.89708,12.3249,15.646,19.4252,22.1714, 25.3464,28.9553,31.0892,33.623,37.4896, 39.7377,42.507,45.8881,48.3482,52.3965)
FOOTPRINT_POINT_LONGITUDE = (188.7,188.68,189.863,196.5,199.703, 208.891,216.229,222.841,228.277,234.819 ,240.632,243.575,244.126,246.487, 249.569,248.111,250.896,250.06,248.473, 247.913,247.605,247.792,248.394,248.965 ,250.072,250.823,252.23,253.325,254.727 ,257.251,258.696,260.139,262.348, 264.875,266.663,268.801,273.536,279.473 ,283.659,287.19,292.165,295.356,300.098 ,305.477,310.907,314.887,311.239, 314.886,311.333,315.129,312.084,315.981 ,312.253,314.824,313.543,315.406, 314.646,316.013,316.007,313.394,313.884 ,311.215,295.417,279.721,266.337,259.75 ,255.635,249.488,246.375,243.08,240.987 ,239.177,237.526,235.495,233.334, 231.762,229.462,227.626,225.609,223.331 ,221.943,220.157,218.192,215.905, 214.149,211.97,209.844,207.624,204.862, 202.663,199.873,196.299,193.931,190.809 ,185.171,181.217,177.935,181.726, 185.465,188.7)
ORBIT_NUMBER = 22744
ORBITAL_ECCENTRICITY = 0.574
ORBITAL_INCLINATION = 87.02
ORBITAL_SEMIMAJOR_AXIS = 8839.12
PERIAPSIS_ALTITUDE = 370.86
PERIAPSIS_ARGUMENT_ANGLE = 23.14
PERIAPSIS_TIME = 2022-01-01T11:14:46.000Z
SPACECRAFT_ORIENTATION = (0.0,1.0,0.0)
^MEX_ORIENTATION_DESC = "MEX_ORIENTATION_DESC.TXT"
SPACECRAFT_POINTING_MODE = FIXED
^MEX_POINTING_DESC = "MEX_POINTING_DESC.TXT"
RIGHT_ASCENSION = -1e+32
DECLINATION = -1e+32
OFFSET_ANGLE = -1e+32
SPACECRAFT_SOLAR_DISTANCE = 2.29787e+08
TARGET_NAME = MARS
/* CAMERA DATA ELEMENTS */
DETECTOR_TEMPERATURE = 21.0212
FOCAL_PLANE_TEMPERATURE = 8.9911
INST_CMPRS_NAME = "DISCRETE COSINE TRANSFORMATION (DCT)"
INST_CMPRS_RATIO = 8.44123
INST_CMPRS_QUALITY = 0
INST_CMPRS_QUANTZ_TBL_ID = 0
INSTRUMENT_TEMPERATURE = 15.7198
LENS_TEMPERATURE = 9.8067
MACROPIXEL_SIZE = 2
MISSING_FRAMES = 0
PIXEL_SUBSAMPLING_FLAG = N
SIGNAL_CHAIN_ID = 0
/* RADIOMETRIC DATA ELEMENTS */
BANDWIDTH = 177.0
CENTER_FILTER_WAVELENGTH = 677.5
RADIANCE_OFFSET = 0.0
RADIANCE_SCALING_FACTOR = 0.0545157
REFLECTANCE_SCALING_FACTOR = 0.00152887
MEX:REFLECTANCE_OFFSET = 0.0
/* IMAGE OBJECT DEFINITIONS */
OBJECT = IMAGE
  INTERCHANGE_FORMAT = BINARY
  LINES = 8081
  LINE_SAMPLES = 6317
  SAMPLE_TYPE = UNSIGNED_INTEGER
  SAMPLE_BITS = 8
  BANDS = 1
  BAND_STORAGE_TYPE = BAND_SEQUENTIAL
  MAXIMUM = 255
  MEAN = 132.367
  MINIMUM = 3
  STANDARD_DEVIATION = 41.805
END_OBJECT = IMAGE
/* MAP OBJECT DEFINITIONS */
OBJECT = IMAGE_MAP_PROJECTION
  ^DATA_SET_MAP_PROJECTION_CATALOG= "DSMAP.CAT"
  A_AXIS_RADIUS = 3396.0
  B_AXIS_RADIUS = 3396.0
  C_AXIS_RADIUS = 3396.0
  CENTER_LATITUDE = -8.745369999999999
  CENTER_LONGITUDE = 241.003
  COORDINATE_SYSTEM_NAME = PLANETOGRAPHIC
  COORDINATE_SYSTEM_TYPE = "BODY-FIXED ROTATING"
  EASTERNMOST_LONGITUDE = 316.013
  FIRST_STANDARD_PARALLEL = "N/A"
  LINE_FIRST_PIXEL = 1
  LINE_LAST_PIXEL = 8081
  LINE_PROJECTION_OFFSET = 4007.0
  MAP_PROJECTION_ROTATION = 0.0
  MAP_PROJECTION_TYPE = ORTHOGRAPHIC
  MAP_RESOLUTION = 74.08922548333329
  MAP_SCALE = 0.8
  MAXIMUM_LATITUDE = 63.5051
  MINIMUM_LATITUDE = -77.8648
  POSITIVE_LONGITUDE_DIRECTION = EAST
  REFERENCE_LATITUDE = "N/A"
  REFERENCE_LONGITUDE = "N/A"
  SAMPLE_FIRST_PIXEL = 1
  SAMPLE_LAST_PIXEL = 6317
  SAMPLE_PROJECTION_OFFSET = 2842.0
  SECOND_STANDARD_PARALLEL = "N/A"
  WESTERNMOST_LONGITUDE = 177.935
END_OBJECT = IMAGE_MAP_PROJECTION
END
