PDS_VERSION_ID = PDS3
/* FILE DATA ELEMENTS */
RECORD_TYPE = UNDEFINED
/* POINTERS TO DATA OBJECTS */
^IMAGE = ("HM744_0001_RE4.TIF")
/* IDENTIFICATION DATA ELEMENTS */
DATA_SET_ID = "MEX-M-HRSC-4-REFDR-MAPPROJECT-EXT8-V4.0"
DATA_SET_NAME = "MARS EXPRESS HRSC MAP PROJECTED REFDR EXTENSION8 V4.0"
DETECTOR_ID = MEX_HRSC_RED
EVENT_TYPE = "MARS-TERMINATOR-CALIBRATION-Tc"
INSTRUMENT_HOST_ID = MEX
INSTRUMENT_HOST_NAME = "MARS EXPRESS"
INSTRUMENT_ID = HRSC
INSTRUMENT_NAME = "HIGH RESOLUTION STEREO CAMERA"
MISSION_NAME = "MARS EXPRESS"
MISSION_PHASE_NAME = ME_Phase_46
PROCESSING_LEVEL_ID = 4
PRODUCT_CREATION_TIME = 2023-01-28T19:10:30.000Z
PRODUCT_ID = "HM744_0001_RE4.TIF"
RELEASE_ID = 0003
REVISION_ID = 0000
/* QUALITY DATA ELEMENTS */
DATA_QUALITY_ID = 1
DATA_QUALITY_DESC = "Data calculated based on original SPICE kernels"
/* TIME DATA ELEMENTS */
SPACECRAFT_CLOCK_START_COUNT = "1/0589125731.25671"
SPACECRAFT_CLOCK_STOP_COUNT = "1/0589126133.24267"
START_TIME = 2022-01-01T14:02:45.481Z
STOP_TIME = 2022-01-01T14:05:58.474Z
/* ORBITAL DATA ELEMENTS */
ASCENDING_NODE_LONGITUDE = 149.88
MAXIMUM_RESOLUTION = 0.809
FOOTPRINT_POINT_LATITUDE = (52.8464,52.9246,53.2774,55.1252, 56.4637,58.6605,60.8825,62.4789,61.9006 ,63.8676,61.6575,63.5453,60.9297, 63.0569,60.2076,55.756,52.888,48.8485, 43.8251,40.3246,35.4574,31.1957,26.4982 ,20.0374,15.9448,12.5942,7.64999, 4.51449,0.444855,-2.39976,-6.29625, -8.89101,-12.0351,-15.8888,-19.8544, -22.4592,-25.084,-26.6142,-28.1773, -29.7246,-30.5965,-31.2782,-31.8317, -31.7049,-32.9137,-32.7815,-33.78, -33.658,-36.9512,-38.3316,-40.8482, -43.6508,-46.4113,-49.5269,-51.8245, -54.1464,-57.323,-61.713,-62.6636, -65.2507,-70.5116,-74.4052,-75.6662, -73.8113,-71.8049,-68.3192,-65.1544, -59.7464,-54.5448,-50.4518,-44.0523, -40.8597,-35.7289,-31.0925,-27.6021, -23.847,-20.1996,-15.2767,-11.9773, -9.23943,-5.48603,-2.73262,2.05926, 6.42866,9.23353,13.2515,16.1159,18.4413 ,20.8585,23.8983,27.3528,31.1136,33.372 ,36.1233,39.8802,41.7631,45.2233,47.596 ,50.4056,52.8464)
FOOTPRINT_POINT_LONGITUDE = (188.823,188.721,189.455,193.528, 198.071,205.485,209.961,216.514,222.156 ,230.293,234.202,239.616,244.085, 249.086,250.501,250.003,249.215,248.518 ,248.092,248.096,248.464,249.004, 249.817,251.33,252.521,253.564,255.452, 256.852,258.872,260.443,262.901,264.777 ,267.273,270.913,275.491,279.159, 283.665,286.845,290.81,296.057,300.353, 306.333,311.108,314.305,311.375,314.782 ,311.327,314.797,312.197,315.225, 311.992,314.899,313.208,315.995,313.155 ,315.771,313.111,315.403,315.892, 314.881,310.485,308.444,293.87,282.548, 274.564,265.282,259.441,252.337,247.377 ,244.23,240.128,238.327,235.669,233.437 ,231.826,230.136,228.517,226.333, 224.853,223.605,221.853,220.523,218.114 ,215.772,214.177,211.74,209.871,208.259 ,206.478,204.059,201.017,197.252, 194.701,191.212,185.526,182.127,180.608 ,183.274,186.104,188.823)
ORBIT_NUMBER = 22744
ORBITAL_ECCENTRICITY = 0.574
ORBITAL_INCLINATION = 87.02
ORBITAL_SEMIMAJOR_AXIS = 8839.12
PERIAPSIS_ALTITUDE = 370.86
PERIAPSIS_ARGUMENT_ANGLE = 23.14
PERIAPSIS_TIME = 2022-01-01T11:14:46.000Z
SPACECRAFT_ORIENTATION = (0.0,1.0,0.0)
^MEX_ORIENTATION_DESC = "MEX_ORIENTATION_DESC.TXT"
SPACECRAFT_POINTING_MODE = FIXED
^MEX_POINTING_DESC = "MEX_POINTING_DESC.TXT"
RIGHT_ASCENSION = -1e+32
DECLINATION = -1e+32
OFFSET_ANGLE = -1e+32
SPACECRAFT_SOLAR_DISTANCE = 2.29787e+08
TARGET_NAME = MARS
/* CAMERA DATA ELEMENTS */
DETECTOR_TEMPERATURE = 23.6719
FOCAL_PLANE_TEMPERATURE = 8.9911
INST_CMPRS_NAME = "DISCRETE COSINE TRANSFORMATION (DCT)"
INST_CMPRS_RATIO = 9.7273
INST_CMPRS_QUALITY = 0
INST_CMPRS_QUANTZ_TBL_ID = 0
INSTRUMENT_TEMPERATURE = 15.7198
LENS_TEMPERATURE = 9.8067
MACROPIXEL_SIZE = 2
MISSING_FRAMES = 0
PIXEL_SUBSAMPLING_FLAG = N
SIGNAL_CHAIN_ID = 1
/* RADIOMETRIC DATA ELEMENTS */
BANDWIDTH = 48.0
CENTER_FILTER_WAVELENGTH = 748.0
RADIANCE_OFFSET = 0.0
RADIANCE_SCALING_FACTOR = 0.0151124
REFLECTANCE_SCALING_FACTOR = 0.00182064
MEX:REFLECTANCE_OFFSET = 0.0
/* IMAGE OBJECT DEFINITIONS */
OBJECT = IMAGE
  INTERCHANGE_FORMAT = BINARY
  LINES = 8081
  LINE_SAMPLES = 6317
  SAMPLE_TYPE = UNSIGNED_INTEGER
  SAMPLE_BITS = 8
  BANDS = 1
  BAND_STORAGE_TYPE = BAND_SEQUENTIAL
  MAXIMUM = 255
  MEAN = 133.002
  MINIMUM = 11
  STANDARD_DEVIATION = 42.8523
END_OBJECT = IMAGE
/* MAP OBJECT DEFINITIONS */
OBJECT = IMAGE_MAP_PROJECTION
  ^DATA_SET_MAP_PROJECTION_CATALOG= "DSMAP.CAT"
  A_AXIS_RADIUS = 3396.0
  B_AXIS_RADIUS = 3396.0
  C_AXIS_RADIUS = 3396.0
  CENTER_LATITUDE = -8.745369999999999
  CENTER_LONGITUDE = 241.003
  COORDINATE_SYSTEM_NAME = PLANETOGRAPHIC
  COORDINATE_SYSTEM_TYPE = "BODY-FIXED ROTATING"
  EASTERNMOST_LONGITUDE = 315.995
  FIRST_STANDARD_PARALLEL = "N/A"
  LINE_FIRST_PIXEL = 1
  LINE_LAST_PIXEL = 8081
  LINE_PROJECTION_OFFSET = 4007.0
  MAP_PROJECTION_ROTATION = 0.0
  MAP_PROJECTION_TYPE = ORTHOGRAPHIC
  MAP_RESOLUTION = 74.08922548333329
  MAP_SCALE = 0.8
  MAXIMUM_LATITUDE = 63.8676
  MINIMUM_LATITUDE = -75.6662
  POSITIVE_LONGITUDE_DIRECTION = EAST
  REFERENCE_LATITUDE = "N/A"
  REFERENCE_LONGITUDE = "N/A"
  SAMPLE_FIRST_PIXEL = 1
  SAMPLE_LAST_PIXEL = 6317
  SAMPLE_PROJECTION_OFFSET = 2842.0
  SECOND_STANDARD_PARALLEL = "N/A"
  WESTERNMOST_LONGITUDE = 180.608
END_OBJECT = IMAGE_MAP_PROJECTION
END
