PDS_VERSION_ID = PDS3
/* FILE DATA ELEMENTS */
RECORD_TYPE = UNDEFINED
/* POINTERS TO DATA OBJECTS */
^IMAGE = ("HM754_0000_BL4.TIF")
/* IDENTIFICATION DATA ELEMENTS */
DATA_SET_ID = "MEX-M-HRSC-4-REFDR-MAPPROJECT-EXT8-V4.0"
DATA_SET_NAME = "MARS EXPRESS HRSC MAP PROJECTED REFDR EXTENSION8 V4.0"
DETECTOR_ID = MEX_HRSC_BLUE
EVENT_TYPE = "MARS-TERMINATOR-CALIBRATION-Tc"
INSTRUMENT_HOST_ID = MEX
INSTRUMENT_HOST_NAME = "MARS EXPRESS"
INSTRUMENT_ID = HRSC
INSTRUMENT_NAME = "HIGH RESOLUTION STEREO CAMERA"
MISSION_NAME = "MARS EXPRESS"
MISSION_PHASE_NAME = ME_Phase_46
PROCESSING_LEVEL_ID = 4
PRODUCT_CREATION_TIME = 2023-01-28T19:10:30.000Z
PRODUCT_ID = "HM754_0000_BL4.TIF"
RELEASE_ID = 0003
REVISION_ID = 0000
/* QUALITY DATA ELEMENTS */
DATA_QUALITY_ID = 1
DATA_QUALITY_DESC = "Data calculated based on original SPICE kernels"
/* TIME DATA ELEMENTS */
SPACECRAFT_CLOCK_START_COUNT = "1/0589375947.25671"
SPACECRAFT_CLOCK_STOP_COUNT = "1/0589376427.24000"
START_TIME = 2022-01-04T11:35:37.473Z
STOP_TIME = 2022-01-04T11:39:11.471Z
/* ORBITAL DATA ELEMENTS */
ASCENDING_NODE_LONGITUDE = 149.69
MAXIMUM_RESOLUTION = 0.7773
FOOTPRINT_POINT_LATITUDE = (-68.0459,-68.0526,-68.0839,-63.6171, -59.0561,-56.0404,-58.4646,-55.4324, -58.1035,-54.4351,-56.3547,-53.2053, -51.0077,-52.8831,-50.7866,-50.144, -48.1585,-49.8844,-47.9718,-49.1064, -47.1457,-48.8946,-45.9225,-46.4894, -44.9256,-46.3197,-45.415,-44.3337, -42.4662,-39.6159,-37.3776,-33.8199, -30.3585,-25.0084,-22.3308,-17.7211, -15.0879,-11.9814,-8.48995,-3.96357, 2.43666,6.59959,10.1347,15.7994,20.5072 ,24.7649,30.0459,34.1578,37.3947, 44.1445,49.6949,54.7908,60.8846,65.4032 ,69.5715,67.4673,68.6298,67.0999, 63.6813,62.4271,61.0671,58.6303,56.0668 ,50.542,47.7569,42.8551,40.8334,38.7092 ,35.5568,32.9249,29.1538,26.1886, 23.2763,18.483,15.7991,10.975,6.38756, 2.1138,-1.04739,-6.2007,-9.51215, -13.4194,-19.201,-26.634,-32.0288, -36.0183,-40.0382,-46.2075,-49.7641, -53.3282,-57.3099,-61.484,-68.0366, -73.2748,-76.7541,-78.2533,-75.7993, -75.2524,-71.8773,-68.0459)
FOOTPRINT_POINT_LONGITUDE = (356.125,356.252,355.002,358.782, 360.003,360.015,363.487,359.995,363.7, 360.031,363.978,365.364,360.037,364.707 ,359.962,367.412,359.978,367.051,360.04 ,368.495,359.989,368.426,359.988, 367.303,360.015,367.398,362.809,358.645 ,353.191,346.93,343.022,337.965,333.954 ,328.922,326.773,323.558,321.938, 320.223,318.433,316.345,313.838,312.419 ,311.328,309.78,308.657,307.768,306.821 ,306.207,305.797,305.198,305.021, 305.174,305.934,307.151,298.686,288.899 ,281.25,274.064,258.13,255.007,252.286, 248.684,244.467,242.318,240.336,236.29, 239.922,244.552,249.994,253.699,258.154 ,261.131,263.713,267.38,269.183,272.073 ,274.475,276.468,277.814,279.811, 280.947,282.192,283.829,285.621,286.723 ,287.398,287.988,288.663,288.903, 289.007,288.937,288.591,287.047,284.195 ,285.921,307.693,318.844,337.193, 344.185,356.125)
ORBIT_NUMBER = 22754
ORBITAL_ECCENTRICITY = 0.574
ORBITAL_INCLINATION = 87.02
ORBITAL_SEMIMAJOR_AXIS = 8833.32
PERIAPSIS_ALTITUDE = 370.27
PERIAPSIS_ARGUMENT_ANGLE = 21.47
PERIAPSIS_TIME = 2022-01-04T09:04:46.000Z
SPACECRAFT_ORIENTATION = (0.0,1.0,0.0)
^MEX_ORIENTATION_DESC = "MEX_ORIENTATION_DESC.TXT"
SPACECRAFT_POINTING_MODE = FIXED
^MEX_POINTING_DESC = "MEX_POINTING_DESC.TXT"
RIGHT_ASCENSION = -1e+32
DECLINATION = -1e+32
OFFSET_ANGLE = -1e+32
SPACECRAFT_SOLAR_DISTANCE = 2.29226e+08
TARGET_NAME = MARS
/* CAMERA DATA ELEMENTS */
DETECTOR_TEMPERATURE = 18.1666
FOCAL_PLANE_TEMPERATURE = 8.1755
INST_CMPRS_NAME = "DISCRETE COSINE TRANSFORMATION (DCT)"
INST_CMPRS_RATIO = 4.47958
INST_CMPRS_QUALITY = 0
INST_CMPRS_QUANTZ_TBL_ID = 0
INSTRUMENT_TEMPERATURE = 11.4379
LENS_TEMPERATURE = 8.3794
MACROPIXEL_SIZE = 2
MISSING_FRAMES = 0
PIXEL_SUBSAMPLING_FLAG = N
SIGNAL_CHAIN_ID = 2
/* RADIOMETRIC DATA ELEMENTS */
BANDWIDTH = 76.0
CENTER_FILTER_WAVELENGTH = 444.0
RADIANCE_OFFSET = 0.0
RADIANCE_SCALING_FACTOR = 0.0106607
REFLECTANCE_SCALING_FACTOR = 0.000575433
MEX:REFLECTANCE_OFFSET = 0.0
/* IMAGE OBJECT DEFINITIONS */
OBJECT = IMAGE
  INTERCHANGE_FORMAT = BINARY
  LINES = 8149
  LINE_SAMPLES = 5566
  SAMPLE_TYPE = UNSIGNED_INTEGER
  SAMPLE_BITS = 8
  BANDS = 1
  BAND_STORAGE_TYPE = BAND_SEQUENTIAL
  MAXIMUM = 255
  MEAN = 103.319
  MINIMUM = 1
  STANDARD_DEVIATION = 37.7431
END_OBJECT = IMAGE
/* MAP OBJECT DEFINITIONS */
OBJECT = IMAGE_MAP_PROJECTION
  ^DATA_SET_MAP_PROJECTION_CATALOG= "DSMAP.CAT"
  A_AXIS_RADIUS = 3396.0
  B_AXIS_RADIUS = 3396.0
  C_AXIS_RADIUS = 3396.0
  CENTER_LATITUDE = -4.55415
  CENTER_LONGITUDE = 298.083
  COORDINATE_SYSTEM_NAME = PLANETOGRAPHIC
  COORDINATE_SYSTEM_TYPE = "BODY-FIXED ROTATING"
  EASTERNMOST_LONGITUDE = 8.494999999999999
  FIRST_STANDARD_PARALLEL = "N/A"
  LINE_FIRST_PIXEL = 1
  LINE_LAST_PIXEL = 8149
  LINE_PROJECTION_OFFSET = 4079.0
  MAP_PROJECTION_ROTATION = 0.0
  MAP_PROJECTION_TYPE = ORTHOGRAPHIC
  MAP_RESOLUTION = 74.08922548333329
  MAP_SCALE = 0.8
  MAXIMUM_LATITUDE = 69.5715
  MINIMUM_LATITUDE = -78.2533
  POSITIVE_LONGITUDE_DIRECTION = EAST
  REFERENCE_LATITUDE = "N/A"
  REFERENCE_LONGITUDE = "N/A"
  SAMPLE_FIRST_PIXEL = 1
  SAMPLE_LAST_PIXEL = 5566
  SAMPLE_PROJECTION_OFFSET = 2787.0
  SECOND_STANDARD_PARALLEL = "N/A"
  WESTERNMOST_LONGITUDE = -123.71
END_OBJECT = IMAGE_MAP_PROJECTION
END
