PDS_VERSION_ID = PDS3
/* FILE DATA ELEMENTS */
RECORD_TYPE = UNDEFINED
/* POINTERS TO DATA OBJECTS */
^IMAGE = ("HM754_0000_ND4.TIF")
/* IDENTIFICATION DATA ELEMENTS */
DATA_SET_ID = "MEX-M-HRSC-4-REFDR-MAPPROJECT-EXT8-V4.0"
DATA_SET_NAME = "MARS EXPRESS HRSC MAP PROJECTED REFDR EXTENSION8 V4.0"
DETECTOR_ID = MEX_HRSC_NADIR
EVENT_TYPE = "MARS-TERMINATOR-CALIBRATION-Tc"
INSTRUMENT_HOST_ID = MEX
INSTRUMENT_HOST_NAME = "MARS EXPRESS"
INSTRUMENT_ID = HRSC
INSTRUMENT_NAME = "HIGH RESOLUTION STEREO CAMERA"
MISSION_NAME = "MARS EXPRESS"
MISSION_PHASE_NAME = ME_Phase_46
PROCESSING_LEVEL_ID = 4
PRODUCT_CREATION_TIME = 2023-01-28T19:10:30.000Z
PRODUCT_ID = "HM754_0000_ND4.TIF"
RELEASE_ID = 0003
REVISION_ID = 0000
/* QUALITY DATA ELEMENTS */
DATA_QUALITY_ID = 1
DATA_QUALITY_DESC = "Data calculated based on original SPICE kernels"
/* TIME DATA ELEMENTS */
SPACECRAFT_CLOCK_START_COUNT = "1/0589375947.25671"
SPACECRAFT_CLOCK_STOP_COUNT = "1/0589376427.24000"
START_TIME = 2022-01-04T11:35:13.482Z
STOP_TIME = 2022-01-04T11:38:48.484Z
/* ORBITAL DATA ELEMENTS */
ASCENDING_NODE_LONGITUDE = 149.69
MAXIMUM_RESOLUTION = 0.7774
FOOTPRINT_POINT_LATITUDE = (-68.076,-68.0962,-68.1662,-64.5503, -58.021,-61.4119,-57.0019,-53.5759, -56.1375,-52.5724,-53.1788,-50.9551, -52.8481,-50.7339,-50.3899,-48.2967, -50.1777,-48.1083,-49.8974,-47.2745, -48.2059,-46.4753,-47.2199,-45.4519, -47.0454,-45.0387,-46.5036,-44.6323, -45.9792,-43.6686,-41.2417,-39.339, -36.9258,-33.2439,-29.9125,-26.9517, -22.9995,-20.2903,-17.5154,-14.0504, -10.9145,-7.77409,-4.78541,0.306149, 6.44744,11.1727,17.6477,22.0117,27.051, 33.1922,37.2697,41.4822,47.7264,53.346, 56.886,63.6502,67.6523,70.0885,67.4192, 67.1369,63.9644,63.2518,61.1343,58.0414 ,55.2124,51.6892,45.1104,42.6129, 40.5759,38.9444,35.0033,31.0586,26.8809 ,22.2785,19.1047,16.2984,12.0826, 5.43008,2.05987,-0.987115,-4.60679, -9.36359,-14.9173,-18.6472,-23.4548, -30.1771,-36.7846,-44.7653,-50.9409, -55.1044,-58.5711,-63.6952,-67.7639, -71.4184,-75.9918,-78.2906,-76.3709, -76.5274,-72.6654,-68.076)
FOOTPRINT_POINT_LONGITUDE = (355.976,356.168,355.374,359.349, 360.021,361.094,362.337,359.997,366.327 ,360.028,365.443,360.041,364.746, 359.969,367.988,359.975,367.929,360.033 ,367.434,359.965,366.989,360.033, 368.439,360.038,368.622,360.03,367.772, 359.981,366.969,357.423,350.989,347.043 ,342.874,337.736,333.924,331.017, 327.688,325.655,323.793,321.689,320.003 ,318.405,317.028,314.976,312.787, 311.344,309.642,308.654,307.674,306.691 ,306.176,305.766,305.464,305.554, 305.846,307.19,306.098,297.675,283.875, 271.366,259.318,257.887,253.303,249.5, 246.586,241.018,238.528,235.601,240.951 ,244.514,251.195,256.339,260.775, 264.816,267.216,269.129,271.708,275.192 ,276.741,278.036,279.469,281.123, 282.884,283.927,285.141,286.617,287.781 ,288.812,289.232,289.308,289.191, 288.608,287.564,285.909,282.132,295.857 ,307.744,325.435,342.366,355.976)
ORBIT_NUMBER = 22754
ORBITAL_ECCENTRICITY = 0.574
ORBITAL_INCLINATION = 87.02
ORBITAL_SEMIMAJOR_AXIS = 8833.32
PERIAPSIS_ALTITUDE = 370.27
PERIAPSIS_ARGUMENT_ANGLE = 21.47
PERIAPSIS_TIME = 2022-01-04T09:04:46.000Z
SPACECRAFT_ORIENTATION = (0.0,1.0,0.0)
^MEX_ORIENTATION_DESC = "MEX_ORIENTATION_DESC.TXT"
SPACECRAFT_POINTING_MODE = FIXED
^MEX_POINTING_DESC = "MEX_POINTING_DESC.TXT"
RIGHT_ASCENSION = -1e+32
DECLINATION = -1e+32
OFFSET_ANGLE = -1e+32
SPACECRAFT_SOLAR_DISTANCE = 2.29226e+08
TARGET_NAME = MARS
/* CAMERA DATA ELEMENTS */
DETECTOR_TEMPERATURE = 18.1666
FOCAL_PLANE_TEMPERATURE = 8.1755
INST_CMPRS_NAME = "DISCRETE COSINE TRANSFORMATION (DCT)"
INST_CMPRS_RATIO = 9.89896
INST_CMPRS_QUALITY = 0
INST_CMPRS_QUANTZ_TBL_ID = 0
INSTRUMENT_TEMPERATURE = 11.4379
LENS_TEMPERATURE = 8.3794
MACROPIXEL_SIZE = 2
MISSING_FRAMES = 0
PIXEL_SUBSAMPLING_FLAG = N
SIGNAL_CHAIN_ID = 0
/* RADIOMETRIC DATA ELEMENTS */
BANDWIDTH = 177.0
CENTER_FILTER_WAVELENGTH = 677.5
RADIANCE_OFFSET = 0.0
RADIANCE_SCALING_FACTOR = 0.0384951
REFLECTANCE_SCALING_FACTOR = 0.00107434
MEX:REFLECTANCE_OFFSET = 0.0
/* IMAGE OBJECT DEFINITIONS */
OBJECT = IMAGE
  INTERCHANGE_FORMAT = BINARY
  LINES = 8149
  LINE_SAMPLES = 5566
  SAMPLE_TYPE = UNSIGNED_INTEGER
  SAMPLE_BITS = 8
  BANDS = 1
  BAND_STORAGE_TYPE = BAND_SEQUENTIAL
  MAXIMUM = 255
  MEAN = 135.63
  MINIMUM = 1
  STANDARD_DEVIATION = 40.8313
END_OBJECT = IMAGE
/* MAP OBJECT DEFINITIONS */
OBJECT = IMAGE_MAP_PROJECTION
  ^DATA_SET_MAP_PROJECTION_CATALOG= "DSMAP.CAT"
  A_AXIS_RADIUS = 3396.0
  B_AXIS_RADIUS = 3396.0
  C_AXIS_RADIUS = 3396.0
  CENTER_LATITUDE = -4.55415
  CENTER_LONGITUDE = 298.083
  COORDINATE_SYSTEM_NAME = PLANETOGRAPHIC
  COORDINATE_SYSTEM_TYPE = "BODY-FIXED ROTATING"
  EASTERNMOST_LONGITUDE = 8.622
  FIRST_STANDARD_PARALLEL = "N/A"
  LINE_FIRST_PIXEL = 1
  LINE_LAST_PIXEL = 8149
  LINE_PROJECTION_OFFSET = 4079.0
  MAP_PROJECTION_ROTATION = 0.0
  MAP_PROJECTION_TYPE = ORTHOGRAPHIC
  MAP_RESOLUTION = 74.08922548333329
  MAP_SCALE = 0.8
  MAXIMUM_LATITUDE = 70.0885
  MINIMUM_LATITUDE = -78.2906
  POSITIVE_LONGITUDE_DIRECTION = EAST
  REFERENCE_LATITUDE = "N/A"
  REFERENCE_LONGITUDE = "N/A"
  SAMPLE_FIRST_PIXEL = 1
  SAMPLE_LAST_PIXEL = 5566
  SAMPLE_PROJECTION_OFFSET = 2787.0
  SECOND_STANDARD_PARALLEL = "N/A"
  WESTERNMOST_LONGITUDE = -124.399
END_OBJECT = IMAGE_MAP_PROJECTION
END
