PDS_VERSION_ID = PDS3
/* FILE DATA ELEMENTS */
RECORD_TYPE = UNDEFINED
/* POINTERS TO DATA OBJECTS */
^IMAGE = ("HM776_0000_ND4.TIF")
/* IDENTIFICATION DATA ELEMENTS */
DATA_SET_ID = "MEX-M-HRSC-4-REFDR-MAPPROJECT-EXT8-V4.0"
DATA_SET_NAME = "MARS EXPRESS HRSC MAP PROJECTED REFDR EXTENSION8 V4.0"
DETECTOR_ID = MEX_HRSC_NADIR
EVENT_TYPE = "MARS-TERMINATOR-CALIBRATION-Tc"
INSTRUMENT_HOST_ID = MEX
INSTRUMENT_HOST_NAME = "MARS EXPRESS"
INSTRUMENT_ID = HRSC
INSTRUMENT_NAME = "HIGH RESOLUTION STEREO CAMERA"
MISSION_NAME = "MARS EXPRESS"
MISSION_PHASE_NAME = ME_Phase_46
PROCESSING_LEVEL_ID = 4
PRODUCT_CREATION_TIME = 2023-01-28T19:10:30.000Z
PRODUCT_ID = "HM776_0000_ND4.TIF"
RELEASE_ID = 0003
REVISION_ID = 0000
/* QUALITY DATA ELEMENTS */
DATA_QUALITY_ID = 1
DATA_QUALITY_DESC = "Data calculated based on original SPICE kernels"
/* TIME DATA ELEMENTS */
SPACECRAFT_CLOCK_START_COUNT = "1/0589927221.24917"
SPACECRAFT_CLOCK_STOP_COUNT = "1/0589927637.25833"
START_TIME = 2022-01-10T20:43:10.499Z
STOP_TIME = 2022-01-10T20:45:34.506Z
/* ORBITAL DATA ELEMENTS */
ASCENDING_NODE_LONGITUDE = 149.3
MAXIMUM_RESOLUTION = 0.6941
FOOTPRINT_POINT_LATITUDE = (-11.2345,-11.0138,-10.6935,-10.4112, -10.1662,-9.95636,-9.78085,-9.6412, -9.53644,-9.46849,-9.4392,-9.45174, -9.50972,-9.55754,-9.63667,-9.65524, -9.53536,-6.49623,-4.17395,-1.8991, 0.325918,2.5159,4.67762,6.81883,8.9473, 11.0726,13.2036,15.3476,17.5143,19.7115 ,21.9474,24.2328,26.582,29.0106,31.5368 ,34.1791,35.5514,36.9604,38.4122, 39.9254,41.5098,43.1746,44.945,46.8455, 48.8477,52.1289,53.3232,54.5838,53.9442 ,53.5544,53.1984,52.8653,52.5532, 52.2568,51.976,51.7045,51.4485,51.2022, 50.7353,50.3074,49.906,49.5278,49.1738, 48.8362,48.6758,48.521,48.3713,48.3359, 48.3188,46.4081,44.6107,42.9086,41.2859 ,39.732,38.2377,36.7963,35.4016,34.0463 ,31.4438,28.9607,26.5745,24.2683, 22.0268,19.8381,17.6916,15.5779,13.4888 ,11.4165,9.35348,7.29241,5.22627, 3.14806,1.04962,-1.07804,-3.23865, -5.44518,-7.70907,-10.0481,-10.646, -11.2345)
FOOTPRINT_POINT_LONGITUDE = (209.224,210.794,213.274,215.726, 218.164,220.6,223.042,225.501,227.987, 230.514,233.098,235.754,238.506,239.923 ,241.74,242.11,242.074,241.383,240.95, 240.567,240.246,239.973,239.749,239.572 ,239.447,239.384,239.353,239.373,239.45 ,239.58,239.77,240.028,240.369,240.811, 241.373,242.083,242.506,242.979,243.515 ,244.14,244.874,245.739,246.784,248.071 ,249.597,252.609,253.906,255.426, 249.923,246.635,243.593,240.741,238.045 ,235.477,233.011,230.628,228.322, 226.079,221.733,217.526,213.405,209.325 ,205.248,201.13,199.038,196.915,194.753 ,194.205,194.01,195.357,196.505,197.5, 198.375,199.152,199.85,200.481,201.055, 201.582,202.515,203.318,204.019,204.638 ,205.188,205.682,206.127,206.53,206.896 ,207.228,207.532,207.807,208.058, 208.286,208.49,208.672,208.835,208.976, 209.093,209.184,209.203,209.224)
ORBIT_NUMBER = 22776
ORBITAL_ECCENTRICITY = 0.575
ORBITAL_INCLINATION = 87.03
ORBITAL_SEMIMAJOR_AXIS = 8844.68
PERIAPSIS_ALTITUDE = 367.2
PERIAPSIS_ARGUMENT_ANGLE = 17.63
PERIAPSIS_TIME = 2022-01-10T18:42:04.000Z
SPACECRAFT_ORIENTATION = (0.0,1.0,0.0)
^MEX_ORIENTATION_DESC = "MEX_ORIENTATION_DESC.TXT"
SPACECRAFT_POINTING_MODE = FIXED
^MEX_POINTING_DESC = "MEX_POINTING_DESC.TXT"
RIGHT_ASCENSION = -1e+32
DECLINATION = -1e+32
OFFSET_ANGLE = -1e+32
SPACECRAFT_SOLAR_DISTANCE = 2.27984e+08
TARGET_NAME = MARS
/* CAMERA DATA ELEMENTS */
DETECTOR_TEMPERATURE = 17.9627
FOCAL_PLANE_TEMPERATURE = 8.1755
INST_CMPRS_NAME = "DISCRETE COSINE TRANSFORMATION (DCT)"
INST_CMPRS_RATIO = 8.42506
INST_CMPRS_QUALITY = 0
INST_CMPRS_QUANTZ_TBL_ID = 0
INSTRUMENT_TEMPERATURE = 11.234
LENS_TEMPERATURE = 8.7872
MACROPIXEL_SIZE = 2
MISSING_FRAMES = 0
PIXEL_SUBSAMPLING_FLAG = N
SIGNAL_CHAIN_ID = 0
/* RADIOMETRIC DATA ELEMENTS */
BANDWIDTH = 177.0
CENTER_FILTER_WAVELENGTH = 677.5
RADIANCE_OFFSET = 3.54353
RADIANCE_SCALING_FACTOR = 0.0377691
REFLECTANCE_SCALING_FACTOR = 0.00104272
MEX:REFLECTANCE_OFFSET = 0.0978292
/* IMAGE OBJECT DEFINITIONS */
OBJECT = IMAGE
  INTERCHANGE_FORMAT = BINARY
  LINES = 4654
  LINE_SAMPLES = 2756
  SAMPLE_TYPE = UNSIGNED_INTEGER
  SAMPLE_BITS = 8
  BANDS = 1
  BAND_STORAGE_TYPE = BAND_SEQUENTIAL
  MAXIMUM = 255
  MEAN = 129.074
  MINIMUM = 1
  STANDARD_DEVIATION = 48.7772
END_OBJECT = IMAGE
/* MAP OBJECT DEFINITIONS */
OBJECT = IMAGE_MAP_PROJECTION
  ^DATA_SET_MAP_PROJECTION_CATALOG= "DSMAP.CAT"
  A_AXIS_RADIUS = 3396.0
  B_AXIS_RADIUS = 3396.0
  C_AXIS_RADIUS = 3396.0
  CENTER_LATITUDE = 17.0424
  CENTER_LONGITUDE = 222.432
  COORDINATE_SYSTEM_NAME = PLANETOGRAPHIC
  COORDINATE_SYSTEM_TYPE = "BODY-FIXED ROTATING"
  EASTERNMOST_LONGITUDE = 255.426
  FIRST_STANDARD_PARALLEL = "N/A"
  LINE_FIRST_PIXEL = 1
  LINE_LAST_PIXEL = 4654
  LINE_PROJECTION_OFFSET = 2674.0
  MAP_PROJECTION_ROTATION = 0.0
  MAP_PROJECTION_TYPE = ORTHOGRAPHIC
  MAP_RESOLUTION = 74.08922548333329
  MAP_SCALE = 0.8
  MAXIMUM_LATITUDE = 54.5838
  MINIMUM_LATITUDE = -11.2345
  POSITIVE_LONGITUDE_DIRECTION = EAST
  REFERENCE_LATITUDE = "N/A"
  REFERENCE_LONGITUDE = "N/A"
  SAMPLE_FIRST_PIXEL = 1
  SAMPLE_LAST_PIXEL = 2756
  SAMPLE_PROJECTION_OFFSET = 1337.0
  SECOND_STANDARD_PARALLEL = "N/A"
  WESTERNMOST_LONGITUDE = 194.01
END_OBJECT = IMAGE_MAP_PROJECTION
END
