PDS_VERSION_ID = PDS3
/* FILE DATA ELEMENTS */
RECORD_TYPE = UNDEFINED
/* POINTERS TO DATA OBJECTS */
^IMAGE = ("HM796_0009_ND4.TIF")
/* IDENTIFICATION DATA ELEMENTS */
DATA_SET_ID = "MEX-M-HRSC-4-REFDR-MAPPROJECT-EXT8-V4.0"
DATA_SET_NAME = "MARS EXPRESS HRSC MAP PROJECTED REFDR EXTENSION8 V4.0"
DETECTOR_ID = MEX_HRSC_NADIR
EVENT_TYPE = "MARS-TERMINATOR-CALIBRATION-Tc"
INSTRUMENT_HOST_ID = MEX
INSTRUMENT_HOST_NAME = "MARS EXPRESS"
INSTRUMENT_ID = HRSC
INSTRUMENT_NAME = "HIGH RESOLUTION STEREO CAMERA"
MISSION_NAME = "MARS EXPRESS"
MISSION_PHASE_NAME = ME_Phase_46
PROCESSING_LEVEL_ID = 4
PRODUCT_CREATION_TIME = 2023-01-28T19:10:30.000Z
PRODUCT_ID = "HM796_0009_ND4.TIF"
RELEASE_ID = 0003
REVISION_ID = 0000
/* QUALITY DATA ELEMENTS */
DATA_QUALITY_ID = 1
DATA_QUALITY_DESC = "Data calculated based on original SPICE kernels"
/* TIME DATA ELEMENTS */
SPACECRAFT_CLOCK_START_COUNT = "1/0590429226.23922"
SPACECRAFT_CLOCK_STOP_COUNT = "1/0590429641.07519"
START_TIME = 2022-01-16T16:09:56.511Z
STOP_TIME = 2022-01-16T16:12:17.364Z
/* ORBITAL DATA ELEMENTS */
ASCENDING_NODE_LONGITUDE = 148.94
MAXIMUM_RESOLUTION = 0.6478
FOOTPRINT_POINT_LATITUDE = (-5.83819,-5.60306,-5.49134,-5.39503, -5.24697,-5.15579,-5.11781,-5.13172, -5.19734,-5.3136,-5.48211,-5.70483, -5.98458,-6.1471,-6.32537,-6.67749, -6.7322,-6.76959,-5.56907,-3.25624, -1.57681,0.590329,2.6883,4.73314, 6.72857,9.18272,11.1121,13.0174,15.3903 ,17.2775,19.1655,21.059,22.9651,24.8889 ,26.8365,29.3173,30.8353,32.9072, 35.0324,37.233,38.3612,39.5159,40.6946, 41.8999,43.1366,44.4086,45.0574,45.0751 ,45.209,45.4264,45.5416,45.6491,45.75, 45.8443,45.9317,46.0136,46.0907,46.2251 ,46.3367,46.4217,46.4589,46.4917, 46.5169,46.5363,46.5479,46.5537,46.5534 ,46.5456,46.5152,46.5091,46.5033, 45.1724,43.8807,42.6252,41.4018,40.2077 ,37.8973,35.6745,33.5248,31.4356,29.396 ,27.3977,25.4322,23.4924,21.5712, 19.6628,17.7608,15.8592,13.9537,12.0324 ,10.0948,8.13231,6.13699,4.10042,2.0151 ,-0.112843,-2.33131,-5.26212,-5.85574, -5.83819)
FOOTPRINT_POINT_LONGITUDE = (322.68,324.858,326.078,327.285,329.66, 331.999,334.312,336.608,338.896,341.185 ,343.485,345.809,348.166,349.362,350.57 ,352.72,353.031,353.144,353.072,352.967 ,352.911,352.869,352.862,352.885, 352.942,353.042,353.158,353.313,353.524 ,353.74,353.986,354.268,354.595,354.964 ,355.382,355.989,356.404,357.035, 357.752,358.594,359.063,359.577,360.135 ,360.743,361.413,362.154,362.553, 362.564,360.708,357.496,355.694,353.912 ,352.15,350.403,348.667,346.94,345.223, 341.799,338.375,334.937,333.206,331.464 ,329.71,327.943,326.161,324.358,322.532 ,320.679,317.361,316.878,316.706, 317.337,317.904,318.414,318.876,319.296 ,320.03,320.647,321.171,321.618,322.001 ,322.328,322.607,322.844,323.043, 323.207,323.339,323.441,323.518,323.556 ,323.571,323.559,323.517,323.444, 323.339,323.214,323.033,322.723,322.66, 322.68)
ORBIT_NUMBER = 22796
ORBITAL_ECCENTRICITY = 0.574
ORBITAL_INCLINATION = 87.02
ORBITAL_SEMIMAJOR_AXIS = 8837.43
PERIAPSIS_ALTITUDE = 365.85
PERIAPSIS_ARGUMENT_ANGLE = 14.18
PERIAPSIS_TIME = 2022-01-16T14:21:43.000Z
SPACECRAFT_ORIENTATION = (0.0,1.0,0.0)
^MEX_ORIENTATION_DESC = "MEX_ORIENTATION_DESC.TXT"
SPACECRAFT_POINTING_MODE = FIXED
^MEX_POINTING_DESC = "MEX_POINTING_DESC.TXT"
RIGHT_ASCENSION = -1e+32
DECLINATION = -1e+32
OFFSET_ANGLE = -1e+32
SPACECRAFT_SOLAR_DISTANCE = 2.26849e+08
TARGET_NAME = MARS
/* CAMERA DATA ELEMENTS */
DETECTOR_TEMPERATURE = 18.1666
FOCAL_PLANE_TEMPERATURE = 7.9716
INST_CMPRS_NAME = "DISCRETE COSINE TRANSFORMATION (DCT)"
INST_CMPRS_RATIO = 8.97524
INST_CMPRS_QUALITY = 0
INST_CMPRS_QUANTZ_TBL_ID = 0
INSTRUMENT_TEMPERATURE = 10.8262
LENS_TEMPERATURE = 8.3794
MACROPIXEL_SIZE = 2
MISSING_FRAMES = 0
PIXEL_SUBSAMPLING_FLAG = N
SIGNAL_CHAIN_ID = 0
/* RADIOMETRIC DATA ELEMENTS */
BANDWIDTH = 177.0
CENTER_FILTER_WAVELENGTH = 677.5
RADIANCE_OFFSET = 2.34727
RADIANCE_SCALING_FACTOR = 0.0332567
REFLECTANCE_SCALING_FACTOR = 0.000909036
MEX:REFLECTANCE_OFFSET = 0.0641601
/* IMAGE OBJECT DEFINITIONS */
OBJECT = IMAGE
  INTERCHANGE_FORMAT = BINARY
  LINES = 3818
  LINE_SAMPLES = 2370
  SAMPLE_TYPE = UNSIGNED_INTEGER
  SAMPLE_BITS = 8
  BANDS = 1
  BAND_STORAGE_TYPE = BAND_SEQUENTIAL
  MAXIMUM = 255
  MEAN = 78.2995
  MINIMUM = 1
  STANDARD_DEVIATION = 45.7034
END_OBJECT = IMAGE
/* MAP OBJECT DEFINITIONS */
OBJECT = IMAGE_MAP_PROJECTION
  ^DATA_SET_MAP_PROJECTION_CATALOG= "DSMAP.CAT"
  A_AXIS_RADIUS = 3396.0
  B_AXIS_RADIUS = 3396.0
  C_AXIS_RADIUS = 3396.0
  CENTER_LATITUDE = 19.7579
  CENTER_LONGITUDE = 338.617
  COORDINATE_SYSTEM_NAME = PLANETOGRAPHIC
  COORDINATE_SYSTEM_TYPE = "BODY-FIXED ROTATING"
  EASTERNMOST_LONGITUDE = 2.564
  FIRST_STANDARD_PARALLEL = "N/A"
  LINE_FIRST_PIXEL = 1
  LINE_LAST_PIXEL = 3818
  LINE_PROJECTION_OFFSET = 1967.0
  MAP_PROJECTION_ROTATION = 0.0
  MAP_PROJECTION_TYPE = ORTHOGRAPHIC
  MAP_RESOLUTION = 74.08922548333329
  MAP_SCALE = 0.8
  MAXIMUM_LATITUDE = 46.5537
  MINIMUM_LATITUDE = -6.76959
  POSITIVE_LONGITUDE_DIRECTION = EAST
  REFERENCE_LATITUDE = "N/A"
  REFERENCE_LONGITUDE = "N/A"
  SAMPLE_FIRST_PIXEL = 1
  SAMPLE_LAST_PIXEL = 2370
  SAMPLE_PROJECTION_OFFSET = 1159.0
  SECOND_STANDARD_PARALLEL = "N/A"
  WESTERNMOST_LONGITUDE = -43.294
END_OBJECT = IMAGE_MAP_PROJECTION
END
